Index of /checkResults/devel/bioc-LATEST/AllelicImbalance/raw-results

[ICO]NameLast modifiedSizeDescription

[DIR]Parent Directory  -  
[   ]info.dcf31-May-2023 00:07 283  
[DIR]lconway/31-May-2023 00:07 -  
[DIR]nebbiolo2/31-May-2023 00:05 -  
[DIR]palomino4/31-May-2023 00:06 -