Back to Multiple platform build/check report for BioC 3.14
[A]BCDEFGHIJKLMNOPQRSTUVWXYZ

This page was generated on 2022-01-26 13:04:16 -0500 (Wed, 26 Jan 2022).

HostnameOSArch (*)R versionInstalled pkgs
nebbiolo2Linux (Ubuntu 20.04.4 LTS)x86_644.1.2 (2021-11-01) -- "Bird Hippie" 4329
tokay2Windows Server 2012 R2 Standardx644.1.2 (2021-11-01) -- "Bird Hippie" 4080
machv2macOS 10.14.6 Mojavex86_644.1.2 (2021-11-01) -- "Bird Hippie" 4141
Click on any hostname to see more info about the system (e.g. compilers)      (*) as reported by 'uname -p', except on Windows and Mac OS X

All results for package affy


To the developers/maintainers of the affy package:
- Please allow up to 24 hours (and sometimes 48 hours) for your latest push to git@git.bioconductor.org:packages/affy.git to
reflect on this report. See How and When does the builder pull? When will my changes propagate? here for more information.
- Make sure to use the following settings in order to reproduce any error or warning you see on this page.

raw results

Package 23/2083HostnameOS / ArchINSTALLBUILDCHECKBUILD BIN
affy 1.72.0  (landing page)
Rafael A. Irizarry
Snapshot Date: 2022-01-25 01:55:07 -0500 (Tue, 25 Jan 2022)
git_url: https://git.bioconductor.org/packages/affy
git_branch: RELEASE_3_14
git_last_commit: 3750b4e
git_last_commit_date: 2021-10-26 11:45:47 -0500 (Tue, 26 Oct 2021)
nebbiolo2Linux (Ubuntu 20.04.4 LTS) / x86_64  OK    OK    WARNINGS  UNNEEDED, same version is already published
tokay2Windows Server 2012 R2 Standard / x64  OK    OK    WARNINGS    OK  UNNEEDED, same version is already published
machv2macOS 10.14.6 Mojave / x86_64  OK    OK    WARNINGS    OK  UNNEEDED, same version is already published

Results for Bioconductor software packages that depend directly on package affy

QUICK STATSOS / ArchINSTALLBUILDCHECKBUILD BIN
nebbiolo2Linux (Ubuntu 20.04.4 LTS) / x86_64
0156
0255
01747
tokay2Windows Server 2012 R2 Standard / x64
0155
0254
02547
0054
machv2macOS 10.14.6 Mojave / x86_64
0156
0255
02845
0055
Package 1/57HostnameOS / ArchINSTALLBUILDCHECKBUILD BIN
affyContam 1.52.0  (landing page)
V. Carey
git_last_commit: 47c1d86
git_last_commit_date: 2021-10-26 11:53:10 -0500
nebbiolo2Linux (Ubuntu 20.04.4 LTS) / x86_64  OK    OK    OK  UNNEEDED, same version is already published
tokay2Windows Server 2012 R2 Standard / x64  OK    OK    OK    OK  UNNEEDED, same version is already published
machv2macOS 10.14.6 Mojave / x86_64  OK    OK    OK    OK  UNNEEDED, same version is already published
Package 2/57HostnameOS / ArchINSTALLBUILDCHECKBUILD BIN
affycoretools 1.66.0  (landing page)
James W. MacDonald
git_last_commit: 6bf769d
git_last_commit_date: 2021-10-26 11:48:47 -0500
nebbiolo2Linux (Ubuntu 20.04.4 LTS) / x86_64  OK    OK    WARNINGS  UNNEEDED, same version is already published
tokay2Windows Server 2012 R2 Standard / x64  OK    OK    WARNINGS    OK  UNNEEDED, same version is already published
machv2macOS 10.14.6 Mojave / x86_64  OK    OK    WARNINGS    OK  UNNEEDED, same version is already published
Package 3/57HostnameOS / ArchINSTALLBUILDCHECKBUILD BIN
affyILM 1.46.0  (landing page)
Myriam Kroll and Fabrice Berger
git_last_commit: 67ffbfa
git_last_commit_date: 2021-10-26 11:56:15 -0500
nebbiolo2Linux (Ubuntu 20.04.4 LTS) / x86_64  OK    OK    OK  UNNEEDED, same version is already published
tokay2Windows Server 2012 R2 Standard / x64  OK    OK    OK    OK  UNNEEDED, same version is already published
machv2macOS 10.14.6 Mojave / x86_64  OK    OK    OK    OK  UNNEEDED, same version is already published
Package 4/57HostnameOS / ArchINSTALLBUILDCHECKBUILD BIN
affylmGUI 1.68.0  (landing page)
Gordon Smyth
git_last_commit: e6b1079
git_last_commit_date: 2021-10-26 11:46:50 -0500
nebbiolo2Linux (Ubuntu 20.04.4 LTS) / x86_64  OK    OK    OK  UNNEEDED, same version is already published
tokay2Windows Server 2012 R2 Standard / x64  OK    OK    OK    OK  UNNEEDED, same version is already published
machv2macOS 10.14.6 Mojave / x86_64  OK    OK    OK    OK  UNNEEDED, same version is already published
Package 5/57HostnameOS / ArchINSTALLBUILDCHECKBUILD BIN
affyPara 1.54.0  (landing page)
Markus Schmidberger
git_last_commit: be642b6
git_last_commit_date: 2021-10-26 11:52:06 -0500
nebbiolo2Linux (Ubuntu 20.04.4 LTS) / x86_64  ERROR    ERROR  skipped
tokay2Windows Server 2012 R2 Standard / x64  ERROR    ERROR  skippedskipped
machv2macOS 10.14.6 Mojave / x86_64  ERROR    ERROR  skippedskipped
Package 6/57HostnameOS / ArchINSTALLBUILDCHECKBUILD BIN
affyPLM 1.70.0  (landing page)
Ben Bolstad
git_last_commit: 64abfec
git_last_commit_date: 2021-10-26 11:46:18 -0500
nebbiolo2Linux (Ubuntu 20.04.4 LTS) / x86_64  OK    OK    WARNINGS  UNNEEDED, same version is already published
tokay2Windows Server 2012 R2 Standard / x64  OK    OK    OK    OK  UNNEEDED, same version is already published
machv2macOS 10.14.6 Mojave / x86_64  OK    OK    OK    OK  UNNEEDED, same version is already published
Package 7/57HostnameOS / ArchINSTALLBUILDCHECKBUILD BIN
AffyRNADegradation 1.40.0  (landing page)
Mario Fasold
git_last_commit: 8539a91
git_last_commit_date: 2021-10-26 12:01:34 -0500
nebbiolo2Linux (Ubuntu 20.04.4 LTS) / x86_64  OK    OK    OK  UNNEEDED, same version is already published
tokay2Windows Server 2012 R2 Standard / x64  OK    OK    OK    OK  UNNEEDED, same version is already published
machv2macOS 10.14.6 Mojave / x86_64  OK    OK    OK    OK  UNNEEDED, same version is already published
Package 8/57HostnameOS / ArchINSTALLBUILDCHECKBUILD BIN
AgiMicroRna 2.44.0  (landing page)
Pedro Lopez-Romero
git_last_commit: 8b308ba
git_last_commit_date: 2021-10-26 11:54:33 -0500
nebbiolo2Linux (Ubuntu 20.04.4 LTS) / x86_64  OK    OK    OK  UNNEEDED, same version is already published
tokay2Windows Server 2012 R2 Standard / x64  OK    OK    OK    OK  UNNEEDED, same version is already published
machv2macOS 10.14.6 Mojave / x86_64  OK    OK    OK    OK  UNNEEDED, same version is already published
Package 9/57HostnameOS / ArchINSTALLBUILDCHECKBUILD BIN
altcdfenvs 2.56.0  (landing page)
Laurent Gautier
git_last_commit: 941e00b
git_last_commit_date: 2021-10-26 11:46:44 -0500
nebbiolo2Linux (Ubuntu 20.04.4 LTS) / x86_64  OK    OK    OK  UNNEEDED, same version is already published
tokay2Windows Server 2012 R2 Standard / x64  OK    OK    OK    OK  UNNEEDED, same version is already published
machv2macOS 10.14.6 Mojave / x86_64  OK    OK    OK    OK  UNNEEDED, same version is already published
Package 10/57HostnameOS / ArchINSTALLBUILDCHECKBUILD BIN
arrayMvout 1.52.0  (landing page)
V. Carey
git_last_commit: 963b432
git_last_commit_date: 2021-10-26 11:53:12 -0500
nebbiolo2Linux (Ubuntu 20.04.4 LTS) / x86_64  OK    OK    OK  UNNEEDED, same version is already published
tokay2Windows Server 2012 R2 Standard / x64  OK    OK    OK    OK  UNNEEDED, same version is already published
machv2macOS 10.14.6 Mojave / x86_64  OK    OK    OK    OK  UNNEEDED, same version is already published
Package 11/57HostnameOS / ArchINSTALLBUILDCHECKBUILD BIN
arrayQualityMetrics 3.50.0  (landing page)
Mike Smith
git_last_commit: 784f433
git_last_commit_date: 2021-10-26 11:51:28 -0500
nebbiolo2Linux (Ubuntu 20.04.4 LTS) / x86_64  OK    OK    OK  UNNEEDED, same version is already published
tokay2Windows Server 2012 R2 Standard / x64  OK    OK    OK    OK  UNNEEDED, same version is already published
machv2macOS 10.14.6 Mojave / x86_64  OK    OK    OK    OK  UNNEEDED, same version is already published
Package 12/57HostnameOS / ArchINSTALLBUILDCHECKBUILD BIN
bgx 1.60.0  (landing page)
Ernest Turro
git_last_commit: d7392b7
git_last_commit_date: 2021-10-26 11:51:11 -0500
nebbiolo2Linux (Ubuntu 20.04.4 LTS) / x86_64  OK    OK    OK  UNNEEDED, same version is already published
tokay2Windows Server 2012 R2 Standard / x64  OK    OK    OK    OK  UNNEEDED, same version is already published
machv2macOS 10.14.6 Mojave / x86_64  OK    OK    WARNINGS    OK  UNNEEDED, same version is already published
Package 13/57HostnameOS / ArchINSTALLBUILDCHECKBUILD BIN
bnem 1.2.0  (landing page)
Martin Pirkl
git_last_commit: 7189a51
git_last_commit_date: 2021-10-26 13:05:36 -0500
nebbiolo2Linux (Ubuntu 20.04.4 LTS) / x86_64  OK    OK    OK  UNNEEDED, same version is already published
tokay2Windows Server 2012 R2 Standard / x64  OK    OK    OK    OK  UNNEEDED, same version is already published
machv2macOS 10.14.6 Mojave / x86_64  OK    OK    OK    OK  UNNEEDED, same version is already published
Package 14/57HostnameOS / ArchINSTALLBUILDCHECKBUILD BIN
CAFE 1.30.0  (landing page)
Sander Bollen
git_last_commit: 95b0e67
git_last_commit_date: 2021-10-26 12:12:15 -0500
nebbiolo2Linux (Ubuntu 20.04.4 LTS) / x86_64  OK    OK    WARNINGS  UNNEEDED, same version is already published
tokay2Windows Server 2012 R2 Standard / x64  OK    OK    WARNINGS    OK  UNNEEDED, same version is already published
machv2macOS 10.14.6 Mojave / x86_64  OK    OK    WARNINGS    OK  UNNEEDED, same version is already published
Package 15/57HostnameOS / ArchINSTALLBUILDCHECKBUILD BIN
ChIPXpress 1.38.0  (landing page)
George Wu
git_last_commit: 22f647d
git_last_commit_date: 2021-10-26 12:04:09 -0500
nebbiolo2Linux (Ubuntu 20.04.4 LTS) / x86_64  OK    OK    OK  UNNEEDED, same version is already published
tokay2Windows Server 2012 R2 Standard / x64... NOT SUPPORTED ...
machv2macOS 10.14.6 Mojave / x86_64  OK    OK    OK    OK  UNNEEDED, same version is already published
Package 16/57HostnameOS / ArchINSTALLBUILDCHECKBUILD BIN
coexnet 1.16.0  (landing page)
Juan David Henao
git_last_commit: 8ddee4f
git_last_commit_date: 2021-10-26 12:35:58 -0500
nebbiolo2Linux (Ubuntu 20.04.4 LTS) / x86_64  OK    OK    ERROR  
tokay2Windows Server 2012 R2 Standard / x64  OK    OK    ERROR    OK  
machv2macOS 10.14.6 Mojave / x86_64  OK    OK    ERROR    OK  
Package 17/57HostnameOS / ArchINSTALLBUILDCHECKBUILD BIN
Cormotif 1.40.0  (landing page)
Yingying Wei
git_last_commit: 82e920f
git_last_commit_date: 2021-10-26 11:59:38 -0500
nebbiolo2Linux (Ubuntu 20.04.4 LTS) / x86_64  OK    OK    OK  UNNEEDED, same version is already published
tokay2Windows Server 2012 R2 Standard / x64  OK    OK    OK    OK  UNNEEDED, same version is already published
machv2macOS 10.14.6 Mojave / x86_64  OK    OK    OK    OK  UNNEEDED, same version is already published
Package 18/57HostnameOS / ArchINSTALLBUILDCHECKBUILD BIN
crossmeta 1.20.0  (landing page)
Alex Pickering
git_last_commit: 4ebad78
git_last_commit_date: 2021-10-26 12:28:29 -0500
nebbiolo2Linux (Ubuntu 20.04.4 LTS) / x86_64  OK    OK    WARNINGS  UNNEEDED, same version is already published
tokay2Windows Server 2012 R2 Standard / x64  OK    OK    WARNINGS    OK  UNNEEDED, same version is already published
machv2macOS 10.14.6 Mojave / x86_64  OK    OK    WARNINGS    OK  UNNEEDED, same version is already published
Package 19/57HostnameOS / ArchINSTALLBUILDCHECKBUILD BIN
Doscheda 1.16.0  (landing page)
Bruno Contrino
git_last_commit: e0f1a25
git_last_commit_date: 2021-10-28 09:37:25 -0500
nebbiolo2Linux (Ubuntu 20.04.4 LTS) / x86_64  OK    OK    OK  UNNEEDED, same version is already published
tokay2Windows Server 2012 R2 Standard / x64  OK    OK    OK    OK  UNNEEDED, same version is already published
machv2macOS 10.14.6 Mojave / x86_64  OK    OK    OK    OK  UNNEEDED, same version is already published
Package 20/57HostnameOS / ArchINSTALLBUILDCHECKBUILD BIN
DrugVsDisease 2.36.0  (landing page)
j. Saez-Rodriguez
git_last_commit: 06798d2
git_last_commit_date: 2021-10-26 12:06:31 -0500
nebbiolo2Linux (Ubuntu 20.04.4 LTS) / x86_64  OK    OK    OK  UNNEEDED, same version is already published
tokay2Windows Server 2012 R2 Standard / x64  OK    OK    OK    OK  UNNEEDED, same version is already published
machv2macOS 10.14.6 Mojave / x86_64  OK    OK    OK    OK  UNNEEDED, same version is already published
Package 21/57HostnameOS / ArchINSTALLBUILDCHECKBUILD BIN
dualKS 1.54.0  (landing page)
Eric J. Kort
git_last_commit: a78fb68
git_last_commit_date: 2021-10-26 12:12:06 -0500
nebbiolo2Linux (Ubuntu 20.04.4 LTS) / x86_64  OK    ERROR  skipped
tokay2Windows Server 2012 R2 Standard / x64  OK    ERROR  skippedskipped
machv2macOS 10.14.6 Mojave / x86_64  OK    ERROR  skippedskipped
Package 22/57HostnameOS / ArchINSTALLBUILDCHECKBUILD BIN
ExiMiR 2.36.0  (landing page)
Sylvain Gubian
git_last_commit: 0b40a1f
git_last_commit_date: 2021-10-26 11:58:00 -0500
nebbiolo2Linux (Ubuntu 20.04.4 LTS) / x86_64  OK    OK    OK  UNNEEDED, same version is already published
tokay2Windows Server 2012 R2 Standard / x64  OK    OK    OK    OK  UNNEEDED, same version is already published
machv2macOS 10.14.6 Mojave / x86_64  OK    OK    OK    OK  UNNEEDED, same version is already published
Package 23/57HostnameOS / ArchINSTALLBUILDCHECKBUILD BIN
farms 1.46.0  (landing page)
Djork-Arne Clevert
git_last_commit: a3cde8d
git_last_commit_date: 2021-10-26 11:56:52 -0500
nebbiolo2Linux (Ubuntu 20.04.4 LTS) / x86_64  OK    OK    OK  UNNEEDED, same version is already published
tokay2Windows Server 2012 R2 Standard / x64  OK    OK    OK    OK  UNNEEDED, same version is already published
machv2macOS 10.14.6 Mojave / x86_64  OK    OK    OK    OK  UNNEEDED, same version is already published
Package 24/57HostnameOS / ArchINSTALLBUILDCHECKBUILD BIN
ffpe 1.38.0  (landing page)
Levi Waldron
git_last_commit: 8c9afae
git_last_commit_date: 2021-10-26 12:02:18 -0500
nebbiolo2Linux (Ubuntu 20.04.4 LTS) / x86_64  OK    OK    OK  UNNEEDED, same version is already published
tokay2Windows Server 2012 R2 Standard / x64  OK    OK    OK    OK  UNNEEDED, same version is already published
machv2macOS 10.14.6 Mojave / x86_64  OK    OK    OK    OK  UNNEEDED, same version is already published
Package 25/57HostnameOS / ArchINSTALLBUILDCHECKBUILD BIN
frma 1.46.0  (landing page)
Matthew N. McCall
git_last_commit: c00c4df
git_last_commit_date: 2021-10-26 11:55:11 -0500
nebbiolo2Linux (Ubuntu 20.04.4 LTS) / x86_64  OK    OK    OK  UNNEEDED, same version is already published
tokay2Windows Server 2012 R2 Standard / x64  OK    OK    OK    OK  UNNEEDED, same version is already published
machv2macOS 10.14.6 Mojave / x86_64  OK    OK    OK    OK  UNNEEDED, same version is already published
Package 26/57HostnameOS / ArchINSTALLBUILDCHECKBUILD BIN
frmaTools 1.46.0  (landing page)
Matthew N. McCall
git_last_commit: a4a868c
git_last_commit_date: 2021-10-26 11:55:14 -0500
nebbiolo2Linux (Ubuntu 20.04.4 LTS) / x86_64  OK    OK    OK  UNNEEDED, same version is already published
tokay2Windows Server 2012 R2 Standard / x64  OK    OK    OK    OK  UNNEEDED, same version is already published
machv2macOS 10.14.6 Mojave / x86_64  OK    OK    OK    OK  UNNEEDED, same version is already published
Package 27/57HostnameOS / ArchINSTALLBUILDCHECKBUILD BIN
gcrma 2.66.0  (landing page)
Z. Wu
git_last_commit: ba134b3
git_last_commit_date: 2021-10-26 11:46:04 -0500
nebbiolo2Linux (Ubuntu 20.04.4 LTS) / x86_64  OK    OK    OK  UNNEEDED, same version is already published
tokay2Windows Server 2012 R2 Standard / x64  OK    OK    OK    OK  UNNEEDED, same version is already published
machv2macOS 10.14.6 Mojave / x86_64  OK    OK    OK    OK  UNNEEDED, same version is already published
Package 28/57HostnameOS / ArchINSTALLBUILDCHECKBUILD BIN
GEOsubmission 1.46.0  (landing page)
Alexandre Kuhn
git_last_commit: 6984223
git_last_commit_date: 2021-10-26 11:56:05 -0500
nebbiolo2Linux (Ubuntu 20.04.4 LTS) / x86_64  OK    OK    OK  UNNEEDED, same version is already published
tokay2Windows Server 2012 R2 Standard / x64  OK    OK    OK    OK  UNNEEDED, same version is already published
machv2macOS 10.14.6 Mojave / x86_64  OK    OK    OK    OK  UNNEEDED, same version is already published
Package 29/57HostnameOS / ArchINSTALLBUILDCHECKBUILD BIN
Harshlight 1.66.0  (landing page)
Maurizio Pellegrino
git_last_commit: 6971886
git_last_commit_date: 2021-10-26 11:50:00 -0500
nebbiolo2Linux (Ubuntu 20.04.4 LTS) / x86_64  OK    OK    OK  UNNEEDED, same version is already published
tokay2Windows Server 2012 R2 Standard / x64  OK    OK    OK    OK  UNNEEDED, same version is already published
machv2macOS 10.14.6 Mojave / x86_64  OK    OK    OK    OK  UNNEEDED, same version is already published
Package 30/57HostnameOS / ArchINSTALLBUILDCHECKBUILD BIN
HTqPCR 1.48.0  (landing page)
Heidi Dvinge
git_last_commit: 49e18e0
git_last_commit_date: 2021-10-26 11:54:57 -0500
nebbiolo2Linux (Ubuntu 20.04.4 LTS) / x86_64  OK    OK    OK  UNNEEDED, same version is already published
tokay2Windows Server 2012 R2 Standard / x64  OK    OK    OK    OK  UNNEEDED, same version is already published
machv2macOS 10.14.6 Mojave / x86_64  OK    OK    OK    OK  UNNEEDED, same version is already published
Package 31/57HostnameOS / ArchINSTALLBUILDCHECKBUILD BIN
iCheck 1.24.0  (landing page)
Weiliang Qiu
git_last_commit: 0c3a651
git_last_commit_date: 2021-10-26 12:22:57 -0500
nebbiolo2Linux (Ubuntu 20.04.4 LTS) / x86_64  OK    OK    OK  UNNEEDED, same version is already published
tokay2Windows Server 2012 R2 Standard / x64  OK    OK    OK    OK  UNNEEDED, same version is already published
machv2macOS 10.14.6 Mojave / x86_64  OK    OK    OK    OK  UNNEEDED, same version is already published
Package 32/57HostnameOS / ArchINSTALLBUILDCHECKBUILD BIN
logitT 1.52.0  (landing page)
Tobias Guennel
git_last_commit: fbaf96c
git_last_commit_date: 2021-10-26 11:52:49 -0500
nebbiolo2Linux (Ubuntu 20.04.4 LTS) / x86_64  OK    OK    OK  UNNEEDED, same version is already published
tokay2Windows Server 2012 R2 Standard / x64  OK    OK    OK    OK  UNNEEDED, same version is already published
machv2macOS 10.14.6 Mojave / x86_64  OK    OK    OK    OK  UNNEEDED, same version is already published
Package 33/57HostnameOS / ArchINSTALLBUILDCHECKBUILD BIN
lumi 2.46.0  (landing page)
Lei Huang
git_last_commit: a68932c
git_last_commit_date: 2021-10-26 11:50:43 -0500
nebbiolo2Linux (Ubuntu 20.04.4 LTS) / x86_64  OK    OK    WARNINGS  UNNEEDED, same version is already published
tokay2Windows Server 2012 R2 Standard / x64  OK    OK    WARNINGS    OK  UNNEEDED, same version is already published
machv2macOS 10.14.6 Mojave / x86_64  OK    OK    WARNINGS    OK  UNNEEDED, same version is already published
Package 34/57HostnameOS / ArchINSTALLBUILDCHECKBUILD BIN
makecdfenv 1.70.0  (landing page)
James W. MacDonald
git_last_commit: 82ecd0f
git_last_commit_date: 2021-10-26 11:45:53 -0500
nebbiolo2Linux (Ubuntu 20.04.4 LTS) / x86_64  OK    OK    WARNINGS  UNNEEDED, same version is already published
tokay2Windows Server 2012 R2 Standard / x64  OK    OK    OK    OK  UNNEEDED, same version is already published
machv2macOS 10.14.6 Mojave / x86_64  OK    OK    OK    OK  UNNEEDED, same version is already published
Package 35/57HostnameOS / ArchINSTALLBUILDCHECKBUILD BIN
maPredictDSC 1.32.0  (landing page)
Adi Laurentiu Tarca
git_last_commit: 5141953
git_last_commit_date: 2021-10-26 12:08:41 -0500
nebbiolo2Linux (Ubuntu 20.04.4 LTS) / x86_64  OK    OK    OK  UNNEEDED, same version is already published
tokay2Windows Server 2012 R2 Standard / x64  OK    OK    OK    OK  UNNEEDED, same version is already published
machv2macOS 10.14.6 Mojave / x86_64  OK    OK    OK    OK  UNNEEDED, same version is already published
Package 36/57HostnameOS / ArchINSTALLBUILDCHECKBUILD BIN
maskBAD 1.38.0  (landing page)
Michael Dannemann
git_last_commit: 41dc20e
git_last_commit_date: 2021-10-26 12:01:36 -0500
nebbiolo2Linux (Ubuntu 20.04.4 LTS) / x86_64  OK    OK    OK  UNNEEDED, same version is already published
tokay2Windows Server 2012 R2 Standard / x64  OK    OK    OK    OK  UNNEEDED, same version is already published
machv2macOS 10.14.6 Mojave / x86_64  OK    OK    OK    OK  UNNEEDED, same version is already published
Package 37/57HostnameOS / ArchINSTALLBUILDCHECKBUILD BIN
mimager 1.18.0  (landing page)
Aaron Wolen
git_last_commit: ec54b8c
git_last_commit_date: 2021-10-26 12:32:28 -0500
nebbiolo2Linux (Ubuntu 20.04.4 LTS) / x86_64  OK    OK    OK  UNNEEDED, same version is already published
tokay2Windows Server 2012 R2 Standard / x64  OK    OK    OK    OK  UNNEEDED, same version is already published
machv2macOS 10.14.6 Mojave / x86_64  OK    OK    OK    OK  UNNEEDED, same version is already published
Package 38/57HostnameOS / ArchINSTALLBUILDCHECKBUILD BIN
MSnbase 2.20.4  (landing page)
Laurent Gatto
git_last_commit: c86ac8b
git_last_commit_date: 2022-01-13 12:09:21 -0500
nebbiolo2Linux (Ubuntu 20.04.4 LTS) / x86_64  OK    OK    OK  UNNEEDED, same version is already published
tokay2Windows Server 2012 R2 Standard / x64  OK    OK    ERROR    OK  
machv2macOS 10.14.6 Mojave / x86_64  OK    OK    ERROR    OK  
Package 39/57HostnameOS / ArchINSTALLBUILDCHECKBUILD BIN
panp 1.64.0  (landing page)
Peter Warren
git_last_commit: 9cd25be
git_last_commit_date: 2021-10-26 11:48:55 -0500
nebbiolo2Linux (Ubuntu 20.04.4 LTS) / x86_64  OK    OK    OK  UNNEEDED, same version is already published
tokay2Windows Server 2012 R2 Standard / x64  OK    OK    OK    OK  UNNEEDED, same version is already published
machv2macOS 10.14.6 Mojave / x86_64  OK    OK    OK    OK  UNNEEDED, same version is already published
Package 40/57HostnameOS / ArchINSTALLBUILDCHECKBUILD BIN
PECA 1.30.0  (landing page)
Tomi Suomi
git_last_commit: a61a19f
git_last_commit_date: 2021-10-26 12:11:05 -0500
nebbiolo2Linux (Ubuntu 20.04.4 LTS) / x86_64  OK    OK    OK  UNNEEDED, same version is already published
tokay2Windows Server 2012 R2 Standard / x64  OK    OK    OK    OK  UNNEEDED, same version is already published
machv2macOS 10.14.6 Mojave / x86_64  OK    OK    OK    OK  UNNEEDED, same version is already published
Package 41/57HostnameOS / ArchINSTALLBUILDCHECKBUILD BIN
plier 1.64.0  (landing page)
Crispin Miller
git_last_commit: 7e49f3a
git_last_commit_date: 2021-10-26 11:47:41 -0500
nebbiolo2Linux (Ubuntu 20.04.4 LTS) / x86_64  OK    OK    OK  UNNEEDED, same version is already published
tokay2Windows Server 2012 R2 Standard / x64  OK    OK    OK    OK  UNNEEDED, same version is already published
machv2macOS 10.14.6 Mojave / x86_64  OK    OK    WARNINGS    OK  UNNEEDED, same version is already published
Package 42/57HostnameOS / ArchINSTALLBUILDCHECKBUILD BIN
prebs 1.34.0  (landing page)
Karolis Uziela
git_last_commit: 88e2979
git_last_commit_date: 2021-10-26 12:07:53 -0500
nebbiolo2Linux (Ubuntu 20.04.4 LTS) / x86_64  OK    OK    OK  UNNEEDED, same version is already published
tokay2Windows Server 2012 R2 Standard / x64  OK    OK    OK    OK  UNNEEDED, same version is already published
machv2macOS 10.14.6 Mojave / x86_64  OK    OK    OK    OK  UNNEEDED, same version is already published
Package 43/57HostnameOS / ArchINSTALLBUILDCHECKBUILD BIN
puma 3.36.0  (landing page)
Xuejun Liu
git_last_commit: 661a7da
git_last_commit_date: 2021-10-26 11:51:13 -0500
nebbiolo2Linux (Ubuntu 20.04.4 LTS) / x86_64  OK    OK    OK  UNNEEDED, same version is already published
tokay2Windows Server 2012 R2 Standard / x64  OK    OK    OK    OK  UNNEEDED, same version is already published
machv2macOS 10.14.6 Mojave / x86_64  OK    OK    WARNINGS    OK  UNNEEDED, same version is already published
Package 44/57HostnameOS / ArchINSTALLBUILDCHECKBUILD BIN
pvac 1.42.0  (landing page)
Jun Lu , Pierre R. Bushel
git_last_commit: 9c15a4d
git_last_commit_date: 2021-10-26 11:58:08 -0500
nebbiolo2Linux (Ubuntu 20.04.4 LTS) / x86_64  OK    OK    OK  UNNEEDED, same version is already published
tokay2Windows Server 2012 R2 Standard / x64  OK    OK    OK    OK  UNNEEDED, same version is already published
machv2macOS 10.14.6 Mojave / x86_64  OK    OK    OK    OK  UNNEEDED, same version is already published
Package 45/57HostnameOS / ArchINSTALLBUILDCHECKBUILD BIN
qpcrNorm 1.52.0  (landing page)
Jessica Mar
git_last_commit: 3c4c33e
git_last_commit_date: 2021-10-26 11:53:47 -0500
nebbiolo2Linux (Ubuntu 20.04.4 LTS) / x86_64  OK    OK    OK  UNNEEDED, same version is already published
tokay2Windows Server 2012 R2 Standard / x64  OK    OK    OK    OK  UNNEEDED, same version is already published
machv2macOS 10.14.6 Mojave / x86_64  OK    OK    OK    OK  UNNEEDED, same version is already published
Package 46/57HostnameOS / ArchINSTALLBUILDCHECKBUILD BIN
rCGH 1.24.0  (landing page)
Frederic Commo
git_last_commit: ee2a9d3
git_last_commit_date: 2021-10-26 12:21:28 -0500
nebbiolo2Linux (Ubuntu 20.04.4 LTS) / x86_64  OK    OK    OK  UNNEEDED, same version is already published
tokay2Windows Server 2012 R2 Standard / x64  OK    OK    OK    OK  UNNEEDED, same version is already published
machv2macOS 10.14.6 Mojave / x86_64  OK    OK    OK    OK  UNNEEDED, same version is already published
Package 47/57HostnameOS / ArchINSTALLBUILDCHECKBUILD BIN
RefPlus 1.64.0  (landing page)
Kai-Ming Chang
git_last_commit: 9930f72
git_last_commit_date: 2021-10-26 11:50:39 -0500
nebbiolo2Linux (Ubuntu 20.04.4 LTS) / x86_64  OK    OK    OK  UNNEEDED, same version is already published
tokay2Windows Server 2012 R2 Standard / x64  OK    OK    OK    OK  UNNEEDED, same version is already published
machv2macOS 10.14.6 Mojave / x86_64  OK    OK    OK    OK  UNNEEDED, same version is already published
Package 48/57HostnameOS / ArchINSTALLBUILDCHECKBUILD BIN
Risa 1.36.0  (landing page)
Alejandra Gonzalez-Beltran
git_last_commit: e0c196c
git_last_commit_date: 2021-10-26 12:04:36 -0500
nebbiolo2Linux (Ubuntu 20.04.4 LTS) / x86_64  OK    OK    OK  UNNEEDED, same version is already published
tokay2Windows Server 2012 R2 Standard / x64  OK    OK    OK    OK  UNNEEDED, same version is already published
machv2macOS 10.14.6 Mojave / x86_64  OK    OK    OK    OK  UNNEEDED, same version is already published
Package 49/57HostnameOS / ArchINSTALLBUILDCHECKBUILD BIN
Rnits 1.28.0  (landing page)
Dipen P. Sangurdekar
git_last_commit: fc51552
git_last_commit_date: 2021-10-26 12:15:38 -0500
nebbiolo2Linux (Ubuntu 20.04.4 LTS) / x86_64  OK    OK    WARNINGS  UNNEEDED, same version is already published
tokay2Windows Server 2012 R2 Standard / x64  OK    OK    WARNINGS    OK  UNNEEDED, same version is already published
machv2macOS 10.14.6 Mojave / x86_64  OK    OK    WARNINGS    OK  UNNEEDED, same version is already published
Package 50/57HostnameOS / ArchINSTALLBUILDCHECKBUILD BIN
RPA 1.50.0  (landing page)
Leo Lahti
git_last_commit: 1306d67
git_last_commit_date: 2021-10-26 11:54:13 -0500
nebbiolo2Linux (Ubuntu 20.04.4 LTS) / x86_64  OK    OK    OK  UNNEEDED, same version is already published
tokay2Windows Server 2012 R2 Standard / x64  OK    OK    OK    OK  UNNEEDED, same version is already published
machv2macOS 10.14.6 Mojave / x86_64  OK    OK    OK    OK  UNNEEDED, same version is already published
Package 51/57HostnameOS / ArchINSTALLBUILDCHECKBUILD BIN
SCAN.UPC 2.36.0  (landing page)
Stephen R. Piccolo
git_last_commit: 5a49e61
git_last_commit_date: 2021-10-26 12:04:49 -0500
nebbiolo2Linux (Ubuntu 20.04.4 LTS) / x86_64  OK    OK    OK  UNNEEDED, same version is already published
tokay2Windows Server 2012 R2 Standard / x64  OK    OK    OK    OK  UNNEEDED, same version is already published
machv2macOS 10.14.6 Mojave / x86_64  OK    OK    OK    OK  UNNEEDED, same version is already published
Package 52/57HostnameOS / ArchINSTALLBUILDCHECKBUILD BIN
sscore 1.66.0  (landing page)
Richard Kennedy
git_last_commit: 1a5a32e
git_last_commit_date: 2021-10-26 11:49:09 -0500
nebbiolo2Linux (Ubuntu 20.04.4 LTS) / x86_64  OK    OK    OK  UNNEEDED, same version is already published
tokay2Windows Server 2012 R2 Standard / x64  OK    OK    OK    OK  UNNEEDED, same version is already published
machv2macOS 10.14.6 Mojave / x86_64  OK    OK    OK    OK  UNNEEDED, same version is already published
Package 53/57HostnameOS / ArchINSTALLBUILDCHECKBUILD BIN
STATegRa 1.30.0  (landing page)
David Gomez-Cabrero , NĂºria Planell
git_last_commit: 9124807
git_last_commit_date: 2021-10-26 12:17:04 -0500
nebbiolo2Linux (Ubuntu 20.04.4 LTS) / x86_64  OK    OK    OK  UNNEEDED, same version is already published
tokay2Windows Server 2012 R2 Standard / x64  OK    OK    OK    OK  UNNEEDED, same version is already published
machv2macOS 10.14.6 Mojave / x86_64  OK    OK    OK    OK  UNNEEDED, same version is already published
Package 54/57HostnameOS / ArchINSTALLBUILDCHECKBUILD BIN
tilingArray 1.72.0  (landing page)
Zhenyu Xu
git_last_commit: b7c6272
git_last_commit_date: 2021-10-26 11:47:46 -0500
nebbiolo2Linux (Ubuntu 20.04.4 LTS) / x86_64  OK    OK    OK  UNNEEDED, same version is already published
tokay2Windows Server 2012 R2 Standard / x64  OK    OK    OK    OK  UNNEEDED, same version is already published
machv2macOS 10.14.6 Mojave / x86_64  OK    OK    OK    OK  UNNEEDED, same version is already published
Package 55/57HostnameOS / ArchINSTALLBUILDCHECKBUILD BIN
TurboNorm 1.42.0  (landing page)
Maarten van Iterson
git_last_commit: 8ebd6b0
git_last_commit_date: 2021-10-26 11:57:45 -0500
nebbiolo2Linux (Ubuntu 20.04.4 LTS) / x86_64  OK    OK    OK  UNNEEDED, same version is already published
tokay2Windows Server 2012 R2 Standard / x64  OK    OK    OK    OK  UNNEEDED, same version is already published
machv2macOS 10.14.6 Mojave / x86_64  OK    OK    OK    OK  UNNEEDED, same version is already published
Package 56/57HostnameOS / ArchINSTALLBUILDCHECKBUILD BIN
vsn 3.62.0  (landing page)
Wolfgang Huber
git_last_commit: 6ae7f4e
git_last_commit_date: 2021-10-26 11:45:49 -0500
nebbiolo2Linux (Ubuntu 20.04.4 LTS) / x86_64  OK    OK    OK  UNNEEDED, same version is already published
tokay2Windows Server 2012 R2 Standard / x64  OK    OK    OK    OK  UNNEEDED, same version is already published
machv2macOS 10.14.6 Mojave / x86_64  OK    OK    OK    OK  UNNEEDED, same version is already published
Package 57/57HostnameOS / ArchINSTALLBUILDCHECKBUILD BIN
webbioc 1.66.0  (landing page)
Colin A. Smith
git_last_commit: bbe6a8c
git_last_commit_date: 2021-10-26 11:46:21 -0500
nebbiolo2Linux (Ubuntu 20.04.4 LTS) / x86_64  OK    OK    OK  UNNEEDED, same version is already published
tokay2Windows Server 2012 R2 Standard / x64  OK    OK    OK    OK  UNNEEDED, same version is already published
machv2macOS 10.14.6 Mojave / x86_64  OK    OK    OK    OK  UNNEEDED, same version is already published