Back to Multiple platform build/check report for BioC 3.14
ABCDEFGHIJKLMNOPQRSTU[V]WXYZ

This page was generated on 2021-12-06 13:04:51 -0500 (Mon, 06 Dec 2021).

All results for package vsn

To the developers/maintainers of the vsn package:
- Please allow up to 24 hours (and sometimes 48 hours) for your latest push to git@git.bioconductor.org:packages/vsn.git to
reflect on this report. See How and When does the builder pull? When will my changes propagate? here for more information.
- Make sure to use the following settings in order to reproduce any error or warning you see on this page.

raw results

Package 2055/2083HostnameOS / ArchINSTALLBUILDCHECKBUILD BIN
vsn 3.62.0  (landing page)
Wolfgang Huber
Snapshot Date: 2021-12-05 01:55:05 -0500 (Sun, 05 Dec 2021)
git_url: https://git.bioconductor.org/packages/vsn
git_branch: RELEASE_3_14
git_last_commit: 6ae7f4e
git_last_commit_date: 2021-10-26 11:45:49 -0500 (Tue, 26 Oct 2021)
nebbiolo2Linux (Ubuntu 20.04.3 LTS) / x86_64  OK    OK    OK  UNNEEDED, same version is already published
tokay2Windows Server 2012 R2 Standard / x64  OK    OK    OK    OK  UNNEEDED, same version is already published
machv2macOS 10.14.6 Mojave / x86_64  OK    OK    OK    OK  UNNEEDED, same version is already published

Results for Bioconductor software packages that depend directly on package vsn

QUICK STATSOS / ArchINSTALLBUILDCHECKBUILD BIN
nebbiolo2Linux (Ubuntu 20.04.3 LTS) / x86_64
0116
0215
02112
tokay2Windows Server 2012 R2 Standard / x64
0116
0116
02113
0016
machv2macOS 10.14.6 Mojave / x86_64
0116
0116
02113
0016
Package 1/17HostnameOS / ArchINSTALLBUILDCHECKBUILD BIN
affyPara 1.54.0  (landing page)
Markus Schmidberger
git_last_commit: be642b6
git_last_commit_date: 2021-10-26 11:52:06 -0500
nebbiolo2Linux (Ubuntu 20.04.3 LTS) / x86_64  ERROR    ERROR  skipped
tokay2Windows Server 2012 R2 Standard / x64  ERROR    ERROR  skippedskipped
machv2macOS 10.14.6 Mojave / x86_64  ERROR    ERROR  skippedskipped
Package 2/17HostnameOS / ArchINSTALLBUILDCHECKBUILD BIN
arrayQualityMetrics 3.50.0  (landing page)
Mike Smith
git_last_commit: 784f433
git_last_commit_date: 2021-10-26 11:51:28 -0500
nebbiolo2Linux (Ubuntu 20.04.3 LTS) / x86_64  OK    OK    OK  UNNEEDED, same version is already published
tokay2Windows Server 2012 R2 Standard / x64  OK    OK    OK    OK  UNNEEDED, same version is already published
machv2macOS 10.14.6 Mojave / x86_64  OK    OK    OK    OK  UNNEEDED, same version is already published
Package 3/17HostnameOS / ArchINSTALLBUILDCHECKBUILD BIN
bnem 1.2.0  (landing page)
Martin Pirkl
git_last_commit: 7189a51
git_last_commit_date: 2021-10-26 13:05:36 -0500
nebbiolo2Linux (Ubuntu 20.04.3 LTS) / x86_64  OK    OK    OK  UNNEEDED, same version is already published
tokay2Windows Server 2012 R2 Standard / x64  OK    OK    OK    OK  UNNEEDED, same version is already published
machv2macOS 10.14.6 Mojave / x86_64  OK    OK    OK    OK  UNNEEDED, same version is already published
Package 4/17HostnameOS / ArchINSTALLBUILDCHECKBUILD BIN
cellHTS2 2.58.0  (landing page)
Joseph Barry
git_last_commit: 5e1ff80
git_last_commit_date: 2021-10-26 11:51:17 -0500
nebbiolo2Linux (Ubuntu 20.04.3 LTS) / x86_64  OK    OK    OK  UNNEEDED, same version is already published
tokay2Windows Server 2012 R2 Standard / x64  OK    OK    OK    OK  UNNEEDED, same version is already published
machv2macOS 10.14.6 Mojave / x86_64  OK    OK    OK    OK  UNNEEDED, same version is already published
Package 5/17HostnameOS / ArchINSTALLBUILDCHECKBUILD BIN
coexnet 1.16.0  (landing page)
Juan David Henao
git_last_commit: 8ddee4f
git_last_commit_date: 2021-10-26 12:35:58 -0500
nebbiolo2Linux (Ubuntu 20.04.3 LTS) / x86_64  OK    OK    ERROR  
tokay2Windows Server 2012 R2 Standard / x64  OK    OK    ERROR    OK  
machv2macOS 10.14.6 Mojave / x86_64  OK    OK    ERROR    OK  
Package 6/17HostnameOS / ArchINSTALLBUILDCHECKBUILD BIN
DAPAR 1.26.1  (landing page)
Samuel Wieczorek
git_last_commit: 9232810
git_last_commit_date: 2021-11-22 00:55:42 -0500
nebbiolo2Linux (Ubuntu 20.04.3 LTS) / x86_64  OK    OK    OK  UNNEEDED, same version is already published
tokay2Windows Server 2012 R2 Standard / x64  OK    OK    OK    OK  UNNEEDED, same version is already published
machv2macOS 10.14.6 Mojave / x86_64  OK    OK    OK    OK  UNNEEDED, same version is already published
Package 7/17HostnameOS / ArchINSTALLBUILDCHECKBUILD BIN
DEP 1.16.0  (landing page)
Arne Smits
git_last_commit: ce28ade
git_last_commit_date: 2021-10-26 12:37:08 -0500
nebbiolo2Linux (Ubuntu 20.04.3 LTS) / x86_64  OK    OK    WARNINGS  UNNEEDED, same version is already published
tokay2Windows Server 2012 R2 Standard / x64  OK    OK    WARNINGS    OK  UNNEEDED, same version is already published
machv2macOS 10.14.6 Mojave / x86_64  OK    OK    WARNINGS    OK  UNNEEDED, same version is already published
Package 8/17HostnameOS / ArchINSTALLBUILDCHECKBUILD BIN
Doscheda 1.16.0  (landing page)
Bruno Contrino
git_last_commit: e0f1a25
git_last_commit_date: 2021-10-28 09:37:25 -0500
nebbiolo2Linux (Ubuntu 20.04.3 LTS) / x86_64  OK    OK    OK  UNNEEDED, same version is already published
tokay2Windows Server 2012 R2 Standard / x64  OK    OK    OK    OK  UNNEEDED, same version is already published
machv2macOS 10.14.6 Mojave / x86_64  OK    OK    OK    OK  UNNEEDED, same version is already published
Package 9/17HostnameOS / ArchINSTALLBUILDCHECKBUILD BIN
imageHTS 1.44.0  (landing page)
Joseph Barry
git_last_commit: 288e8a4
git_last_commit_date: 2021-10-26 11:56:42 -0500
nebbiolo2Linux (Ubuntu 20.04.3 LTS) / x86_64  OK    ERROR  skipped
tokay2Windows Server 2012 R2 Standard / x64  OK    OK    OK    OK  UNNEEDED, same version is already published
machv2macOS 10.14.6 Mojave / x86_64  OK    OK    OK    OK  UNNEEDED, same version is already published
Package 10/17HostnameOS / ArchINSTALLBUILDCHECKBUILD BIN
MatrixQCvis 1.2.0  (landing page)
Thomas Naake
git_last_commit: fba275b
git_last_commit_date: 2021-10-26 13:09:52 -0500
nebbiolo2Linux (Ubuntu 20.04.3 LTS) / x86_64  OK    OK    OK  UNNEEDED, same version is already published
tokay2Windows Server 2012 R2 Standard / x64  OK    OK    OK    OK  UNNEEDED, same version is already published
machv2macOS 10.14.6 Mojave / x86_64  OK    OK    OK    OK  UNNEEDED, same version is already published
Package 11/17HostnameOS / ArchINSTALLBUILDCHECKBUILD BIN
metaseqR2 1.6.1  (landing page)
Panagiotis Moulos
git_last_commit: a87443a
git_last_commit_date: 2021-11-26 09:16:15 -0500
nebbiolo2Linux (Ubuntu 20.04.3 LTS) / x86_64  OK    OK    OK  UNNEEDED, same version is already published
tokay2Windows Server 2012 R2 Standard / x64  OK    OK    OK    OK  UNNEEDED, same version is already published
machv2macOS 10.14.6 Mojave / x86_64  OK    OK    OK    OK  UNNEEDED, same version is already published
Package 12/17HostnameOS / ArchINSTALLBUILDCHECKBUILD BIN
MSnbase 2.20.3  (landing page)
Laurent Gatto
git_last_commit: 760b1bb
git_last_commit_date: 2021-11-24 12:36:33 -0500
nebbiolo2Linux (Ubuntu 20.04.3 LTS) / x86_64  OK    OK    ERROR  
tokay2Windows Server 2012 R2 Standard / x64  OK    OK    ERROR    OK  
machv2macOS 10.14.6 Mojave / x86_64  OK    OK    ERROR    OK  
Package 13/17HostnameOS / ArchINSTALLBUILDCHECKBUILD BIN
NormalyzerDE 1.12.0  (landing page)
Jakob Willforss
git_last_commit: bc472c8
git_last_commit_date: 2021-10-26 12:46:39 -0500
nebbiolo2Linux (Ubuntu 20.04.3 LTS) / x86_64  OK    OK    OK  UNNEEDED, same version is already published
tokay2Windows Server 2012 R2 Standard / x64  OK    OK    OK    OK  UNNEEDED, same version is already published
machv2macOS 10.14.6 Mojave / x86_64  OK    OK    OK    OK  UNNEEDED, same version is already published
Package 14/17HostnameOS / ArchINSTALLBUILDCHECKBUILD BIN
pvca 1.34.0  (landing page)
Jianying LI
git_last_commit: f673aeb
git_last_commit_date: 2021-10-26 12:05:33 -0500
nebbiolo2Linux (Ubuntu 20.04.3 LTS) / x86_64  OK    OK    OK  UNNEEDED, same version is already published
tokay2Windows Server 2012 R2 Standard / x64  OK    OK    OK    OK  UNNEEDED, same version is already published
machv2macOS 10.14.6 Mojave / x86_64  OK    OK    OK    OK  UNNEEDED, same version is already published
Package 15/17HostnameOS / ArchINSTALLBUILDCHECKBUILD BIN
Ringo 1.58.0  (landing page)
J. Toedling
git_last_commit: 0d4f926
git_last_commit_date: 2021-10-26 11:51:01 -0500
nebbiolo2Linux (Ubuntu 20.04.3 LTS) / x86_64  OK    OK    OK  UNNEEDED, same version is already published
tokay2Windows Server 2012 R2 Standard / x64  OK    OK    OK    OK  UNNEEDED, same version is already published
machv2macOS 10.14.6 Mojave / x86_64  OK    OK    OK    OK  UNNEEDED, same version is already published
Package 16/17HostnameOS / ArchINSTALLBUILDCHECKBUILD BIN
tilingArray 1.72.0  (landing page)
Zhenyu Xu
git_last_commit: b7c6272
git_last_commit_date: 2021-10-26 11:47:46 -0500
nebbiolo2Linux (Ubuntu 20.04.3 LTS) / x86_64  OK    OK    OK  UNNEEDED, same version is already published
tokay2Windows Server 2012 R2 Standard / x64  OK    OK    OK    OK  UNNEEDED, same version is already published
machv2macOS 10.14.6 Mojave / x86_64  OK    OK    OK    OK  UNNEEDED, same version is already published
Package 17/17HostnameOS / ArchINSTALLBUILDCHECKBUILD BIN
webbioc 1.66.0  (landing page)
Colin A. Smith
git_last_commit: bbe6a8c
git_last_commit_date: 2021-10-26 11:46:21 -0500
nebbiolo2Linux (Ubuntu 20.04.3 LTS) / x86_64  OK    OK    OK  UNNEEDED, same version is already published
tokay2Windows Server 2012 R2 Standard / x64  OK    OK    OK    OK  UNNEEDED, same version is already published
machv2macOS 10.14.6 Mojave / x86_64  OK    OK    OK    OK  UNNEEDED, same version is already published