Back to Multiple platform build/check report for BioC 3.14
ABC[D]EFGHIJKLMNOPQRSTUVWXYZ

This page was generated on 2021-12-01 17:16:57 -0500 (Wed, 01 Dec 2021).

All results for package DNAcopy

To the developers/maintainers of the DNAcopy package:
- Please allow up to 24 hours (and sometimes 48 hours) for your latest push to git@git.bioconductor.org:packages/DNAcopy.git to
reflect on this report. See How and When does the builder pull? When will my changes propagate? here for more information.
- Make sure to use the following settings in order to reproduce any error or warning you see on this page.

raw results

Package 532/2083HostnameOS / ArchINSTALLBUILDCHECKBUILD BIN
DNAcopy 1.68.0  (landing page)
Venkatraman E. Seshan
Snapshot Date: 2021-11-30 04:15:05 -0500 (Tue, 30 Nov 2021)
git_url: https://git.bioconductor.org/packages/DNAcopy
git_branch: RELEASE_3_14
git_last_commit: 08f039f
git_last_commit_date: 2021-10-26 11:46:59 -0500 (Tue, 26 Oct 2021)
nebbiolo2Linux (Ubuntu 20.04.3 LTS) / x86_64  OK    OK    OK  UNNEEDED, same version is already published
tokay2Windows Server 2012 R2 Standard / x64  OK    OK    OK    OK  UNNEEDED, same version is already published
machv2macOS 10.14.6 Mojave / x86_64  OK    OK    OK    OK  UNNEEDED, same version is already published

Results for Bioconductor software packages that depend directly on package DNAcopy

QUICK STATSOS / ArchINSTALLBUILDCHECKBUILD BIN
nebbiolo2Linux (Ubuntu 20.04.3 LTS) / x86_64
0025
0025
01519
tokay2Windows Server 2012 R2 Standard / x64
0024
0024
00519
0024
machv2macOS 10.14.6 Mojave / x86_64
0025
0025
01519
0025
Package 1/25HostnameOS / ArchINSTALLBUILDCHECKBUILD BIN
ADaCGH2 2.34.0  (landing page)
Ramon Diaz-Uriarte
git_last_commit: 876bbc3
git_last_commit_date: 2021-10-26 11:57:27 -0500
nebbiolo2Linux (Ubuntu 20.04.3 LTS) / x86_64  OK    OK    OK  UNNEEDED, same version is already published
tokay2Windows Server 2012 R2 Standard / x64  OK    OK    OK    OK  UNNEEDED, same version is already published
machv2macOS 10.14.6 Mojave / x86_64  OK    OK    OK    OK  UNNEEDED, same version is already published
Package 2/25HostnameOS / ArchINSTALLBUILDCHECKBUILD BIN
AneuFinder 1.22.0  (landing page)
Aaron Taudt
git_last_commit: ea0beb3
git_last_commit_date: 2021-10-26 12:26:30 -0500
nebbiolo2Linux (Ubuntu 20.04.3 LTS) / x86_64  OK    OK    OK  UNNEEDED, same version is already published
tokay2Windows Server 2012 R2 Standard / x64  OK    OK    OK    OK  UNNEEDED, same version is already published
machv2macOS 10.14.6 Mojave / x86_64  OK    OK    OK    OK  UNNEEDED, same version is already published
Package 3/25HostnameOS / ArchINSTALLBUILDCHECKBUILD BIN
CGHcall 2.56.0  (landing page)
Mark van de Wiel
git_last_commit: 9d6ed61
git_last_commit_date: 2021-10-26 11:51:30 -0500
nebbiolo2Linux (Ubuntu 20.04.3 LTS) / x86_64  OK    OK    WARNINGS  UNNEEDED, same version is already published
tokay2Windows Server 2012 R2 Standard / x64  OK    OK    WARNINGS    OK  UNNEEDED, same version is already published
machv2macOS 10.14.6 Mojave / x86_64  OK    OK    WARNINGS    OK  UNNEEDED, same version is already published
Package 4/25HostnameOS / ArchINSTALLBUILDCHECKBUILD BIN
cghMCR 1.52.0  (landing page)
J. Zhang
git_last_commit: 669771b
git_last_commit_date: 2021-10-26 11:49:38 -0500
nebbiolo2Linux (Ubuntu 20.04.3 LTS) / x86_64  OK    OK    WARNINGS  UNNEEDED, same version is already published
tokay2Windows Server 2012 R2 Standard / x64  OK    OK    WARNINGS    OK  UNNEEDED, same version is already published
machv2macOS 10.14.6 Mojave / x86_64  OK    OK    WARNINGS    OK  UNNEEDED, same version is already published
Package 5/25HostnameOS / ArchINSTALLBUILDCHECKBUILD BIN
ChAMP 2.24.0  (landing page)
Yuan Tian
git_last_commit: 7ba19da
git_last_commit_date: 2021-10-26 12:10:42 -0500
nebbiolo2Linux (Ubuntu 20.04.3 LTS) / x86_64  OK    OK    WARNINGS  UNNEEDED, same version is already published
tokay2Windows Server 2012 R2 Standard / x64  OK    OK    WARNINGS    OK  NO, package depends on 'DMRcate' which is not available
machv2macOS 10.14.6 Mojave / x86_64  OK    OK    WARNINGS    OK  NO, package depends on 'DMRcate' which is not available
Package 6/25HostnameOS / ArchINSTALLBUILDCHECKBUILD BIN
Clonality 1.42.0  (landing page)
Irina Ostrovnaya
git_last_commit: 3792eeb
git_last_commit_date: 2021-10-26 11:57:48 -0500
nebbiolo2Linux (Ubuntu 20.04.3 LTS) / x86_64  OK    OK    OK  UNNEEDED, same version is already published
tokay2Windows Server 2012 R2 Standard / x64  OK    OK    OK    OK  UNNEEDED, same version is already published
machv2macOS 10.14.6 Mojave / x86_64  OK    OK    OK    OK  UNNEEDED, same version is already published
Package 7/25HostnameOS / ArchINSTALLBUILDCHECKBUILD BIN
cn.farms 1.42.0  (landing page)
Andreas Mitterecker
git_last_commit: e1a3008
git_last_commit_date: 2021-10-26 11:58:35 -0500
nebbiolo2Linux (Ubuntu 20.04.3 LTS) / x86_64  OK    OK    OK  UNNEEDED, same version is already published
tokay2Windows Server 2012 R2 Standard / x64  OK    OK    OK    OK  UNNEEDED, same version is already published
machv2macOS 10.14.6 Mojave / x86_64  OK    OK    OK    OK  UNNEEDED, same version is already published
Package 8/25HostnameOS / ArchINSTALLBUILDCHECKBUILD BIN
CNAnorm 1.40.0  (landing page)
Stefano Berri
git_last_commit: fe146be
git_last_commit_date: 2021-10-26 12:00:37 -0500
nebbiolo2Linux (Ubuntu 20.04.3 LTS) / x86_64  OK    OK    OK  UNNEEDED, same version is already published
tokay2Windows Server 2012 R2 Standard / x64  OK    OK    OK    OK  UNNEEDED, same version is already published
machv2macOS 10.14.6 Mojave / x86_64  OK    OK    OK    OK  UNNEEDED, same version is already published
Package 9/25HostnameOS / ArchINSTALLBUILDCHECKBUILD BIN
CNVrd2 1.32.0  (landing page)
Hoang Tan Nguyen
git_last_commit: e00be65
git_last_commit_date: 2021-10-26 12:10:56 -0500
nebbiolo2Linux (Ubuntu 20.04.3 LTS) / x86_64  OK    OK    OK  UNNEEDED, same version is already published
tokay2Windows Server 2012 R2 Standard / x64  OK    OK    OK    OK  UNNEEDED, same version is already published
machv2macOS 10.14.6 Mojave / x86_64  OK    OK    OK    OK  UNNEEDED, same version is already published
Package 10/25HostnameOS / ArchINSTALLBUILDCHECKBUILD BIN
contiBAIT 1.22.0  (landing page)
Kieran O'Neill
git_last_commit: 7642d19
git_last_commit_date: 2021-10-26 12:25:24 -0500
nebbiolo2Linux (Ubuntu 20.04.3 LTS) / x86_64  OK    OK    WARNINGS  UNNEEDED, same version is already published
tokay2Windows Server 2012 R2 Standard / x64  OK    OK    WARNINGS    OK  UNNEEDED, same version is already published
machv2macOS 10.14.6 Mojave / x86_64  OK    OK    WARNINGS    OK  UNNEEDED, same version is already published
Package 11/25HostnameOS / ArchINSTALLBUILDCHECKBUILD BIN
conumee 1.28.0  (landing page)
Volker Hovestadt
git_last_commit: 49326cb
git_last_commit_date: 2021-10-26 12:20:09 -0500
nebbiolo2Linux (Ubuntu 20.04.3 LTS) / x86_64  OK    OK    OK  UNNEEDED, same version is already published
tokay2Windows Server 2012 R2 Standard / x64... NOT SUPPORTED ...
machv2macOS 10.14.6 Mojave / x86_64  OK    OK    OK    OK  UNNEEDED, same version is already published
Package 12/25HostnameOS / ArchINSTALLBUILDCHECKBUILD BIN
CopywriteR 2.26.0  (landing page)
Oscar Krijgsman
git_last_commit: 84f6999
git_last_commit_date: 2021-10-26 12:19:59 -0500
nebbiolo2Linux (Ubuntu 20.04.3 LTS) / x86_64  OK    OK    OK  UNNEEDED, same version is already published
tokay2Windows Server 2012 R2 Standard / x64  OK    OK    OK    OK  UNNEEDED, same version is already published
machv2macOS 10.14.6 Mojave / x86_64  OK    OK    OK    OK  UNNEEDED, same version is already published
Package 13/25HostnameOS / ArchINSTALLBUILDCHECKBUILD BIN
CRImage 1.42.0  (landing page)
Henrik Failmezger , Yinyin Yuan
git_last_commit: 7a30984
git_last_commit_date: 2021-10-26 11:57:17 -0500
nebbiolo2Linux (Ubuntu 20.04.3 LTS) / x86_64  OK    OK    OK  UNNEEDED, same version is already published
tokay2Windows Server 2012 R2 Standard / x64  OK    OK    OK    OK  UNNEEDED, same version is already published
machv2macOS 10.14.6 Mojave / x86_64  OK    OK    OK    OK  UNNEEDED, same version is already published
Package 14/25HostnameOS / ArchINSTALLBUILDCHECKBUILD BIN
GWASTools 1.40.0  (landing page)
Stephanie M. Gogarten
git_last_commit: 438eb92
git_last_commit_date: 2021-10-26 12:00:43 -0500
nebbiolo2Linux (Ubuntu 20.04.3 LTS) / x86_64  OK    OK    OK  UNNEEDED, same version is already published
tokay2Windows Server 2012 R2 Standard / x64  OK    OK    OK    OK  UNNEEDED, same version is already published
machv2macOS 10.14.6 Mojave / x86_64  OK    OK    OK    OK  UNNEEDED, same version is already published
Package 15/25HostnameOS / ArchINSTALLBUILDCHECKBUILD BIN
MDTS 1.14.0  (landing page)
Jack M.. Fu
git_last_commit: 2527d7a
git_last_commit_date: 2021-10-26 12:42:31 -0500
nebbiolo2Linux (Ubuntu 20.04.3 LTS) / x86_64  OK    OK    OK  UNNEEDED, same version is already published
tokay2Windows Server 2012 R2 Standard / x64  OK    OK    OK    OK  UNNEEDED, same version is already published
machv2macOS 10.14.6 Mojave / x86_64  OK    OK    OK    OK  UNNEEDED, same version is already published
Package 16/25HostnameOS / ArchINSTALLBUILDCHECKBUILD BIN
MEDIPS 1.46.0  (landing page)
Lukas Chavez
git_last_commit: 9d2b4a5
git_last_commit_date: 2021-10-26 11:57:30 -0500
nebbiolo2Linux (Ubuntu 20.04.3 LTS) / x86_64  OK    OK    OK  UNNEEDED, same version is already published
tokay2Windows Server 2012 R2 Standard / x64  OK    OK    OK    OK  UNNEEDED, same version is already published
machv2macOS 10.14.6 Mojave / x86_64  OK    OK    OK    OK  UNNEEDED, same version is already published
Package 17/25HostnameOS / ArchINSTALLBUILDCHECKBUILD BIN
MethCP 1.8.0  (landing page)
Boying Gong
git_last_commit: b9b32e0
git_last_commit_date: 2021-10-26 12:55:29 -0500
nebbiolo2Linux (Ubuntu 20.04.3 LTS) / x86_64  OK    OK    ERROR  
tokay2Windows Server 2012 R2 Standard / x64  OK    OK    OK    OK  UNNEEDED, same version is already published
machv2macOS 10.14.6 Mojave / x86_64  OK    OK    ERROR    OK  
Package 18/25HostnameOS / ArchINSTALLBUILDCHECKBUILD BIN
MinimumDistance 1.38.0  (landing page)
Robert Scharpf
git_last_commit: 48aab1f
git_last_commit_date: 2021-10-26 12:03:02 -0500
nebbiolo2Linux (Ubuntu 20.04.3 LTS) / x86_64  OK    OK    WARNINGS  UNNEEDED, same version is already published
tokay2Windows Server 2012 R2 Standard / x64  OK    OK    WARNINGS    OK  UNNEEDED, same version is already published
machv2macOS 10.14.6 Mojave / x86_64  OK    OK    WARNINGS    OK  UNNEEDED, same version is already published
Package 19/25HostnameOS / ArchINSTALLBUILDCHECKBUILD BIN
PureCN 2.0.1  (landing page)
Markus Riester
git_last_commit: 4e75402
git_last_commit_date: 2021-10-29 15:49:08 -0500
nebbiolo2Linux (Ubuntu 20.04.3 LTS) / x86_64  OK    OK    OK  UNNEEDED, same version is already published
tokay2Windows Server 2012 R2 Standard / x64  OK    OK    OK    OK  UNNEEDED, same version is already published
machv2macOS 10.14.6 Mojave / x86_64  OK    OK    OK    OK  UNNEEDED, same version is already published
Package 20/25HostnameOS / ArchINSTALLBUILDCHECKBUILD BIN
QDNAseq 1.30.0  (landing page)
Daoud Sie
git_last_commit: cd4ceaa
git_last_commit_date: 2021-10-27 16:34:47 -0500
nebbiolo2Linux (Ubuntu 20.04.3 LTS) / x86_64  OK    OK    OK  UNNEEDED, same version is already published
tokay2Windows Server 2012 R2 Standard / x64  OK    OK    OK    OK  UNNEEDED, same version is already published
machv2macOS 10.14.6 Mojave / x86_64  OK    OK    OK    OK  UNNEEDED, same version is already published
Package 21/25HostnameOS / ArchINSTALLBUILDCHECKBUILD BIN
rCGH 1.24.0  (landing page)
Frederic Commo
git_last_commit: ee2a9d3
git_last_commit_date: 2021-10-26 12:21:28 -0500
nebbiolo2Linux (Ubuntu 20.04.3 LTS) / x86_64  OK    OK    OK  UNNEEDED, same version is already published
tokay2Windows Server 2012 R2 Standard / x64  OK    OK    OK    OK  UNNEEDED, same version is already published
machv2macOS 10.14.6 Mojave / x86_64  OK    OK    OK    OK  UNNEEDED, same version is already published
Package 22/25HostnameOS / ArchINSTALLBUILDCHECKBUILD BIN
Repitools 1.40.0  (landing page)
Mark Robinson
git_last_commit: 6f54c77
git_last_commit_date: 2021-10-26 11:59:33 -0500
nebbiolo2Linux (Ubuntu 20.04.3 LTS) / x86_64  OK    OK    OK  UNNEEDED, same version is already published
tokay2Windows Server 2012 R2 Standard / x64  OK    OK    OK    OK  UNNEEDED, same version is already published
machv2macOS 10.14.6 Mojave / x86_64  OK    OK    OK    OK  UNNEEDED, same version is already published
Package 23/25HostnameOS / ArchINSTALLBUILDCHECKBUILD BIN
SCOPE 1.6.0  (landing page)
Rujin Wang
git_last_commit: 02dfee8
git_last_commit_date: 2021-10-26 12:57:22 -0500
nebbiolo2Linux (Ubuntu 20.04.3 LTS) / x86_64  OK    OK    OK  UNNEEDED, same version is already published
tokay2Windows Server 2012 R2 Standard / x64  OK    OK    OK    OK  UNNEEDED, same version is already published
machv2macOS 10.14.6 Mojave / x86_64  OK    OK    OK    OK  UNNEEDED, same version is already published
Package 24/25HostnameOS / ArchINSTALLBUILDCHECKBUILD BIN
sesame 1.12.5  (landing page)
Wanding Zhou
git_last_commit: c30dde9
git_last_commit_date: 2021-11-23 23:40:35 -0500
nebbiolo2Linux (Ubuntu 20.04.3 LTS) / x86_64  OK    OK    OK  UNNEEDED, same version is already published
tokay2Windows Server 2012 R2 Standard / x64  OK    OK    OK    OK  UNNEEDED, same version is already published
machv2macOS 10.14.6 Mojave / x86_64  OK    OK    OK    OK  UNNEEDED, same version is already published
Package 25/25HostnameOS / ArchINSTALLBUILDCHECKBUILD BIN
snapCGH 1.64.0  (landing page)
John Marioni
git_last_commit: dc77b07
git_last_commit_date: 2021-10-26 11:49:07 -0500
nebbiolo2Linux (Ubuntu 20.04.3 LTS) / x86_64  OK    OK    OK  UNNEEDED, same version is already published
tokay2Windows Server 2012 R2 Standard / x64  OK    OK    OK    OK  UNNEEDED, same version is already published
machv2macOS 10.14.6 Mojave / x86_64  OK    OK    OK    OK  UNNEEDED, same version is already published