Back to Workflows build report for BioC 3.16

This page was generated on 2023-02-03 14:00:08 -0500 (Fri, 03 Feb 2023).

HostnameOSArch (*)R versionInstalled pkgs
nebbiolo2Linux (Ubuntu 20.04.5 LTS)x86_644.2.2 (2022-10-31) -- "Innocent and Trusting" 4511
palomino4Windows Server 2022 Datacenterx644.2.2 (2022-10-31 ucrt) -- "Innocent and Trusting" 4289
lconwaymacOS 12.5.1 Montereyx86_644.2.2 (2022-10-31) -- "Innocent and Trusting" 4318
Click on any hostname to see more info about the system (e.g. compilers)      (*) as reported by 'uname -p', except on Windows and Mac OS X

INSTALL results for rnaseqDTU on lconway


To the developers/maintainers of the rnaseqDTU package:
Make sure to use the following settings in order to reproduce any error or warning you see on this page.

raw results

Package 21/28HostnameOS / ArchINSTALLBUILD
rnaseqDTU 1.18.0  (landing page)
Michael Love
Snapshot Date: 2023-02-03 10:45:01 -0500 (Fri, 03 Feb 2023)
git_url: https://git.bioconductor.org/packages/rnaseqDTU
git_branch: RELEASE_3_16
git_last_commit: da0d2d4
git_last_commit_date: 2022-11-01 10:34:38 -0500 (Tue, 01 Nov 2022)
nebbiolo2Linux (Ubuntu 20.04.5 LTS) / x86_64  OK    OK  UNNEEDED, same version is already published
palomino4Windows Server 2022 Datacenter / x64  OK    OK  
lconwaymacOS 12.5.1 Monterey / x86_64  OK    OK  

Summary

Package: rnaseqDTU
Version: 1.18.0
Command: /Library/Frameworks/R.framework/Resources/bin/R CMD INSTALL rnaseqDTU
StartedAt: 2023-02-03 11:00:19 -0500 (Fri, 03 Feb 2023)
EndedAt: 2023-02-03 11:00:54 -0500 (Fri, 03 Feb 2023)
EllapsedTime: 35.4 seconds
RetCode: 0
Status:   OK  

Command output

##############################################################################
##############################################################################
###
### Running command:
###
###   /Library/Frameworks/R.framework/Resources/bin/R CMD INSTALL rnaseqDTU
###
##############################################################################
##############################################################################


* installing to library ‘/Library/Frameworks/R.framework/Versions/4.2/Resources/library’
* installing *source* package ‘rnaseqDTU’ ...
** using staged installation
** R
** data
*** moving datasets to lazyload DB
** inst
** byte-compile and prepare package for lazy loading
** help
*** installing help indices
** building package indices
** installing vignettes
** testing if installed package can be loaded from temporary location
** testing if installed package can be loaded from final location
** testing if installed package keeps a record of temporary installation path
* DONE (rnaseqDTU)