Index of /checkResults/release/workflows-LATEST/rnaseqDTU/raw-results

[ICO]NameLast modifiedSizeDescription

[DIR]Parent Directory  -  
[   ]info.dcf12-Jun-2024 05:30 282  
[DIR]lconway/12-Jun-2024 05:30 -  
[DIR]merida1/02-Mar-2024 04:00 -  
[DIR]nebbiolo1/12-Jun-2024 05:30 -  
[DIR]palomino3/12-Jun-2024 05:30 -