Back to Multiple platform build/check report for BioC 3.15
ABCDEFGHIJKLMNOPQR[S]TUVWXYZ

This page was generated on 2022-08-05 14:19:35 -0400 (Fri, 05 Aug 2022).

HostnameOSArch (*)R versionInstalled pkgs
nebbiolo1Linux (Ubuntu 20.04.4 LTS)x86_644.2.1 (2022-06-23) -- "Funny-Looking Kid" 4361
merida1macOS 10.14.6 Mojavex86_644.2.1 (2022-06-23) -- "Funny-Looking Kid" 4179
Click on any hostname to see more info about the system (e.g. compilers)      (*) as reported by 'uname -p', except on Windows and Mac OS X

BUILD results for spatialDE on nebbiolo1


To the developers/maintainers of the spatialDE package:
- Please allow up to 24 hours (and sometimes 48 hours) for your latest push to git@git.bioconductor.org:packages/spatialDE.git to
reflect on this report. See How and When does the builder pull? When will my changes propagate? for more information.
- Make sure to use the following settings in order to reproduce any error or warning you see on this page.

raw results

Package 1893/2140HostnameOS / ArchINSTALLBUILDCHECKBUILD BIN
spatialDE 1.2.0  (landing page)
Davide Corso
Snapshot Date: 2022-08-04 13:55:18 -0400 (Thu, 04 Aug 2022)
git_url: https://git.bioconductor.org/packages/spatialDE
git_branch: RELEASE_3_15
git_last_commit: af03d9e
git_last_commit_date: 2022-04-26 12:17:46 -0400 (Tue, 26 Apr 2022)
nebbiolo1Linux (Ubuntu 20.04.4 LTS) / x86_64  OK    OK    OK  UNNEEDED, same version is already published
merida1macOS 10.14.6 Mojave / x86_64  OK    OK    TIMEOUT    OK  

Summary

Package: spatialDE
Version: 1.2.0
Command: /home/biocbuild/bbs-3.15-bioc/R/bin/R CMD build --keep-empty-dirs --no-resave-data spatialDE
StartedAt: 2022-08-04 17:58:21 -0400 (Thu, 04 Aug 2022)
EndedAt: 2022-08-04 18:00:35 -0400 (Thu, 04 Aug 2022)
EllapsedTime: 134.0 seconds
RetCode: 0
Status:   OK  
PackageFile: spatialDE_1.2.0.tar.gz
PackageFileSize: 3.655 MiB

Command output

##############################################################################
##############################################################################
###
### Running command:
###
###   /home/biocbuild/bbs-3.15-bioc/R/bin/R CMD build --keep-empty-dirs --no-resave-data spatialDE
###
##############################################################################
##############################################################################


* checking for file ‘spatialDE/DESCRIPTION’ ... OK
* preparing ‘spatialDE’:
* checking DESCRIPTION meta-information ... OK
* installing the package to build vignettes
* creating vignettes ... OK
* checking for LF line-endings in source and make files and shell scripts
* checking for empty or unneeded directories
* looking to see if a ‘data/datalist’ file should be added
* building ‘spatialDE_1.2.0.tar.gz’