Back to Multiple platform build/check report for BioC 3.18: simplified long |
|
This page was generated on 2024-03-29 11:38:17 -0400 (Fri, 29 Mar 2024).
Hostname | OS | Arch (*) | R version | Installed pkgs |
---|---|---|---|---|
nebbiolo2 | Linux (Ubuntu 22.04.3 LTS) | x86_64 | 4.3.3 (2024-02-29) -- "Angel Food Cake" | 4669 |
palomino4 | Windows Server 2022 Datacenter | x64 | 4.3.3 (2024-02-29 ucrt) -- "Angel Food Cake" | 4404 |
merida1 | macOS 12.7.1 Monterey | x86_64 | 4.3.3 (2024-02-29) -- "Angel Food Cake" | 4427 |
Click on any hostname to see more info about the system (e.g. compilers) (*) as reported by 'uname -p', except on Windows and Mac OS X |
Package 2009/2266 | Hostname | OS / Arch | INSTALL | BUILD | CHECK | BUILD BIN | ||||||||
spatialDE 1.8.1 (landing page) Gabriele Sales
| nebbiolo2 | Linux (Ubuntu 22.04.3 LTS) / x86_64 | OK | OK | OK | |||||||||
palomino4 | Windows Server 2022 Datacenter / x64 | OK | OK | OK | OK | |||||||||
merida1 | macOS 12.7.1 Monterey / x86_64 | OK | OK | OK | OK | |||||||||
kjohnson1 | macOS 13.6.1 Ventura / arm64 | see weekly results here | ||||||||||||
To the developers/maintainers of the spatialDE package: - Allow up to 24 hours (and sometimes 48 hours) for your latest push to git@git.bioconductor.org:packages/spatialDE.git to reflect on this report. See Troubleshooting Build Report for more information. - Use the following Renviron settings to reproduce errors and warnings. - If 'R CMD check' started to fail recently on the Linux builder(s) over a missing dependency, add the missing dependency to 'Suggests:' in your DESCRIPTION file. See Renviron.bioc for more information. |
Package: spatialDE |
Version: 1.8.1 |
Command: /Library/Frameworks/R.framework/Resources/bin/R CMD check --install=check:spatialDE.install-out.txt --library=/Library/Frameworks/R.framework/Resources/library --no-vignettes --timings spatialDE_1.8.1.tar.gz |
StartedAt: 2024-03-28 09:14:57 -0400 (Thu, 28 Mar 2024) |
EndedAt: 2024-03-28 09:26:01 -0400 (Thu, 28 Mar 2024) |
EllapsedTime: 664.5 seconds |
RetCode: 0 |
Status: OK |
CheckDir: spatialDE.Rcheck |
Warnings: 0 |
############################################################################## ############################################################################## ### ### Running command: ### ### /Library/Frameworks/R.framework/Resources/bin/R CMD check --install=check:spatialDE.install-out.txt --library=/Library/Frameworks/R.framework/Resources/library --no-vignettes --timings spatialDE_1.8.1.tar.gz ### ############################################################################## ############################################################################## * using log directory ‘/Users/biocbuild/bbs-3.18-bioc/meat/spatialDE.Rcheck’ * using R version 4.3.3 (2024-02-29) * using platform: x86_64-apple-darwin20 (64-bit) * R was compiled by Apple clang version 14.0.0 (clang-1400.0.29.202) GNU Fortran (GCC) 12.2.0 * running under: macOS Monterey 12.7.1 * using session charset: UTF-8 * using option ‘--no-vignettes’ * checking for file ‘spatialDE/DESCRIPTION’ ... OK * this is package ‘spatialDE’ version ‘1.8.1’ * package encoding: UTF-8 * checking package namespace information ... OK * checking package dependencies ... OK * checking if this is a source package ... OK * checking if there is a namespace ... OK * checking for hidden files and directories ... OK * checking for portable file names ... OK * checking for sufficient/correct file permissions ... OK * checking whether package ‘spatialDE’ can be installed ... NOTE Found the following notes/warnings: Non-staged installation was used See ‘/Users/biocbuild/bbs-3.18-bioc/meat/spatialDE.Rcheck/00install.out’ for details. * checking installed package size ... OK * checking package directory ... OK * checking ‘build’ directory ... OK * checking DESCRIPTION meta-information ... OK * checking top-level files ... OK * checking for left-over files ... OK * checking index information ... OK * checking package subdirectories ... OK * checking R files for non-ASCII characters ... OK * checking R files for syntax errors ... OK * checking whether the package can be loaded ... OK * checking whether the package can be loaded with stated dependencies ... OK * checking whether the package can be unloaded cleanly ... OK * checking whether the namespace can be loaded with stated dependencies ... OK * checking whether the namespace can be unloaded cleanly ... OK * checking dependencies in R code ... OK * checking S3 generic/method consistency ... OK * checking replacement functions ... OK * checking foreign function calls ... OK * checking R code for possible problems ... OK * checking Rd files ... OK * checking Rd metadata ... OK * checking Rd cross-references ... OK * checking for missing documentation entries ... OK * checking for code/documentation mismatches ... OK * checking Rd \usage sections ... OK * checking Rd contents ... OK * checking for unstated dependencies in examples ... OK * checking contents of ‘data’ directory ... OK * checking data for non-ASCII characters ... OK * checking data for ASCII and uncompressed saves ... OK * checking line endings in shell scripts ... OK * checking files in ‘vignettes’ ... OK * checking examples ... OK Examples with CPU (user + system) or elapsed time > 5s user system elapsed spatial_patterns 31.012 4.761 63.830 FSV_sig 12.358 3.052 35.117 modelSearch 3.697 0.472 5.660 multiGenePlots 3.580 0.371 5.371 model_search 2.966 0.439 6.017 * checking for unstated dependencies in ‘tests’ ... OK * checking tests ... Running ‘testthat.R’ OK * checking for unstated dependencies in vignettes ... OK * checking package vignettes in ‘inst/doc’ ... OK * checking running R code from vignettes ... SKIPPED * checking re-building of vignette outputs ... SKIPPED * checking PDF version of manual ... OK * DONE Status: 1 NOTE See ‘/Users/biocbuild/bbs-3.18-bioc/meat/spatialDE.Rcheck/00check.log’ for details.
spatialDE.Rcheck/00install.out
############################################################################## ############################################################################## ### ### Running command: ### ### /Library/Frameworks/R.framework/Resources/bin/R CMD INSTALL spatialDE ### ############################################################################## ############################################################################## * installing to library ‘/Library/Frameworks/R.framework/Versions/4.3-x86_64/Resources/library’ * installing *source* package ‘spatialDE’ ... ** using non-staged installation via StagedInstall field ** R ** data ** inst ** byte-compile and prepare package for lazy loading ** help *** installing help indices ** building package indices ** installing vignettes ** testing if installed package can be loaded * DONE (spatialDE)
spatialDE.Rcheck/tests/testthat.Rout
R version 4.3.3 (2024-02-29) -- "Angel Food Cake" Copyright (C) 2024 The R Foundation for Statistical Computing Platform: x86_64-apple-darwin20 (64-bit) R is free software and comes with ABSOLUTELY NO WARRANTY. You are welcome to redistribute it under certain conditions. Type 'license()' or 'licence()' for distribution details. R is a collaborative project with many contributors. Type 'contributors()' for more information and 'citation()' on how to cite R or R packages in publications. Type 'demo()' for some demos, 'help()' for on-line help, or 'help.start()' for an HTML browser interface to help. Type 'q()' to quit R. > library(testthat) > library(spatialDE) > > test_check("spatialDE") Loading required package: SingleCellExperiment Loading required package: SummarizedExperiment Loading required package: MatrixGenerics Loading required package: matrixStats Attaching package: 'MatrixGenerics' The following objects are masked from 'package:matrixStats': colAlls, colAnyNAs, colAnys, colAvgsPerRowSet, colCollapse, colCounts, colCummaxs, colCummins, colCumprods, colCumsums, colDiffs, colIQRDiffs, colIQRs, colLogSumExps, colMadDiffs, colMads, colMaxs, colMeans2, colMedians, colMins, colOrderStats, colProds, colQuantiles, colRanges, colRanks, colSdDiffs, colSds, colSums2, colTabulates, colVarDiffs, colVars, colWeightedMads, colWeightedMeans, colWeightedMedians, colWeightedSds, colWeightedVars, rowAlls, rowAnyNAs, rowAnys, rowAvgsPerColSet, rowCollapse, rowCounts, rowCummaxs, rowCummins, rowCumprods, rowCumsums, rowDiffs, rowIQRDiffs, rowIQRs, rowLogSumExps, rowMadDiffs, rowMads, rowMaxs, rowMeans2, rowMedians, rowMins, rowOrderStats, rowProds, rowQuantiles, rowRanges, rowRanks, rowSdDiffs, rowSds, rowSums2, rowTabulates, rowVarDiffs, rowVars, rowWeightedMads, rowWeightedMeans, rowWeightedMedians, rowWeightedSds, rowWeightedVars Loading required package: GenomicRanges Loading required package: stats4 Loading required package: BiocGenerics Attaching package: 'BiocGenerics' The following objects are masked from 'package:stats': IQR, mad, sd, var, xtabs The following objects are masked from 'package:base': Filter, Find, Map, Position, Reduce, anyDuplicated, aperm, append, as.data.frame, basename, cbind, colnames, dirname, do.call, duplicated, eval, evalq, get, grep, grepl, intersect, is.unsorted, lapply, mapply, match, mget, order, paste, pmax, pmax.int, pmin, pmin.int, rank, rbind, rownames, sapply, setdiff, sort, table, tapply, union, unique, unsplit, which.max, which.min Loading required package: S4Vectors Attaching package: 'S4Vectors' The following object is masked from 'package:utils': findMatches The following objects are masked from 'package:base': I, expand.grid, unname Loading required package: IRanges Loading required package: GenomeInfoDb Loading required package: Biobase Welcome to Bioconductor Vignettes contain introductory material; view with 'browseVignettes()'. To cite Bioconductor, see 'citation("Biobase")', and for packages 'citation("pkgname")'. Attaching package: 'Biobase' The following object is masked from 'package:MatrixGenerics': rowMedians The following objects are masked from 'package:matrixStats': anyMissing, rowMedians Models: 0%| | 0/10 [00:00<?, ?it/s] 0%| | 0/100 [00:00<?, ?it/s][A 11%|█ | 11/100 [00:00<00:00, 103.51it/s][A 22%|██▏ | 22/100 [00:00<00:00, 106.72it/s][A 34%|███▍ | 34/100 [00:00<00:00, 112.47it/s][A 46%|████▌ | 46/100 [00:00<00:00, 102.51it/s][A 58%|█████▊ | 58/100 [00:00<00:00, 105.99it/s][A 69%|██████▉ | 69/100 [00:00<00:00, 104.86it/s][A 81%|████████ | 81/100 [00:00<00:00, 107.08it/s][A 92%|█████████▏| 92/100 [00:00<00:00, 106.17it/s][A [A Models: 10%|█ | 1/10 [00:00<00:08, 1.06it/s] 0%| | 0/100 [00:00<?, ?it/s][A 10%|█ | 10/100 [00:00<00:00, 91.09it/s][A 20%|██ | 20/100 [00:00<00:01, 77.45it/s][A 28%|██▊ | 28/100 [00:00<00:00, 73.58it/s][A 36%|███▌ | 36/100 [00:00<00:00, 73.97it/s][A 45%|████▌ | 45/100 [00:00<00:00, 78.18it/s][A 53%|█████▎ | 53/100 [00:00<00:00, 73.95it/s][A 62%|██████▏ | 62/100 [00:00<00:00, 77.87it/s][A 70%|███████ | 70/100 [00:00<00:00, 75.19it/s][A 78%|███████▊ | 78/100 [00:01<00:00, 72.31it/s][A 86%|████████▌ | 86/100 [00:01<00:00, 61.44it/s][A 93%|█████████▎| 93/100 [00:01<00:00, 62.94it/s][A [A Models: 20%|██ | 2/10 [00:02<00:09, 1.21s/it] 0%| | 0/100 [00:00<?, ?it/s][A 10%|█ | 10/100 [00:00<00:01, 86.25it/s][A 19%|█▉ | 19/100 [00:00<00:00, 82.87it/s][A 28%|██▊ | 28/100 [00:00<00:00, 78.20it/s][A 36%|███▌ | 36/100 [00:00<00:00, 75.58it/s][A 44%|████▍ | 44/100 [00:00<00:00, 72.94it/s][A 52%|█████▏ | 52/100 [00:00<00:00, 71.20it/s][A 60%|██████ | 60/100 [00:00<00:00, 73.05it/s][A 68%|██████▊ | 68/100 [00:00<00:00, 74.16it/s][A 76%|███████▌ | 76/100 [00:01<00:00, 70.98it/s][A 84%|████████▍ | 84/100 [00:01<00:00, 70.79it/s][A 92%|█████████▏| 92/100 [00:01<00:00, 68.70it/s][A 100%|██████████| 100/100 [00:01<00:00, 71.55it/s][A [A Models: 30%|███ | 3/10 [00:03<00:09, 1.29s/it] 0%| | 0/100 [00:00<?, ?it/s][A 8%|▊ | 8/100 [00:00<00:01, 76.88it/s][A 16%|█▌ | 16/100 [00:00<00:01, 75.42it/s][A 24%|██▍ | 24/100 [00:00<00:01, 72.14it/s][A 32%|███▏ | 32/100 [00:00<00:00, 71.33it/s][A 40%|████ | 40/100 [00:00<00:00, 69.92it/s][A 48%|████▊ | 48/100 [00:00<00:00, 68.60it/s][A 56%|█████▌ | 56/100 [00:00<00:00, 69.72it/s][A 64%|██████▍ | 64/100 [00:00<00:00, 70.19it/s][A 72%|███████▏ | 72/100 [00:01<00:00, 67.16it/s][A 79%|███████▉ | 79/100 [00:01<00:00, 66.83it/s][A 87%|████████▋ | 87/100 [00:01<00:00, 70.04it/s][A 95%|█████████▌| 95/100 [00:01<00:00, 70.43it/s][A [A Models: 40%|████ | 4/10 [00:05<00:08, 1.35s/it] 0%| | 0/100 [00:00<?, ?it/s][A 8%|▊ | 8/100 [00:00<00:01, 71.10it/s][A 16%|█▌ | 16/100 [00:00<00:01, 66.97it/s][A 24%|██▍ | 24/100 [00:00<00:01, 68.18it/s][A 31%|███ | 31/100 [00:00<00:01, 68.68it/s][A 38%|███▊ | 38/100 [00:00<00:00, 68.88it/s][A 46%|████▌ | 46/100 [00:00<00:00, 70.20it/s][A 54%|█████▍ | 54/100 [00:00<00:00, 70.66it/s][A 62%|██████▏ | 62/100 [00:00<00:00, 71.56it/s][A 70%|███████ | 70/100 [00:01<00:00, 69.54it/s][A 77%|███████▋ | 77/100 [00:01<00:00, 69.54it/s][A 85%|████████▌ | 85/100 [00:01<00:00, 71.18it/s][A 93%|█████████▎| 93/100 [00:01<00:00, 71.11it/s][A [A Models: 50%|█████ | 5/10 [00:06<00:06, 1.38s/it] 0%| | 0/100 [00:00<?, ?it/s][A 8%|▊ | 8/100 [00:00<00:01, 74.67it/s][A 16%|█▌ | 16/100 [00:00<00:01, 70.36it/s][A 24%|██▍ | 24/100 [00:00<00:01, 65.16it/s][A 31%|███ | 31/100 [00:00<00:01, 65.29it/s][A 39%|███▉ | 39/100 [00:00<00:00, 69.01it/s][A 47%|████▋ | 47/100 [00:00<00:00, 72.00it/s][A 55%|█████▌ | 55/100 [00:00<00:00, 72.59it/s][A 63%|██████▎ | 63/100 [00:00<00:00, 72.79it/s][A 71%|███████ | 71/100 [00:01<00:00, 71.73it/s][A 79%|███████▉ | 79/100 [00:01<00:00, 69.05it/s][A 87%|████████▋ | 87/100 [00:01<00:00, 71.15it/s][A 95%|█████████▌| 95/100 [00:01<00:00, 70.08it/s][A [A Models: 60%|██████ | 6/10 [00:08<00:05, 1.40s/it] 0%| | 0/100 [00:00<?, ?it/s][A 8%|▊ | 8/100 [00:00<00:01, 79.20it/s][A 16%|█▌ | 16/100 [00:00<00:01, 73.84it/s][A 24%|██▍ | 24/100 [00:00<00:01, 48.96it/s][A 30%|███ | 30/100 [00:00<00:01, 48.33it/s][A 36%|███▌ | 36/100 [00:00<00:01, 50.07it/s][A 43%|████▎ | 43/100 [00:00<00:01, 55.54it/s][A 51%|█████ | 51/100 [00:00<00:00, 60.92it/s][A 58%|█████▊ | 58/100 [00:01<00:00, 61.56it/s][A 65%|██████▌ | 65/100 [00:01<00:00, 63.24it/s][A 72%|███████▏ | 72/100 [00:01<00:00, 63.29it/s][A 79%|███████▉ | 79/100 [00:01<00:00, 61.53it/s][A 87%|████████▋ | 87/100 [00:01<00:00, 65.93it/s][A 95%|█████████▌| 95/100 [00:01<00:00, 67.41it/s][A [A Models: 70%|███████ | 7/10 [00:09<00:04, 1.48s/it] 0%| | 0/100 [00:00<?, ?it/s][A 8%|▊ | 8/100 [00:00<00:01, 77.82it/s][A 16%|█▌ | 16/100 [00:00<00:01, 74.34it/s][A 24%|██▍ | 24/100 [00:00<00:01, 70.00it/s][A 32%|███▏ | 32/100 [00:00<00:01, 50.01it/s][A 40%|████ | 40/100 [00:00<00:01, 56.63it/s][A 48%|████▊ | 48/100 [00:00<00:00, 60.77it/s][A 56%|█████▌ | 56/100 [00:00<00:00, 65.85it/s][A 64%|██████▍ | 64/100 [00:00<00:00, 68.32it/s][A 72%|███████▏ | 72/100 [00:01<00:00, 69.44it/s][A 80%|████████ | 80/100 [00:01<00:00, 67.46it/s][A 88%|████████▊ | 88/100 [00:01<00:00, 69.07it/s][A 96%|█████████▌| 96/100 [00:01<00:00, 59.10it/s][A [A Models: 80%|████████ | 8/10 [00:11<00:03, 1.51s/it] 0%| | 0/100 [00:00<?, ?it/s][A 8%|▊ | 8/100 [00:00<00:01, 75.74it/s][A 16%|█▌ | 16/100 [00:00<00:01, 74.24it/s][A 24%|██▍ | 24/100 [00:00<00:01, 71.40it/s][A 33%|███▎ | 33/100 [00:00<00:00, 75.42it/s][A 42%|████▏ | 42/100 [00:00<00:00, 78.15it/s][A 50%|█████ | 50/100 [00:00<00:00, 76.17it/s][A 58%|█████▊ | 58/100 [00:00<00:00, 74.71it/s][A 67%|██████▋ | 67/100 [00:00<00:00, 76.34it/s][A 75%|███████▌ | 75/100 [00:00<00:00, 74.63it/s][A 83%|████████▎ | 83/100 [00:01<00:00, 74.02it/s][A 91%|█████████ | 91/100 [00:01<00:00, 74.80it/s][A 99%|█████████▉| 99/100 [00:01<00:00, 74.60it/s][A [A Models: 90%|█████████ | 9/10 [00:12<00:01, 1.46s/it] 0%| | 0/100 [00:00<?, ?it/s][A 9%|▉ | 9/100 [00:00<00:01, 82.27it/s][A 18%|█▊ | 18/100 [00:00<00:00, 82.80it/s][A 27%|██▋ | 27/100 [00:00<00:00, 81.06it/s][A 36%|███▌ | 36/100 [00:00<00:00, 82.03it/s][A 45%|████▌ | 45/100 [00:00<00:00, 77.62it/s][A 54%|█████▍ | 54/100 [00:00<00:00, 79.19it/s][A 63%|██████▎ | 63/100 [00:00<00:00, 80.77it/s][A 72%|███████▏ | 72/100 [00:00<00:00, 78.34it/s][A 80%|████████ | 80/100 [00:01<00:00, 77.72it/s][A 89%|████████▉ | 89/100 [00:01<00:00, 79.59it/s][A 98%|█████████▊| 98/100 [00:01<00:00, 80.83it/s][A [A Models: 100%|██████████| 10/10 [00:13<00:00, 1.39s/it] Models: 100%|██████████| 10/10 [00:13<00:00, 1.38s/it] Models: 0%| | 0/10 [00:00<?, ?it/s] 0%| | 0/100 [00:00<?, ?it/s][A 11%|█ | 11/100 [00:00<00:00, 105.19it/s][A 24%|██▍ | 24/100 [00:00<00:00, 118.62it/s][A 36%|███▌ | 36/100 [00:00<00:00, 103.05it/s][A 47%|████▋ | 47/100 [00:00<00:00, 103.91it/s][A 58%|█████▊ | 58/100 [00:00<00:00, 100.62it/s][A 69%|██████▉ | 69/100 [00:00<00:00, 99.09it/s] [A 79%|███████▉ | 79/100 [00:00<00:00, 95.60it/s][A 90%|█████████ | 90/100 [00:00<00:00, 97.80it/s][A [A Models: 10%|█ | 1/10 [00:00<00:08, 1.01it/s] 0%| | 0/100 [00:00<?, ?it/s][A 11%|█ | 11/100 [00:00<00:00, 96.58it/s][A 22%|██▏ | 22/100 [00:00<00:00, 97.29it/s][A 32%|███▏ | 32/100 [00:00<00:00, 80.16it/s][A 41%|████ | 41/100 [00:00<00:00, 75.82it/s][A 49%|████▉ | 49/100 [00:00<00:00, 74.20it/s][A 58%|█████▊ | 58/100 [00:00<00:00, 74.84it/s][A 66%|██████▌ | 66/100 [00:00<00:00, 76.26it/s][A 74%|███████▍ | 74/100 [00:00<00:00, 75.86it/s][A 82%|████████▏ | 82/100 [00:01<00:00, 76.24it/s][A 90%|█████████ | 90/100 [00:01<00:00, 74.22it/s][A 99%|█████████▉| 99/100 [00:01<00:00, 75.98it/s][A [A Models: 20%|██ | 2/10 [00:02<00:09, 1.17s/it] 0%| | 0/100 [00:00<?, ?it/s][A 11%|█ | 11/100 [00:00<00:00, 101.62it/s][A 22%|██▏ | 22/100 [00:00<00:00, 92.11it/s] [A 32%|███▏ | 32/100 [00:00<00:00, 80.82it/s][A 41%|████ | 41/100 [00:00<00:00, 74.19it/s][A 49%|████▉ | 49/100 [00:00<00:00, 73.17it/s][A 58%|█████▊ | 58/100 [00:00<00:00, 75.10it/s][A 66%|██████▌ | 66/100 [00:00<00:00, 74.26it/s][A 74%|███████▍ | 74/100 [00:00<00:00, 72.41it/s][A 82%|████████▏ | 82/100 [00:01<00:00, 72.87it/s][A 90%|█████████ | 90/100 [00:01<00:00, 71.49it/s][A 98%|█████████▊| 98/100 [00:01<00:00, 72.58it/s][A [A Models: 30%|███ | 3/10 [00:03<00:08, 1.25s/it] 0%| | 0/100 [00:00<?, ?it/s][A 11%|█ | 11/100 [00:00<00:00, 106.14it/s][A 22%|██▏ | 22/100 [00:00<00:00, 86.86it/s] [A 31%|███ | 31/100 [00:00<00:00, 76.68it/s][A 39%|███▉ | 39/100 [00:00<00:00, 73.62it/s][A 47%|████▋ | 47/100 [00:00<00:00, 72.11it/s][A 55%|█████▌ | 55/100 [00:00<00:00, 70.95it/s][A 63%|██████▎ | 63/100 [00:00<00:00, 71.83it/s][A 71%|███████ | 71/100 [00:00<00:00, 71.68it/s][A 79%|███████▉ | 79/100 [00:01<00:00, 71.51it/s][A 87%|████████▋ | 87/100 [00:01<00:00, 71.43it/s][A 95%|█████████▌| 95/100 [00:01<00:00, 71.84it/s][A [A Models: 40%|████ | 4/10 [00:05<00:07, 1.30s/it] 0%| | 0/100 [00:00<?, ?it/s][A 11%|█ | 11/100 [00:00<00:00, 104.95it/s][A 22%|██▏ | 22/100 [00:00<00:00, 84.01it/s] [A 31%|███ | 31/100 [00:00<00:00, 76.14it/s][A 39%|███▉ | 39/100 [00:00<00:00, 73.37it/s][A 47%|████▋ | 47/100 [00:00<00:00, 73.63it/s][A 55%|█████▌ | 55/100 [00:00<00:00, 71.00it/s][A 63%|██████▎ | 63/100 [00:00<00:00, 71.50it/s][A 71%|███████ | 71/100 [00:00<00:00, 68.96it/s][A 79%|███████▉ | 79/100 [00:01<00:00, 69.80it/s][A 87%|████████▋ | 87/100 [00:01<00:00, 68.43it/s][A 94%|█████████▍| 94/100 [00:01<00:00, 68.62it/s][A [A Models: 50%|█████ | 5/10 [00:06<00:06, 1.33s/it] 0%| | 0/100 [00:00<?, ?it/s][A 11%|█ | 11/100 [00:00<00:00, 101.32it/s][A 22%|██▏ | 22/100 [00:00<00:00, 87.17it/s] [A 31%|███ | 31/100 [00:00<00:00, 78.21it/s][A 39%|███▉ | 39/100 [00:00<00:00, 74.33it/s][A 47%|████▋ | 47/100 [00:00<00:00, 75.94it/s][A 55%|█████▌ | 55/100 [00:00<00:00, 71.26it/s][A 63%|██████▎ | 63/100 [00:00<00:00, 72.01it/s][A 71%|███████ | 71/100 [00:00<00:00, 70.20it/s][A 79%|███████▉ | 79/100 [00:01<00:00, 71.66it/s][A 87%|████████▋ | 87/100 [00:01<00:00, 69.95it/s][A 95%|█████████▌| 95/100 [00:01<00:00, 71.57it/s][A [A Models: 60%|██████ | 6/10 [00:07<00:05, 1.34s/it] 0%| | 0/100 [00:00<?, ?it/s][A 11%|█ | 11/100 [00:00<00:00, 103.92it/s][A 22%|██▏ | 22/100 [00:00<00:00, 88.04it/s] [A 31%|███ | 31/100 [00:00<00:00, 79.47it/s][A 40%|████ | 40/100 [00:00<00:00, 75.36it/s][A 48%|████▊ | 48/100 [00:00<00:00, 76.18it/s][A 56%|█████▌ | 56/100 [00:00<00:00, 72.33it/s][A 64%|██████▍ | 64/100 [00:00<00:00, 72.83it/s][A 72%|███████▏ | 72/100 [00:00<00:00, 72.91it/s][A 80%|████████ | 80/100 [00:01<00:00, 73.61it/s][A 88%|████████▊ | 88/100 [00:01<00:00, 73.28it/s][A 97%|█████████▋| 97/100 [00:01<00:00, 75.29it/s][A [A Models: 70%|███████ | 7/10 [00:09<00:04, 1.34s/it] 0%| | 0/100 [00:00<?, ?it/s][A 11%|█ | 11/100 [00:00<00:00, 96.12it/s][A 21%|██ | 21/100 [00:00<00:00, 82.87it/s][A 30%|███ | 30/100 [00:00<00:00, 76.81it/s][A 38%|███▊ | 38/100 [00:00<00:00, 75.50it/s][A 46%|████▌ | 46/100 [00:00<00:00, 75.24it/s][A 54%|█████▍ | 54/100 [00:00<00:00, 73.49it/s][A 62%|██████▏ | 62/100 [00:00<00:00, 71.85it/s][A 70%|███████ | 70/100 [00:00<00:00, 71.78it/s][A 78%|███████▊ | 78/100 [00:01<00:00, 71.77it/s][A 86%|████████▌ | 86/100 [00:01<00:00, 71.96it/s][A 94%|█████████▍| 94/100 [00:01<00:00, 71.72it/s][A [A Models: 80%|████████ | 8/10 [00:10<00:02, 1.34s/it] 0%| | 0/100 [00:00<?, ?it/s][A 11%|█ | 11/100 [00:00<00:00, 101.80it/s][A 22%|██▏ | 22/100 [00:00<00:00, 87.87it/s] [A 31%|███ | 31/100 [00:00<00:00, 81.46it/s][A 40%|████ | 40/100 [00:00<00:00, 77.16it/s][A 48%|████▊ | 48/100 [00:00<00:00, 77.19it/s][A 56%|█████▌ | 56/100 [00:00<00:00, 74.89it/s][A 64%|██████▍ | 64/100 [00:00<00:00, 74.08it/s][A 72%|███████▏ | 72/100 [00:00<00:00, 73.24it/s][A 80%|████████ | 80/100 [00:01<00:00, 74.63it/s][A 88%|████████▊ | 88/100 [00:01<00:00, 76.15it/s][A 97%|█████████▋| 97/100 [00:01<00:00, 77.71it/s][A [A Models: 90%|█████████ | 9/10 [00:11<00:01, 1.33s/it] 0%| | 0/100 [00:00<?, ?it/s][A 11%|█ | 11/100 [00:00<00:00, 97.21it/s][A 21%|██ | 21/100 [00:00<00:00, 88.46it/s][A 30%|███ | 30/100 [00:00<00:00, 82.34it/s][A 39%|███▉ | 39/100 [00:00<00:00, 77.89it/s][A 48%|████▊ | 48/100 [00:00<00:00, 78.67it/s][A 56%|█████▌ | 56/100 [00:00<00:00, 78.05it/s][A 64%|██████▍ | 64/100 [00:00<00:00, 77.03it/s][A 72%|███████▏ | 72/100 [00:00<00:00, 76.93it/s][A 81%|████████ | 81/100 [00:01<00:00, 79.15it/s][A 89%|████████▉ | 89/100 [00:01<00:00, 76.54it/s][A 98%|█████████▊| 98/100 [00:01<00:00, 79.76it/s][A [A Models: 100%|██████████| 10/10 [00:12<00:00, 1.31s/it] Models: 100%|██████████| 10/10 [00:12<00:00, 1.30s/it] /private/var/cache/basilisk/1.14.3/spatialDE/1.8.1/env/lib/python3.9/site-packages/pandas/core/internals/blocks.py:351: RuntimeWarning: invalid value encountered in log result = func(self.values, **kwargs) Models: 0%| | 0/10 [00:00<?, ?it/s] 0%| | 0/100 [00:00<?, ?it/s][A 14%|█▍ | 14/100 [00:00<00:00, 139.97it/s][A 28%|██▊ | 28/100 [00:00<00:00, 109.86it/s][A 40%|████ | 40/100 [00:00<00:00, 105.22it/s][A 53%|█████▎ | 53/100 [00:00<00:00, 112.13it/s][A 65%|██████▌ | 65/100 [00:00<00:00, 105.81it/s][A 77%|███████▋ | 77/100 [00:00<00:00, 107.58it/s][A 90%|█████████ | 90/100 [00:00<00:00, 111.58it/s][A [A Models: 10%|█ | 1/10 [00:00<00:08, 1.10it/s] 0%| | 0/100 [00:00<?, ?it/s][A 12%|█▏ | 12/100 [00:00<00:00, 111.31it/s][A 24%|██▍ | 24/100 [00:00<00:00, 93.50it/s] [A 34%|███▍ | 34/100 [00:00<00:00, 91.57it/s][A 44%|████▍ | 44/100 [00:00<00:00, 88.60it/s][A 53%|█████▎ | 53/100 [00:00<00:00, 86.30it/s][A 62%|██████▏ | 62/100 [00:00<00:00, 85.07it/s][A 71%|███████ | 71/100 [00:00<00:00, 83.09it/s][A 80%|████████ | 80/100 [00:00<00:00, 83.41it/s][A 89%|████████▉ | 89/100 [00:01<00:00, 79.99it/s][A 98%|█████████▊| 98/100 [00:01<00:00, 81.73it/s][A [A Models: 20%|██ | 2/10 [00:02<00:08, 1.07s/it] 0%| | 0/100 [00:00<?, ?it/s][A 12%|█▏ | 12/100 [00:00<00:00, 113.46it/s][A 24%|██▍ | 24/100 [00:00<00:00, 87.20it/s] [A 34%|███▍ | 34/100 [00:00<00:00, 84.59it/s][A 43%|████▎ | 43/100 [00:00<00:00, 84.11it/s][A 52%|█████▏ | 52/100 [00:00<00:00, 82.73it/s][A 61%|██████ | 61/100 [00:00<00:00, 80.61it/s][A 70%|███████ | 70/100 [00:00<00:00, 80.37it/s][A 79%|███████▉ | 79/100 [00:00<00:00, 73.08it/s][A 87%|████████▋ | 87/100 [00:01<00:00, 74.02it/s][A 96%|█████████▌| 96/100 [00:01<00:00, 76.72it/s][A [A Models: 30%|███ | 3/10 [00:03<00:08, 1.16s/it] 0%| | 0/100 [00:00<?, ?it/s][A 11%|█ | 11/100 [00:00<00:00, 97.73it/s][A 21%|██ | 21/100 [00:00<00:00, 84.10it/s][A 30%|███ | 30/100 [00:00<00:00, 77.95it/s][A 38%|███▊ | 38/100 [00:00<00:00, 71.95it/s][A 46%|████▌ | 46/100 [00:00<00:00, 72.58it/s][A 54%|█████▍ | 54/100 [00:00<00:00, 73.14it/s][A 62%|██████▏ | 62/100 [00:00<00:00, 65.78it/s][A 70%|███████ | 70/100 [00:00<00:00, 68.52it/s][A 78%|███████▊ | 78/100 [00:01<00:00, 69.50it/s][A 86%|████████▌ | 86/100 [00:01<00:00, 68.92it/s][A 93%|█████████▎| 93/100 [00:01<00:00, 63.19it/s][A [A Models: 40%|████ | 4/10 [00:04<00:07, 1.26s/it] 0%| | 0/100 [00:00<?, ?it/s][A 11%|█ | 11/100 [00:00<00:00, 101.21it/s][A 22%|██▏ | 22/100 [00:00<00:01, 68.79it/s] [A 30%|███ | 30/100 [00:00<00:01, 70.00it/s][A 38%|███▊ | 38/100 [00:00<00:00, 70.71it/s][A 46%|████▌ | 46/100 [00:00<00:00, 71.87it/s][A 54%|█████▍ | 54/100 [00:00<00:00, 71.10it/s][A 62%|██████▏ | 62/100 [00:00<00:00, 71.36it/s][A 70%|███████ | 70/100 [00:00<00:00, 70.78it/s][A 78%|███████▊ | 78/100 [00:01<00:00, 69.92it/s][A 86%|████████▌ | 86/100 [00:01<00:00, 71.52it/s][A 95%|█████████▌| 95/100 [00:01<00:00, 74.62it/s][A [A Models: 50%|█████ | 5/10 [00:06<00:06, 1.31s/it] 0%| | 0/100 [00:00<?, ?it/s][A 11%|█ | 11/100 [00:00<00:00, 97.63it/s][A 21%|██ | 21/100 [00:00<00:00, 82.15it/s][A 30%|███ | 30/100 [00:00<00:00, 76.16it/s][A 38%|███▊ | 38/100 [00:00<00:00, 76.65it/s][A 46%|████▌ | 46/100 [00:00<00:00, 75.69it/s][A 54%|█████▍ | 54/100 [00:00<00:00, 75.37it/s][A 62%|██████▏ | 62/100 [00:00<00:00, 74.24it/s][A 70%|███████ | 70/100 [00:00<00:00, 74.88it/s][A 78%|███████▊ | 78/100 [00:01<00:00, 74.29it/s][A 86%|████████▌ | 86/100 [00:01<00:00, 73.52it/s][A 95%|█████████▌| 95/100 [00:01<00:00, 77.21it/s][A [A Models: 60%|██████ | 6/10 [00:07<00:05, 1.30s/it] 0%| | 0/100 [00:00<?, ?it/s][A 11%|█ | 11/100 [00:00<00:00, 107.08it/s][A 22%|██▏ | 22/100 [00:00<00:00, 89.15it/s] [A 32%|███▏ | 32/100 [00:00<00:00, 80.67it/s][A 41%|████ | 41/100 [00:00<00:00, 83.57it/s][A 50%|█████ | 50/100 [00:00<00:00, 83.55it/s][A 59%|█████▉ | 59/100 [00:00<00:00, 79.70it/s][A 68%|██████▊ | 68/100 [00:00<00:00, 82.03it/s][A 77%|███████▋ | 77/100 [00:00<00:00, 79.65it/s][A 86%|████████▌ | 86/100 [00:01<00:00, 78.88it/s][A 95%|█████████▌| 95/100 [00:01<00:00, 79.63it/s][A [A Models: 70%|███████ | 7/10 [00:08<00:03, 1.28s/it] 0%| | 0/100 [00:00<?, ?it/s][A 10%|█ | 10/100 [00:00<00:00, 99.80it/s][A 20%|██ | 20/100 [00:00<00:00, 87.01it/s][A 29%|██▉ | 29/100 [00:00<00:00, 78.86it/s][A 37%|███▋ | 37/100 [00:00<00:00, 76.71it/s][A 45%|████▌ | 45/100 [00:00<00:00, 77.29it/s][A 53%|█████▎ | 53/100 [00:00<00:00, 74.27it/s][A 61%|██████ | 61/100 [00:00<00:00, 71.17it/s][A 69%|██████▉ | 69/100 [00:00<00:00, 71.66it/s][A 77%|███████▋ | 77/100 [00:01<00:00, 70.04it/s][A 86%|████████▌ | 86/100 [00:01<00:00, 73.44it/s][A 94%|█████████▍| 94/100 [00:01<00:00, 75.16it/s][A [A Models: 80%|████████ | 8/10 [00:10<00:02, 1.30s/it] 0%| | 0/100 [00:00<?, ?it/s][A 11%|█ | 11/100 [00:00<00:00, 107.77it/s][A 22%|██▏ | 22/100 [00:00<00:00, 87.98it/s] [A 32%|███▏ | 32/100 [00:00<00:00, 83.38it/s][A 41%|████ | 41/100 [00:00<00:00, 78.19it/s][A 49%|████▉ | 49/100 [00:00<00:00, 75.22it/s][A 57%|█████▋ | 57/100 [00:00<00:00, 75.04it/s][A 65%|██████▌ | 65/100 [00:00<00:00, 76.26it/s][A 73%|███████▎ | 73/100 [00:00<00:00, 77.20it/s][A 81%|████████ | 81/100 [00:01<00:00, 77.15it/s][A 89%|████████▉ | 89/100 [00:01<00:00, 77.84it/s][A 99%|█████████▉| 99/100 [00:01<00:00, 82.40it/s][A [A Models: 90%|█████████ | 9/10 [00:11<00:01, 1.30s/it] 0%| | 0/100 [00:00<?, ?it/s][A 10%|█ | 10/100 [00:00<00:01, 89.23it/s][A 19%|█▉ | 19/100 [00:00<00:00, 87.65it/s][A 28%|██▊ | 28/100 [00:00<00:00, 84.94it/s][A 37%|███▋ | 37/100 [00:00<00:00, 82.60it/s][A 46%|████▌ | 46/100 [00:00<00:00, 83.28it/s][A 55%|█████▌ | 55/100 [00:00<00:00, 79.11it/s][A 64%|██████▍ | 64/100 [00:00<00:00, 81.41it/s][A 73%|███████▎ | 73/100 [00:00<00:00, 80.84it/s][A 82%|████████▏ | 82/100 [00:01<00:00, 79.98it/s][A 92%|█████████▏| 92/100 [00:01<00:00, 83.68it/s][A [A Models: 100%|██████████| 10/10 [00:12<00:00, 1.27s/it] Models: 100%|██████████| 10/10 [00:12<00:00, 1.25s/it] Models: 0%| | 0/10 [00:00<?, ?it/s] 0%| | 0/100 [00:00<?, ?it/s][A 14%|█▍ | 14/100 [00:00<00:00, 137.32it/s][A 28%|██▊ | 28/100 [00:00<00:00, 112.58it/s][A 40%|████ | 40/100 [00:00<00:00, 105.70it/s][A 52%|█████▏ | 52/100 [00:00<00:00, 110.26it/s][A 65%|██████▌ | 65/100 [00:00<00:00, 114.23it/s][A 77%|███████▋ | 77/100 [00:00<00:00, 110.83it/s][A 90%|█████████ | 90/100 [00:00<00:00, 114.63it/s][A [A Models: 10%|█ | 1/10 [00:00<00:08, 1.11it/s] 0%| | 0/100 [00:00<?, ?it/s][A 12%|█▏ | 12/100 [00:00<00:00, 111.80it/s][A 24%|██▍ | 24/100 [00:00<00:00, 95.75it/s] [A 34%|███▍ | 34/100 [00:00<00:00, 93.55it/s][A 44%|████▍ | 44/100 [00:00<00:00, 90.30it/s][A 54%|█████▍ | 54/100 [00:00<00:00, 88.00it/s][A 63%|██████▎ | 63/100 [00:00<00:00, 86.81it/s][A 72%|███████▏ | 72/100 [00:00<00:00, 87.58it/s][A 81%|████████ | 81/100 [00:00<00:00, 85.43it/s][A 90%|█████████ | 90/100 [00:01<00:00, 83.71it/s][A 99%|█████████▉| 99/100 [00:01<00:00, 83.34it/s][A [A Models: 20%|██ | 2/10 [00:02<00:08, 1.05s/it] 0%| | 0/100 [00:00<?, ?it/s][A 11%|█ | 11/100 [00:00<00:00, 109.05it/s][A 22%|██▏ | 22/100 [00:00<00:00, 84.62it/s] [A 31%|███ | 31/100 [00:00<00:00, 79.36it/s][A 40%|████ | 40/100 [00:00<00:00, 76.73it/s][A 48%|████▊ | 48/100 [00:00<00:00, 77.44it/s][A 56%|█████▌ | 56/100 [00:00<00:00, 74.34it/s][A 65%|██████▌ | 65/100 [00:00<00:00, 77.16it/s][A 73%|███████▎ | 73/100 [00:00<00:00, 75.98it/s][A 81%|████████ | 81/100 [00:01<00:00, 74.89it/s][A 90%|█████████ | 90/100 [00:01<00:00, 78.23it/s][A 98%|█████████▊| 98/100 [00:01<00:00, 77.89it/s][A [A Models: 30%|███ | 3/10 [00:03<00:08, 1.16s/it] 0%| | 0/100 [00:00<?, ?it/s][A 11%|█ | 11/100 [00:00<00:00, 100.62it/s][A 22%|██▏ | 22/100 [00:00<00:00, 83.89it/s] [A 31%|███ | 31/100 [00:00<00:00, 74.75it/s][A 39%|███▉ | 39/100 [00:00<00:00, 73.46it/s][A 47%|████▋ | 47/100 [00:00<00:00, 63.00it/s][A 54%|█████▍ | 54/100 [00:00<00:00, 60.39it/s][A 62%|██████▏ | 62/100 [00:00<00:00, 65.41it/s][A 70%|███████ | 70/100 [00:01<00:00, 69.34it/s][A 78%|███████▊ | 78/100 [00:01<00:00, 72.12it/s][A 86%|████████▌ | 86/100 [00:01<00:00, 74.36it/s][A 95%|█████████▌| 95/100 [00:01<00:00, 77.01it/s][A [A Models: 40%|████ | 4/10 [00:04<00:07, 1.25s/it] 0%| | 0/100 [00:00<?, ?it/s][A 11%|█ | 11/100 [00:00<00:00, 105.68it/s][A 22%|██▏ | 22/100 [00:00<00:00, 84.14it/s] [A 31%|███ | 31/100 [00:00<00:00, 79.68it/s][A 40%|████ | 40/100 [00:00<00:00, 78.74it/s][A 48%|████▊ | 48/100 [00:00<00:00, 78.49it/s][A 56%|█████▌ | 56/100 [00:00<00:00, 77.47it/s][A 65%|██████▌ | 65/100 [00:00<00:00, 78.12it/s][A 73%|███████▎ | 73/100 [00:00<00:00, 77.77it/s][A 81%|████████ | 81/100 [00:01<00:00, 75.41it/s][A 89%|████████▉ | 89/100 [00:01<00:00, 73.57it/s][A 99%|█████████▉| 99/100 [00:01<00:00, 78.73it/s][A [A Models: 50%|█████ | 5/10 [00:06<00:06, 1.26s/it] 0%| | 0/100 [00:00<?, ?it/s][A 11%|█ | 11/100 [00:00<00:00, 100.99it/s][A 22%|██▏ | 22/100 [00:00<00:00, 81.75it/s] [A 31%|███ | 31/100 [00:00<00:00, 76.14it/s][A 39%|███▉ | 39/100 [00:00<00:00, 73.86it/s][A 47%|████▋ | 47/100 [00:00<00:00, 74.11it/s][A 55%|█████▌ | 55/100 [00:00<00:00, 73.83it/s][A 63%|██████▎ | 63/100 [00:00<00:00, 74.54it/s][A 71%|███████ | 71/100 [00:00<00:00, 73.65it/s][A 79%|███████▉ | 79/100 [00:01<00:00, 72.13it/s][A 87%|████████▋ | 87/100 [00:01<00:00, 71.09it/s][A 95%|█████████▌| 95/100 [00:01<00:00, 70.20it/s][A [A Models: 60%|██████ | 6/10 [00:07<00:05, 1.30s/it] 0%| | 0/100 [00:00<?, ?it/s][A 10%|█ | 10/100 [00:00<00:00, 92.82it/s][A 20%|██ | 20/100 [00:00<00:00, 80.40it/s][A 29%|██▉ | 29/100 [00:00<00:00, 75.53it/s][A 37%|███▋ | 37/100 [00:00<00:00, 75.12it/s][A 46%|████▌ | 46/100 [00:00<00:00, 77.01it/s][A 54%|█████▍ | 54/100 [00:00<00:00, 74.03it/s][A 62%|██████▏ | 62/100 [00:00<00:00, 73.27it/s][A 70%|███████ | 70/100 [00:00<00:00, 71.82it/s][A 78%|███████▊ | 78/100 [00:01<00:00, 70.84it/s][A 87%|████████▋ | 87/100 [00:01<00:00, 73.56it/s][A 95%|█████████▌| 95/100 [00:01<00:00, 75.04it/s][A [A Models: 70%|███████ | 7/10 [00:08<00:03, 1.31s/it] 0%| | 0/100 [00:00<?, ?it/s][A 10%|█ | 10/100 [00:00<00:00, 99.39it/s][A 20%|██ | 20/100 [00:00<00:00, 84.46it/s][A 29%|██▉ | 29/100 [00:00<00:00, 77.95it/s][A 37%|███▋ | 37/100 [00:00<00:00, 76.74it/s][A 45%|████▌ | 45/100 [00:00<00:00, 77.70it/s][A 53%|█████▎ | 53/100 [00:00<00:00, 76.71it/s][A 61%|██████ | 61/100 [00:00<00:00, 74.85it/s][A 69%|██████▉ | 69/100 [00:00<00:00, 75.02it/s][A 77%|███████▋ | 77/100 [00:01<00:00, 72.19it/s][A 85%|████████▌ | 85/100 [00:01<00:00, 72.42it/s][A 93%|█████████▎| 93/100 [00:01<00:00, 73.87it/s][A [A Models: 80%|████████ | 8/10 [00:10<00:02, 1.32s/it] 0%| | 0/100 [00:00<?, ?it/s][A 11%|█ | 11/100 [00:00<00:00, 103.15it/s][A 22%|██▏ | 22/100 [00:00<00:00, 85.43it/s] [A 31%|███ | 31/100 [00:00<00:00, 82.39it/s][A 40%|████ | 40/100 [00:00<00:00, 81.51it/s][A 49%|████▉ | 49/100 [00:00<00:00, 79.74it/s][A 58%|█████▊ | 58/100 [00:00<00:00, 75.15it/s][A 66%|██████▌ | 66/100 [00:00<00:00, 75.77it/s][A 74%|███████▍ | 74/100 [00:00<00:00, 76.52it/s][A 82%|████████▏ | 82/100 [00:01<00:00, 74.78it/s][A 90%|█████████ | 90/100 [00:01<00:00, 76.25it/s][A 98%|█████████▊| 98/100 [00:01<00:00, 74.87it/s][A [A Models: 90%|█████████ | 9/10 [00:11<00:01, 1.31s/it] 0%| | 0/100 [00:00<?, ?it/s][A 9%|▉ | 9/100 [00:00<00:01, 86.56it/s][A 18%|█▊ | 18/100 [00:00<00:00, 82.34it/s][A 27%|██▋ | 27/100 [00:00<00:00, 82.86it/s][A 36%|███▌ | 36/100 [00:00<00:00, 79.93it/s][A 46%|████▌ | 46/100 [00:00<00:00, 84.79it/s][A 55%|█████▌ | 55/100 [00:00<00:00, 83.26it/s][A 64%|██████▍ | 64/100 [00:00<00:00, 83.02it/s][A 73%|███████▎ | 73/100 [00:00<00:00, 82.00it/s][A 82%|████████▏ | 82/100 [00:00<00:00, 81.98it/s][A 91%|█████████ | 91/100 [00:01<00:00, 82.62it/s][A 100%|██████████| 100/100 [00:01<00:00, 82.75it/s][A [A Models: 100%|██████████| 10/10 [00:12<00:00, 1.28s/it] Models: 100%|██████████| 10/10 [00:12<00:00, 1.26s/it] Models: 0%| | 0/10 [00:00<?, ?it/s] 0%| | 0/100 [00:00<?, ?it/s][A 14%|█▍ | 14/100 [00:00<00:00, 132.28it/s][A 28%|██▊ | 28/100 [00:00<00:00, 106.95it/s][A 39%|███▉ | 39/100 [00:00<00:00, 103.66it/s][A 51%|█████ | 51/100 [00:00<00:00, 108.03it/s][A 65%|██████▌ | 65/100 [00:00<00:00, 115.37it/s][A 77%|███████▋ | 77/100 [00:00<00:00, 113.12it/s][A 90%|█████████ | 90/100 [00:00<00:00, 116.09it/s][A [A Models: 10%|█ | 1/10 [00:00<00:07, 1.13it/s] 0%| | 0/100 [00:00<?, ?it/s][A 11%|█ | 11/100 [00:00<00:00, 106.57it/s][A 22%|██▏ | 22/100 [00:00<00:00, 94.46it/s] [A 32%|███▏ | 32/100 [00:00<00:00, 89.46it/s][A 42%|████▏ | 42/100 [00:00<00:00, 86.89it/s][A 51%|█████ | 51/100 [00:00<00:00, 84.62it/s][A 60%|██████ | 60/100 [00:00<00:00, 82.92it/s][A 69%|██████▉ | 69/100 [00:00<00:00, 84.66it/s][A 78%|███████▊ | 78/100 [00:00<00:00, 82.32it/s][A 87%|████████▋ | 87/100 [00:01<00:00, 83.43it/s][A 96%|█████████▌| 96/100 [00:01<00:00, 83.26it/s][A [A Models: 20%|██ | 2/10 [00:02<00:08, 1.06s/it] 0%| | 0/100 [00:00<?, ?it/s][A 11%|█ | 11/100 [00:00<00:00, 99.90it/s][A 21%|██ | 21/100 [00:00<00:00, 82.09it/s][A 30%|███ | 30/100 [00:00<00:00, 76.80it/s][A 38%|███▊ | 38/100 [00:00<00:00, 73.18it/s][A 46%|████▌ | 46/100 [00:00<00:00, 75.04it/s][A 54%|█████▍ | 54/100 [00:00<00:00, 74.77it/s][A 62%|██████▏ | 62/100 [00:00<00:00, 74.02it/s][A 70%|███████ | 70/100 [00:00<00:00, 75.30it/s][A 78%|███████▊ | 78/100 [00:01<00:00, 73.55it/s][A 86%|████████▌ | 86/100 [00:01<00:00, 70.23it/s][A 95%|█████████▌| 95/100 [00:01<00:00, 72.22it/s][A [A Models: 30%|███ | 3/10 [00:03<00:08, 1.19s/it] 0%| | 0/100 [00:00<?, ?it/s][A 10%|█ | 10/100 [00:00<00:00, 97.84it/s][A 20%|██ | 20/100 [00:00<00:01, 79.73it/s][A 29%|██▉ | 29/100 [00:00<00:00, 74.49it/s][A 37%|███▋ | 37/100 [00:00<00:00, 69.87it/s][A 45%|████▌ | 45/100 [00:00<00:00, 70.95it/s][A 53%|█████▎ | 53/100 [00:00<00:00, 70.49it/s][A 61%|██████ | 61/100 [00:00<00:00, 69.77it/s][A 69%|██████▉ | 69/100 [00:00<00:00, 71.98it/s][A 77%|███████▋ | 77/100 [00:01<00:00, 71.42it/s][A 85%|████████▌ | 85/100 [00:01<00:00, 69.56it/s][A 93%|█████████▎| 93/100 [00:01<00:00, 70.55it/s][A [A Models: 40%|████ | 4/10 [00:04<00:07, 1.27s/it] 0%| | 0/100 [00:00<?, ?it/s][A 10%|█ | 10/100 [00:00<00:00, 95.77it/s][A 20%|██ | 20/100 [00:00<00:01, 76.80it/s][A 28%|██▊ | 28/100 [00:00<00:00, 72.70it/s][A 36%|███▌ | 36/100 [00:00<00:00, 71.93it/s][A 44%|████▍ | 44/100 [00:00<00:00, 71.65it/s][A 52%|█████▏ | 52/100 [00:00<00:00, 67.06it/s][A 59%|█████▉ | 59/100 [00:00<00:00, 65.68it/s][A 67%|██████▋ | 67/100 [00:00<00:00, 69.25it/s][A 74%|███████▍ | 74/100 [00:01<00:00, 67.69it/s][A 81%|████████ | 81/100 [00:01<00:00, 67.88it/s][A 88%|████████▊ | 88/100 [00:01<00:00, 68.07it/s][A 96%|█████████▌| 96/100 [00:01<00:00, 70.83it/s][A [A Models: 50%|█████ | 5/10 [00:06<00:06, 1.32s/it] 0%| | 0/100 [00:00<?, ?it/s][A 10%|█ | 10/100 [00:00<00:01, 89.33it/s][A 19%|█▉ | 19/100 [00:00<00:01, 78.67it/s][A 27%|██▋ | 27/100 [00:00<00:01, 71.27it/s][A 35%|███▌ | 35/100 [00:00<00:00, 72.25it/s][A 43%|████▎ | 43/100 [00:00<00:00, 70.61it/s][A 51%|█████ | 51/100 [00:00<00:00, 68.80it/s][A 58%|█████▊ | 58/100 [00:00<00:00, 68.79it/s][A 66%|██████▌ | 66/100 [00:00<00:00, 69.83it/s][A 73%|███████▎ | 73/100 [00:01<00:00, 67.81it/s][A 80%|████████ | 80/100 [00:01<00:00, 67.45it/s][A 88%|████████▊ | 88/100 [00:01<00:00, 68.43it/s][A 96%|█████████▌| 96/100 [00:01<00:00, 69.28it/s][A [A Models: 60%|██████ | 6/10 [00:07<00:05, 1.36s/it] 0%| | 0/100 [00:00<?, ?it/s][A 10%|█ | 10/100 [00:00<00:01, 89.54it/s][A 19%|█▉ | 19/100 [00:00<00:01, 79.57it/s][A 27%|██▋ | 27/100 [00:00<00:00, 73.37it/s][A 35%|███▌ | 35/100 [00:00<00:00, 70.37it/s][A 43%|████▎ | 43/100 [00:00<00:00, 73.37it/s][A 51%|█████ | 51/100 [00:00<00:00, 72.39it/s][A 59%|█████▉ | 59/100 [00:00<00:00, 71.55it/s][A 67%|██████▋ | 67/100 [00:00<00:00, 73.39it/s][A 75%|███████▌ | 75/100 [00:01<00:00, 73.47it/s][A 83%|████████▎ | 83/100 [00:01<00:00, 73.74it/s][A 91%|█████████ | 91/100 [00:01<00:00, 73.23it/s][A 100%|██████████| 100/100 [00:01<00:00, 75.28it/s][A [A Models: 70%|███████ | 7/10 [00:09<00:04, 1.36s/it] 0%| | 0/100 [00:00<?, ?it/s][A 10%|█ | 10/100 [00:00<00:00, 91.95it/s][A 20%|██ | 20/100 [00:00<00:00, 81.01it/s][A 29%|██▉ | 29/100 [00:00<00:00, 75.23it/s][A 37%|███▋ | 37/100 [00:00<00:00, 75.01it/s][A 45%|████▌ | 45/100 [00:00<00:00, 75.65it/s][A 53%|█████▎ | 53/100 [00:00<00:00, 74.42it/s][A 61%|██████ | 61/100 [00:00<00:00, 73.03it/s][A 69%|██████▉ | 69/100 [00:00<00:00, 72.63it/s][A 77%|███████▋ | 77/100 [00:01<00:00, 73.31it/s][A 85%|████████▌ | 85/100 [00:01<00:00, 72.32it/s][A 93%|█████████▎| 93/100 [00:01<00:00, 73.47it/s][A [A Models: 80%|████████ | 8/10 [00:10<00:02, 1.35s/it] 0%| | 0/100 [00:00<?, ?it/s][A 11%|█ | 11/100 [00:00<00:00, 104.61it/s][A 22%|██▏ | 22/100 [00:00<00:00, 82.72it/s] [A 31%|███ | 31/100 [00:00<00:00, 71.16it/s][A 39%|███▉ | 39/100 [00:00<00:00, 69.56it/s][A 47%|████▋ | 47/100 [00:00<00:00, 71.27it/s][A 55%|█████▌ | 55/100 [00:00<00:00, 67.36it/s][A 63%|██████▎ | 63/100 [00:00<00:00, 68.91it/s][A 71%|███████ | 71/100 [00:00<00:00, 70.15it/s][A 79%|███████▉ | 79/100 [00:01<00:00, 71.62it/s][A 87%|████████▋ | 87/100 [00:01<00:00, 70.02it/s][A 95%|█████████▌| 95/100 [00:01<00:00, 71.15it/s][A [A Models: 90%|█████████ | 9/10 [00:11<00:01, 1.37s/it] 0%| | 0/100 [00:00<?, ?it/s][A 9%|▉ | 9/100 [00:00<00:01, 82.66it/s][A 18%|█▊ | 18/100 [00:00<00:01, 76.75it/s][A 27%|██▋ | 27/100 [00:00<00:00, 77.21it/s][A 35%|███▌ | 35/100 [00:00<00:00, 75.96it/s][A 44%|████▍ | 44/100 [00:00<00:00, 79.11it/s][A 52%|█████▏ | 52/100 [00:00<00:00, 77.75it/s][A 60%|██████ | 60/100 [00:00<00:00, 76.48it/s][A 68%|██████▊ | 68/100 [00:00<00:00, 77.51it/s][A 76%|███████▌ | 76/100 [00:01<00:00, 72.78it/s][A 84%|████████▍ | 84/100 [00:01<00:00, 70.65it/s][A 92%|█████████▏| 92/100 [00:01<00:00, 71.85it/s][A 100%|██████████| 100/100 [00:01<00:00, 72.45it/s][A [A Models: 100%|██████████| 10/10 [00:13<00:00, 1.36s/it] Models: 100%|██████████| 10/10 [00:13<00:00, 1.31s/it] [ FAIL 0 | WARN 0 | SKIP 0 | PASS 29 ] > > proc.time() user system elapsed 153.470 5.702 175.740 /private/var/cache/basilisk/1.14.3/spatialDE/1.8.1/env/lib/python3.9/multiprocessing/resource_tracker.py:216: UserWarning: resource_tracker: There appear to be 1 leaked semaphore objects to clean up at shutdown warnings.warn('resource_tracker: There appear to be %d '
spatialDE.Rcheck/spatialDE-Ex.timings
name | user | system | elapsed | |
FSV_sig | 12.358 | 3.052 | 35.117 | |
mockSVG | 0.678 | 0.081 | 0.797 | |
modelSearch | 3.697 | 0.472 | 5.660 | |
model_search | 2.966 | 0.439 | 6.017 | |
multiGenePlots | 3.580 | 0.371 | 5.371 | |
regress_out | 0.307 | 0.009 | 0.329 | |
run | 1.581 | 0.208 | 3.169 | |
spatialDE | 1.940 | 0.213 | 2.854 | |
spatialPatterns | 2.589 | 0.302 | 3.173 | |
spatial_patterns | 31.012 | 4.761 | 63.830 | |
stabilize | 0.218 | 0.012 | 0.217 | |