Back to Multiple platform build/check report for BioC 3.15
ABCDEFGHIJKLMNOPQR[S]TUVWXYZ

This page was generated on 2022-08-05 14:20:33 -0400 (Fri, 05 Aug 2022).

HostnameOSArch (*)R versionInstalled pkgs
nebbiolo1Linux (Ubuntu 20.04.4 LTS)x86_644.2.1 (2022-06-23) -- "Funny-Looking Kid" 4361
merida1macOS 10.14.6 Mojavex86_644.2.1 (2022-06-23) -- "Funny-Looking Kid" 4179
Click on any hostname to see more info about the system (e.g. compilers)      (*) as reported by 'uname -p', except on Windows and Mac OS X

BUILD BIN results for spatialDE on merida1


To the developers/maintainers of the spatialDE package:
- Please allow up to 24 hours (and sometimes 48 hours) for your latest push to git@git.bioconductor.org:packages/spatialDE.git to
reflect on this report. See How and When does the builder pull? When will my changes propagate? for more information.
- Make sure to use the following settings in order to reproduce any error or warning you see on this page.

raw results

Package 1893/2140HostnameOS / ArchINSTALLBUILDCHECKBUILD BIN
spatialDE 1.2.0  (landing page)
Davide Corso
Snapshot Date: 2022-08-04 13:55:18 -0400 (Thu, 04 Aug 2022)
git_url: https://git.bioconductor.org/packages/spatialDE
git_branch: RELEASE_3_15
git_last_commit: af03d9e
git_last_commit_date: 2022-04-26 12:17:46 -0400 (Tue, 26 Apr 2022)
nebbiolo1Linux (Ubuntu 20.04.4 LTS) / x86_64  OK    OK    OK  UNNEEDED, same version is already published
merida1macOS 10.14.6 Mojave / x86_64  OK    OK    TIMEOUT    OK  

Summary

Package: spatialDE
Version: 1.2.0
Command: rm -rf spatialDE.buildbin-libdir && mkdir spatialDE.buildbin-libdir && /Users/biocbuild/BBS/utils/build-universal.sh spatialDE_1.2.0.tar.gz /Library/Frameworks/R.framework/Resources/bin/R spatialDE.buildbin-libdir
StartedAt: 2022-08-05 11:27:08 -0400 (Fri, 05 Aug 2022)
EndedAt: 2022-08-05 11:27:53 -0400 (Fri, 05 Aug 2022)
EllapsedTime: 45.5 seconds
RetCode: 0
Status:   OK  
PackageFile: spatialDE_1.2.0.tgz
PackageFileSize: 3.7 MiB

Command output

##############################################################################
##############################################################################
###
### Running command:
###
###   rm -rf spatialDE.buildbin-libdir && mkdir spatialDE.buildbin-libdir && /Users/biocbuild/BBS/utils/build-universal.sh spatialDE_1.2.0.tar.gz /Library/Frameworks/R.framework/Resources/bin/R spatialDE.buildbin-libdir
###
##############################################################################
##############################################################################


>>>>>>> 
>>>>>>> INSTALLATION WITH 'R CMD INSTALL --preclean --no-multiarch --library=spatialDE.buildbin-libdir spatialDE_1.2.0.tar.gz'
>>>>>>> 

* installing *source* package ‘spatialDE’ ...
** using non-staged installation via StagedInstall field
** R
** data
** inst
** byte-compile and prepare package for lazy loading
** help
*** installing help indices
** building package indices
** installing vignettes
** testing if installed package can be loaded
* DONE (spatialDE)