Back to Multiple platform build/check report for BioC 3.19:   simplified   long
ABCDEFGHIJKLMNOPQR[S]TUVWXYZ

This page was generated on 2024-06-21 17:40 -0400 (Fri, 21 Jun 2024).

HostnameOSArch (*)R versionInstalled pkgs
nebbiolo1Linux (Ubuntu 22.04.3 LTS)x86_644.4.0 (2024-04-24) -- "Puppy Cup" 4758
palomino3Windows Server 2022 Datacenterx644.4.0 (2024-04-24 ucrt) -- "Puppy Cup" 4492
merida1macOS 12.7.4 Montereyx86_644.4.0 (2024-04-24) -- "Puppy Cup" 4506
kjohnson1macOS 13.6.6 Venturaarm644.4.0 (2024-04-24) -- "Puppy Cup" 4464
Click on any hostname to see more info about the system (e.g. compilers)      (*) as reported by 'uname -p', except on Windows and Mac OS X

Package 2042/2300HostnameOS / ArchINSTALLBUILDCHECKBUILD BIN
Spectra 1.14.1  (landing page)
RforMassSpectrometry Package Maintainer
Snapshot Date: 2024-06-19 14:00 -0400 (Wed, 19 Jun 2024)
git_url: https://git.bioconductor.org/packages/Spectra
git_branch: RELEASE_3_19
git_last_commit: 3f9fa69
git_last_commit_date: 2024-05-16 04:13:30 -0400 (Thu, 16 May 2024)
nebbiolo1Linux (Ubuntu 22.04.3 LTS) / x86_64  OK    OK    OK  UNNEEDED, same version is already published
palomino3Windows Server 2022 Datacenter / x64  OK    OK    OK    OK  UNNEEDED, same version is already published
merida1macOS 12.7.4 Monterey / x86_64  OK    OK    OK    OK  UNNEEDED, same version is already published
kjohnson1macOS 13.6.6 Ventura / arm64  OK    OK    OK    NA  


BUILD results for Spectra on palomino3

To the developers/maintainers of the Spectra package:
- Allow up to 24 hours (and sometimes 48 hours) for your latest push to git@git.bioconductor.org:packages/Spectra.git to reflect on this report. See Troubleshooting Build Report for more information.
- Use the following Renviron settings to reproduce errors and warnings.
- If 'R CMD check' started to fail recently on the Linux builder(s) over a missing dependency, add the missing dependency to 'Suggests:' in your DESCRIPTION file. See Renviron.bioc for more information.

raw results


Summary

Package: Spectra
Version: 1.14.1
Command: chmod a+r Spectra -R && F:\biocbuild\bbs-3.19-bioc\R\bin\R.exe CMD build --keep-empty-dirs --no-resave-data Spectra
StartedAt: 2024-06-19 23:14:41 -0400 (Wed, 19 Jun 2024)
EndedAt: 2024-06-19 23:16:40 -0400 (Wed, 19 Jun 2024)
EllapsedTime: 119.3 seconds
RetCode: 0
Status:   OK  
PackageFile: Spectra_1.14.1.tar.gz
PackageFileSize: 1.378 MiB

Command output

##############################################################################
##############################################################################
###
### Running command:
###
###   chmod a+r Spectra -R && F:\biocbuild\bbs-3.19-bioc\R\bin\R.exe CMD build --keep-empty-dirs --no-resave-data Spectra
###
##############################################################################
##############################################################################


* checking for file 'Spectra/DESCRIPTION' ... OK
* preparing 'Spectra':
* checking DESCRIPTION meta-information ... OK
* installing the package to build vignettes
* creating vignettes ... OK
* checking for LF line-endings in source and make files and shell scripts
* checking for empty or unneeded directories
WARNING: directory 'Spectra/man/figures' is empty
WARNING: directory 'Spectra/pkgdown' is empty
* looking to see if a 'data/datalist' file should be added
* building 'Spectra_1.14.1.tar.gz'