Back to Multiple platform build/check report for BioC 3.19:   simplified   long
ABCDEFGHIJKLMNOPQR[S]TUVWXYZ

This page was generated on 2024-06-18 17:58 -0400 (Tue, 18 Jun 2024).

HostnameOSArch (*)R versionInstalled pkgs
nebbiolo1Linux (Ubuntu 22.04.3 LTS)x86_644.4.0 (2024-04-24) -- "Puppy Cup" 4758
palomino3Windows Server 2022 Datacenterx644.4.0 (2024-04-24 ucrt) -- "Puppy Cup" 4492
merida1macOS 12.7.4 Montereyx86_644.4.0 (2024-04-24) -- "Puppy Cup" 4464
kjohnson1macOS 13.6.6 Venturaarm644.4.0 (2024-04-24) -- "Puppy Cup" 4464
Click on any hostname to see more info about the system (e.g. compilers)      (*) as reported by 'uname -p', except on Windows and Mac OS X

Package 2042/2300HostnameOS / ArchINSTALLBUILDCHECKBUILD BIN
Spectra 1.14.1  (landing page)
RforMassSpectrometry Package Maintainer
Snapshot Date: 2024-06-16 14:00 -0400 (Sun, 16 Jun 2024)
git_url: https://git.bioconductor.org/packages/Spectra
git_branch: RELEASE_3_19
git_last_commit: 3f9fa69
git_last_commit_date: 2024-05-16 04:13:30 -0400 (Thu, 16 May 2024)
nebbiolo1Linux (Ubuntu 22.04.3 LTS) / x86_64  OK    OK    OK  UNNEEDED, same version is already published
palomino3Windows Server 2022 Datacenter / x64  OK    OK    OK    OK  UNNEEDED, same version is already published
merida1macOS 12.7.4 Monterey / x86_64  OK    OK    OK    OK  UNNEEDED, same version is already published
kjohnson1macOS 13.6.6 Ventura / arm64  OK    OK    OK    OK  UNNEEDED, same version is already published


CHECK results for Spectra on nebbiolo1

To the developers/maintainers of the Spectra package:
- Allow up to 24 hours (and sometimes 48 hours) for your latest push to git@git.bioconductor.org:packages/Spectra.git to reflect on this report. See Troubleshooting Build Report for more information.
- Use the following Renviron settings to reproduce errors and warnings.
- If 'R CMD check' started to fail recently on the Linux builder(s) over a missing dependency, add the missing dependency to 'Suggests:' in your DESCRIPTION file. See Renviron.bioc for more information.

raw results


Summary

Package: Spectra
Version: 1.14.1
Command: /home/biocbuild/bbs-3.19-bioc/R/bin/R CMD check --install=check:Spectra.install-out.txt --library=/home/biocbuild/bbs-3.19-bioc/R/site-library --timings Spectra_1.14.1.tar.gz
StartedAt: 2024-06-17 04:10:18 -0400 (Mon, 17 Jun 2024)
EndedAt: 2024-06-17 04:17:52 -0400 (Mon, 17 Jun 2024)
EllapsedTime: 453.9 seconds
RetCode: 0
Status:   OK  
CheckDir: Spectra.Rcheck
Warnings: 0

Command output

##############################################################################
##############################################################################
###
### Running command:
###
###   /home/biocbuild/bbs-3.19-bioc/R/bin/R CMD check --install=check:Spectra.install-out.txt --library=/home/biocbuild/bbs-3.19-bioc/R/site-library --timings Spectra_1.14.1.tar.gz
###
##############################################################################
##############################################################################


* using log directory ‘/home/biocbuild/bbs-3.19-bioc/meat/Spectra.Rcheck’
* using R version 4.4.0 (2024-04-24)
* using platform: x86_64-pc-linux-gnu
* R was compiled by
    gcc (Ubuntu 11.4.0-1ubuntu1~22.04) 11.4.0
    GNU Fortran (Ubuntu 11.4.0-1ubuntu1~22.04) 11.4.0
* running under: Ubuntu 22.04.4 LTS
* using session charset: UTF-8
* checking for file ‘Spectra/DESCRIPTION’ ... OK
* this is package ‘Spectra’ version ‘1.14.1’
* package encoding: UTF-8
* checking package namespace information ... OK
* checking package dependencies ... OK
* checking if this is a source package ... OK
* checking if there is a namespace ... OK
* checking for hidden files and directories ... OK
* checking for portable file names ... OK
* checking for sufficient/correct file permissions ... OK
* checking whether package ‘Spectra’ can be installed ... OK
* checking installed package size ... OK
* checking package directory ... OK
* checking ‘build’ directory ... OK
* checking DESCRIPTION meta-information ... OK
* checking top-level files ... OK
* checking for left-over files ... OK
* checking index information ... OK
* checking package subdirectories ... OK
* checking code files for non-ASCII characters ... OK
* checking R files for syntax errors ... OK
* checking whether the package can be loaded ... OK
* checking whether the package can be loaded with stated dependencies ... OK
* checking whether the package can be unloaded cleanly ... OK
* checking whether the namespace can be loaded with stated dependencies ... OK
* checking whether the namespace can be unloaded cleanly ... OK
* checking loading without being on the library search path ... OK
* checking whether startup messages can be suppressed ... OK
* checking dependencies in R code ... OK
* checking S3 generic/method consistency ... OK
* checking replacement functions ... OK
* checking foreign function calls ... NOTE
Foreign function calls to a different package:
  .Call("_H5Dclose", ..., PACKAGE = "rhdf5")
  .Call("_H5Dopen", ..., PACKAGE = "rhdf5")
  .Call("_H5Dread", ..., PACKAGE = "rhdf5")
  .Call("_H5Fclose", ..., PACKAGE = "rhdf5")
  .Call("_H5Fopen", ..., PACKAGE = "rhdf5")
See chapter ‘System and foreign language interfaces’ in the ‘Writing R
Extensions’ manual.
* checking R code for possible problems ... OK
* checking Rd files ... OK
* checking Rd metadata ... OK
* checking Rd cross-references ... OK
* checking for missing documentation entries ... OK
* checking for code/documentation mismatches ... OK
* checking Rd \usage sections ... OK
* checking Rd contents ... OK
* checking for unstated dependencies in examples ... OK
* checking contents of ‘data’ directory ... OK
* checking data for non-ASCII characters ... OK
* checking data for ASCII and uncompressed saves ... OK
* checking files in ‘vignettes’ ... OK
* checking examples ... OK
Examples with CPU (user + system) or elapsed time > 5s
                      user system elapsed
estimatePrecursorMz 72.114  1.735  73.726
plotMzDelta         10.156  0.929  10.378
Spectra              8.272  2.368   7.522
* checking for unstated dependencies in ‘tests’ ... OK
* checking tests ...
  Running ‘testthat.R’
 OK
* checking for unstated dependencies in vignettes ... OK
* checking package vignettes ... OK
* checking re-building of vignette outputs ... OK
* checking PDF version of manual ... OK
* DONE

Status: 1 NOTE
See
  ‘/home/biocbuild/bbs-3.19-bioc/meat/Spectra.Rcheck/00check.log’
for details.


Installation output

Spectra.Rcheck/00install.out

##############################################################################
##############################################################################
###
### Running command:
###
###   /home/biocbuild/bbs-3.19-bioc/R/bin/R CMD INSTALL Spectra
###
##############################################################################
##############################################################################


* installing to library ‘/home/biocbuild/bbs-3.19-bioc/R/site-library’
* installing *source* package ‘Spectra’ ...
** using staged installation
** R
** data
** inst
** byte-compile and prepare package for lazy loading
Creating a new generic function for ‘entropy’ in package ‘Spectra’
** help
*** installing help indices
*** copying figures
** building package indices
** installing vignettes
** testing if installed package can be loaded from temporary location
** testing if installed package can be loaded from final location
** testing if installed package keeps a record of temporary installation path
* DONE (Spectra)

Tests output

Spectra.Rcheck/tests/testthat.Rout


R version 4.4.0 (2024-04-24) -- "Puppy Cup"
Copyright (C) 2024 The R Foundation for Statistical Computing
Platform: x86_64-pc-linux-gnu

R is free software and comes with ABSOLUTELY NO WARRANTY.
You are welcome to redistribute it under certain conditions.
Type 'license()' or 'licence()' for distribution details.

R is a collaborative project with many contributors.
Type 'contributors()' for more information and
'citation()' on how to cite R or R packages in publications.

Type 'demo()' for some demos, 'help()' for on-line help, or
'help.start()' for an HTML browser interface to help.
Type 'q()' to quit R.

> library("testthat")
> library("patrick")
> library("Spectra")
Loading required package: S4Vectors
Loading required package: stats4
Loading required package: BiocGenerics

Attaching package: 'BiocGenerics'

The following objects are masked from 'package:stats':

    IQR, mad, sd, var, xtabs

The following objects are masked from 'package:base':

    Filter, Find, Map, Position, Reduce, anyDuplicated, aperm, append,
    as.data.frame, basename, cbind, colnames, dirname, do.call,
    duplicated, eval, evalq, get, grep, grepl, intersect, is.unsorted,
    lapply, mapply, match, mget, order, paste, pmax, pmax.int, pmin,
    pmin.int, rank, rbind, rownames, sapply, setdiff, table, tapply,
    union, unique, unsplit, which.max, which.min


Attaching package: 'S4Vectors'

The following object is masked from 'package:utils':

    findMatches

The following objects are masked from 'package:base':

    I, expand.grid, unname

Loading required package: BiocParallel
Loading required package: ProtGenerics

Attaching package: 'ProtGenerics'

The following object is masked from 'package:stats':

    smooth

> 
> register(SerialParam())
> 
> sciex_file <- normalizePath(
+     dir(system.file("sciex", package = "msdata"), full.names = TRUE))
> cdf_file <- normalizePath(
+     dir(system.file("cdf", package = "msdata"), full.names = TRUE))
> 
> sciex_mzr <- backendInitialize(MsBackendMzR(), files = sciex_file)
> sciex_pks <- peaksData(sciex_mzr)
> fl <- normalizePath(
+     dir(system.file("proteomics", package = "msdata"), full.names = TRUE))
> tmt_mzr <- backendInitialize(MsBackendMzR(), files = fl[5])
> 
> fl <- system.file("TripleTOF-SWATH", "PestMix1_SWATH.mzML",
+                   package = "msdata")
> sps_dia <- Spectra(fl)
> 
> fl <- system.file("TripleTOF-SWATH", "PestMix1_DDA.mzML",
+                   package = "msdata")
> sps_dda <- Spectra(fl)
> 
> sciex_hd5 <- backendInitialize(MsBackendHdf5Peaks(),
+                                data = spectraData(sciex_mzr),
+                                hdf5path = tempdir())
> 
> test_suite <- system.file("test_backends", "test_MsBackend",
+                           package = "Spectra")
> be <- sciex_mzr[1:10]
> test_dir(test_suite, stop_on_failure = TRUE)
✔ | F W  S  OK | Context

⠏ |          0 | peaks_variables                                                
⠸ |          4 | peaks_variables                                                
✔ |          4 | peaks_variables

⠏ |          0 | spectra_subsetting                                             
⠸ |         14 | spectra_subsetting                                             
⠋ |         31 | spectra_subsetting                                             
⠴ |         36 | spectra_subsetting                                             
⠧ |         38 | spectra_subsetting                                             
⠏ |         40 | spectra_subsetting                                             
⠙ |         42 | spectra_subsetting                                             
⠸ |         44 | spectra_subsetting                                             
⠧ |         48 | spectra_subsetting                                             
⠴ |         56 | spectra_subsetting                                             
⠋ |         61 | spectra_subsetting                                             
✔ |         61 | spectra_subsetting [1.2s]

⠏ |          0 | spectra_variables                                              
⠴ |         16 | spectra_variables                                              
⠧ |         38 | spectra_variables                                              
⠼ |         55 | spectra_variables                                              
✔ |      1  62 | spectra_variables

══ Results ═════════════════════════════════════════════════════════════════════
Duration: 1.7 s

── Skipped tests (1) ───────────────────────────────────────────────────────────
• empty test (1): 'test_spectra_variables.R:262:1'

[ FAIL 0 | WARN 0 | SKIP 1 | PASS 127 ]
> 
> be <- backendInitialize(MsBackendDataFrame(), spectraData(be))
> test_dir(test_suite, stop_on_failure = TRUE)
✔ | F W  S  OK | Context

⠏ |          0 | peaks_variables                                                
✔ |          4 | peaks_variables

⠏ |          0 | spectra_subsetting                                             
⠏ |         10 | spectra_subsetting                                             
⠙ |         22 | spectra_subsetting                                             
⠸ |         34 | spectra_subsetting                                             
⠇ |         39 | spectra_subsetting                                             
⠦ |         47 | spectra_subsetting                                             
⠴ |         56 | spectra_subsetting                                             
✔ |         61 | spectra_subsetting

⠏ |          0 | spectra_variables                                              
⠧ |          8 | spectra_variables                                              
⠧ |         18 | spectra_variables                                              
⠋ |         31 | spectra_variables                                              
⠧ |         38 | spectra_variables                                              
⠇ |         59 | spectra_variables                                              
⠏ |         70 | spectra_variables                                              
✔ |         78 | spectra_variables

══ Results ═════════════════════════════════════════════════════════════════════
Duration: 1.5 s

[ FAIL 0 | WARN 0 | SKIP 0 | PASS 143 ]
> 
> be <- backendInitialize(MsBackendMemory(), spectraData(be))
> test_dir(test_suite, stop_on_failure = TRUE)
✔ | F W  S  OK | Context

⠏ |          0 | peaks_variables                                                
✔ |          4 | peaks_variables

⠏ |          0 | spectra_subsetting                                             
⠼ |         35 | spectra_subsetting                                             
⠙ |         42 | spectra_subsetting                                             
⠴ |         56 | spectra_subsetting                                             
✔ |         61 | spectra_subsetting

⠏ |          0 | spectra_variables                                              
⠏ |         30 | spectra_variables                                              
⠙ |         52 | spectra_variables                                              
⠏ |         70 | spectra_variables                                              
✔ |         80 | spectra_variables

══ Results ═════════════════════════════════════════════════════════════════════
[ FAIL 0 | WARN 0 | SKIP 0 | PASS 145 ]
> 
> ## be <- sciex_hd5[1:10]
> ## test_dir(test_suite, stop_on_failure = TRUE)
> 
> test_check("Spectra")
Error in .h5_read_bare(fid, "/header/modcount") : 
  HDF5. Dataset. Can't open object.
Error in try(.Call("_H5Fopen", x, 0L, fapl@ID, PACKAGE = "rhdf5")) : 
  HDF5. File accessibility. Unable to open file.
Error in try(.Call("_H5Fopen", x, 0L, fapl@ID, PACKAGE = "rhdf5")) : 
  HDF5. File accessibility. Unable to open file.
Error in try(.Call("_H5Fopen", x, 0L, fapl@ID, PACKAGE = "rhdf5")) : 
  HDF5. File accessibility. Unable to open file.
Error in try(.Call("_H5Fopen", x, 0L, fapl@ID, PACKAGE = "rhdf5")) : 
  HDF5. File accessibility. Unable to open file.
MsBackendHdf5Peaks with 3 spectra
    msLevel     rtime scanIndex
  <integer> <numeric> <integer>
1         1        NA         1
2         2        NA         1
3         2        NA         2
 ... 16 more variables/columns.

file(s):
 c
 d
MsBackendMzR with 0 spectra
MsBackendMzR with 1862 spectra
       msLevel     rtime scanIndex
     <integer> <numeric> <integer>
1            1     0.280         1
2            1     0.559         2
3            1     0.838         3
4            1     1.117         4
5            1     1.396         5
...        ...       ...       ...
1858         1   258.636       927
1859         1   258.915       928
1860         1   259.194       929
1861         1   259.473       930
1862         1   259.752       931
 ... 33 more variables/columns.

file(s):
20171016_POOL_POS_1_105-134.mzML
20171016_POOL_POS_3_105-134.mzML
MSn data (Spectra) with 0 spectra in a MsBackendMemory backend:
Lazy evaluation queue: 2 processing step(s)
MSn data (Spectra) with 1862 spectra in a MsBackendMzR backend:
       msLevel     rtime scanIndex
     <integer> <numeric> <integer>
1            1     0.280         1
2            1     0.559         2
3            1     0.838         3
4            1     1.117         4
5            1     1.396         5
...        ...       ...       ...
1858         1   258.636       927
1859         1   258.915       928
1860         1   259.194       929
1861         1   259.473       930
1862         1   259.752       931
 ... 33 more variables/columns.

file(s):
20171016_POOL_POS_1_105-134.mzML
20171016_POOL_POS_3_105-134.mzML
NULL
[ FAIL 0 | WARN 10 | SKIP 7 | PASS 2592 ]

══ Skipped tests (7) ═══════════════════════════════════════════════════════════
• On CRAN (6): 'test_plotMzDelta.R:30:5', 'test_plotting-functions.R:17:5',
  'test_plotting-functions.R:50:5', 'test_plotting-functions.R:69:5',
  'test_plotting-functions.R:99:5', 'test_plotting-functions.R:144:5'
• empty test (1): 'test_MsBackendMzR.R:464:1'

[ FAIL 0 | WARN 10 | SKIP 7 | PASS 2592 ]
Deleting unused snapshots:
• plotting-functions/plot-single-spectrum-labels-ass.svg
• plotting-functions/plot-single-spectrum-labels.svg
• plotting-functions/plot-single-spectrum-xlim.svg
• plotting-functions/plotspectra-asp05.svg
• plotting-functions/plotspectra-asp2.svg
• plotting-functions/plotspectra-color-peaks-label-labelcol.svg
• plotting-functions/plotspectra-color-peaks-label.svg
• plotting-functions/plotspectra-color-peaks.svg
• plotting-functions/plotspectramirror-match-color-labelcol.svg
• plotting-functions/plotspectramirror-match-color.svg
• plotting-functions/plotspectramirror-same.svg
• plotting-functions/plotspectraoverlay-no-axes.svg
• plotting-functions/plotspectraoverlay-xlim.svg
> 
> proc.time()
   user  system elapsed 
227.666   5.232 232.039 

Example timings

Spectra.Rcheck/Spectra-Ex.timings

nameusersystemelapsed
MsBackend0.2450.0080.254
Spectra8.2722.3687.522
chunkapply0.5300.0200.549
combinePeaksData0.0230.0000.023
countIdentifications0.0270.0080.069
estimatePrecursorIntensity3.0770.3943.356
estimatePrecursorMz72.114 1.73573.726
filterFourierTransformArtefacts0.0890.0080.097
joinPeaks0.0020.0030.006
neutralLoss0.2240.0280.251
plotMzDelta10.156 0.92910.378
spectra-plotting0.1960.0260.222