Back to Multiple platform build/check report for BioC 3.15

This page was generated on 2022-06-24 12:08:26 -0400 (Fri, 24 Jun 2022).

More about palomino3


Hostname: palomino3
OS: Windows Server 2022 Datacenter
Arch: x64
Platform: x86_64-w64-mingw32
R version: 4.2.0 (2022-04-22 ucrt) -- "Vigorous Calisthenics"
R environment variables: Renviron.bioc

C compiler

R variable (VAR)Value ('R CMD config <VAR>' output)
CCgcc
CFLAGS-O2 -Wall -std=gnu99 -mfpmath=sse -msse2 -mstackrealign
CPICFLAGS
Please refer to 'R CMD config -h' for the meaning of these variables

Compiler version ('gcc --version' output):

gcc (GCC) 10.3.0
Copyright (C) 2020 Free Software Foundation, Inc.
This is free software; see the source for copying conditions.  There is NO
warranty; not even for MERCHANTABILITY or FITNESS FOR A PARTICULAR PURPOSE.


C++ compiler

R variable (VAR)Value ('R CMD config <VAR>' output)
CXXg++ -std=gnu++11
CXXFLAGS-O2 -Wall -mfpmath=sse -msse2 -mstackrealign
CXXPICFLAGS
Please refer to 'R CMD config -h' for the meaning of these variables

Compiler version ('g++ -std=gnu++11 --version' output):

g++ (GCC) 10.3.0
Copyright (C) 2020 Free Software Foundation, Inc.
This is free software; see the source for copying conditions.  There is NO
warranty; not even for MERCHANTABILITY or FITNESS FOR A PARTICULAR PURPOSE.


C++11 compiler

R variable (VAR)Value ('R CMD config <VAR>' output)
CXX11g++
CXX11FLAGS-O2 -Wall -mfpmath=sse -msse2 -mstackrealign
CXX11PICFLAGS
CXX11STD-std=gnu++11
Please refer to 'R CMD config -h' for the meaning of these variables

Compiler version ('g++ --version' output):

g++ (GCC) 10.3.0
Copyright (C) 2020 Free Software Foundation, Inc.
This is free software; see the source for copying conditions.  There is NO
warranty; not even for MERCHANTABILITY or FITNESS FOR A PARTICULAR PURPOSE.


C++14 compiler

R variable (VAR)Value ('R CMD config <VAR>' output)
CXX14g++
CXX14FLAGS-O2 -Wall -mfpmath=sse -msse2 -mstackrealign
CXX14PICFLAGS
CXX14STD-std=gnu++14
Please refer to 'R CMD config -h' for the meaning of these variables

Compiler version ('g++ --version' output):

g++ (GCC) 10.3.0
Copyright (C) 2020 Free Software Foundation, Inc.
This is free software; see the source for copying conditions.  There is NO
warranty; not even for MERCHANTABILITY or FITNESS FOR A PARTICULAR PURPOSE.


C++17 compiler

R variable (VAR)Value ('R CMD config <VAR>' output)
CXX17g++
CXX17FLAGS-O2 -Wall -mfpmath=sse -msse2 -mstackrealign
CXX17PICFLAGS
CXX17STD-std=gnu++17
Please refer to 'R CMD config -h' for the meaning of these variables

Compiler version ('g++ --version' output):

g++ (GCC) 10.3.0
Copyright (C) 2020 Free Software Foundation, Inc.
This is free software; see the source for copying conditions.  There is NO
warranty; not even for MERCHANTABILITY or FITNESS FOR A PARTICULAR PURPOSE.


More information might be added in the future...