Back to Multiple platform build/check report for BioC 3.19:   simplified   long
ABCDEFGHIJKLMNOPQR[S]TUVWXYZ

This page was generated on 2024-03-04 11:39:59 -0500 (Mon, 04 Mar 2024).

HostnameOSArch (*)R versionInstalled pkgs
nebbiolo1Linux (Ubuntu 22.04.3 LTS)x86_64R Under development (unstable) (2024-01-16 r85808) -- "Unsuffered Consequences" 4676
palomino3Windows Server 2022 Datacenterx64R Under development (unstable) (2024-01-14 r85805 ucrt) -- "Unsuffered Consequences" 4414
merida1macOS 12.7.1 Montereyx86_64R Under development (unstable) (2024-01-16 r85808) -- "Unsuffered Consequences" 4441
kunpeng2Linux (openEuler 22.03 LTS-SP1)aarch64R Under development (unstable) (2024-01-16 r85812) -- "Unsuffered Consequences" 4417
Click on any hostname to see more info about the system (e.g. compilers)      (*) as reported by 'uname -p', except on Windows and Mac OS X

Package 2000/2251HostnameOS / ArchINSTALLBUILDCHECKBUILD BIN
Spectra 1.13.5  (landing page)
RforMassSpectrometry Package Maintainer
Snapshot Date: 2024-03-01 14:00:22 -0500 (Fri, 01 Mar 2024)
git_url: https://git.bioconductor.org/packages/Spectra
git_branch: devel
git_last_commit: fe6d461
git_last_commit_date: 2024-03-01 08:16:24 -0500 (Fri, 01 Mar 2024)
nebbiolo1Linux (Ubuntu 22.04.3 LTS) / x86_64  OK    OK    OK  YES
palomino3Windows Server 2022 Datacenter / x64  OK    OK    OK    OK  YES
merida1macOS 12.7.1 Monterey / x86_64  OK    OK    OK    OK  YES
kunpeng2Linux (openEuler 22.03 LTS-SP1) / aarch64  OK    OK    OK  

BUILD results for Spectra on merida1


To the developers/maintainers of the Spectra package:
- Allow up to 24 hours (and sometimes 48 hours) for your latest push to git@git.bioconductor.org:packages/Spectra.git to reflect on this report. See Troubleshooting Build Report for more information.
- Use the following Renviron settings to reproduce errors and warnings.
- If 'R CMD check' started to fail recently on the Linux builder(s) over a missing dependency, add the missing dependency to 'Suggests:' in your DESCRIPTION file. See Renviron.bioc for more information.

raw results


Summary

Package: Spectra
Version: 1.13.5
Command: /Library/Frameworks/R.framework/Resources/bin/R CMD build --keep-empty-dirs --no-resave-data Spectra
StartedAt: 2024-03-01 22:55:51 -0500 (Fri, 01 Mar 2024)
EndedAt: 2024-03-01 22:57:42 -0500 (Fri, 01 Mar 2024)
EllapsedTime: 111.3 seconds
RetCode: 0
Status:   OK  
PackageFile: Spectra_1.13.5.tar.gz
PackageFileSize: 1.474 MiB

Command output

##############################################################################
##############################################################################
###
### Running command:
###
###   /Library/Frameworks/R.framework/Resources/bin/R CMD build --keep-empty-dirs --no-resave-data Spectra
###
##############################################################################
##############################################################################


* checking for file ‘Spectra/DESCRIPTION’ ... OK
* preparing ‘Spectra’:
* checking DESCRIPTION meta-information ... OK
* installing the package to build vignettes
* creating vignettes ... OK
* checking for LF line-endings in source and make files and shell scripts
* checking for empty or unneeded directories
WARNING: directory ‘Spectra/man/figures’ is empty
WARNING: directory ‘Spectra/pkgdown’ is empty
* looking to see if a ‘data/datalist’ file should be added
* building ‘Spectra_1.13.5.tar.gz’