Index of /checkResults/release/bioc-LATEST/BiocSingular/raw-results
Name
Last modified
Size
Description
Parent Directory
-
info.dcf
13-Aug-2022 02:22
299
merida1/
13-Aug-2022 02:22
-
nebbiolo1/
13-Aug-2022 02:19
-
palomino3/
13-Aug-2022 02:21
-
riesling1/
19-Mar-2022 00:07
-