Index of /checkResults/release/bioc-LATEST/BiocSingular/raw-results/nebbiolo1

[ICO]NameLast modifiedSizeDescription

[DIR]Parent Directory  -  
[TXT]buildsrc-out.txt28-Jun-2022 00:09 856  
[   ]buildsrc-summary.dcf28-Jun-2022 00:09 430  
[TXT]checksrc-out.txt28-Jun-2022 00:09 3.2K 
[   ]checksrc-summary.dcf28-Jun-2022 00:09 444  
[TXT]install-out.txt28-Jun-2022 00:09 15K 
[   ]install-summary.dcf28-Jun-2022 00:09 269