Index of /checkResults/release/bioc-LATEST/BiocSingular/raw-results/lconway

[ICO]NameLast modifiedSizeDescription

[DIR]Parent Directory  -  
[TXT]buildbin-out.txt28-May-2024 00:35 4.5K 
[   ]buildbin-summary.dcf28-May-2024 00:35 558  
[TXT]buildsrc-out.txt28-May-2024 00:35 866  
[   ]buildsrc-summary.dcf28-May-2024 00:35 442  
[TXT]checksrc-out.txt28-May-2024 00:35 3.5K 
[   ]checksrc-summary.dcf28-May-2024 00:35 464  
[TXT]install-out.txt28-May-2024 00:35 2.3K 
[   ]install-summary.dcf28-May-2024 00:35 279