Index of /checkResults/release/bioc-LATEST/BiocSingular/raw-results/merida1

[ICO]NameLast modifiedSizeDescription

[DIR]Parent Directory  -  
[TXT]buildbin-out.txt25-Jun-2022 01:07 12K 
[   ]buildbin-summary.dcf25-Jun-2022 01:07 558  
[TXT]buildsrc-out.txt25-Jun-2022 01:07 866  
[   ]buildsrc-summary.dcf25-Jun-2022 01:07 442  
[TXT]checksrc-out.txt25-Jun-2022 01:07 3.2K 
[   ]checksrc-summary.dcf25-Jun-2022 01:07 464  
[TXT]install-out.txt25-Jun-2022 01:07 11K 
[   ]install-summary.dcf25-Jun-2022 01:07 279