Index of /checkResults/release/bioc-LATEST/BiocSingular/raw-results

[ICO]NameLast modifiedSizeDescription

[DIR]Parent Directory  -  
[DIR]palomino4/02-Dec-2022 01:06 -  
[DIR]nebbiolo2/02-Dec-2022 01:05 -  
[DIR]lconway/02-Dec-2022 01:08 -  
[DIR]kjohnson/12-Jul-2022 00:06 -  
[   ]info.dcf02-Dec-2022 01:08 299