![]() | Name | Last modified | Size | Description |
---|---|---|---|---|
![]() | Parent Directory | - | ||
![]() | buildbin-out.txt | 31-May-2023 00:05 | 16K | |
![]() | buildbin-summary.dcf | 31-May-2023 00:05 | 545 | |
![]() | buildsrc-out.txt | 31-May-2023 00:05 | 896 | |
![]() | buildsrc-summary.dcf | 31-May-2023 00:05 | 472 | |
![]() | checksrc-out.txt | 31-May-2023 00:05 | 4.4K | |
![]() | checksrc-summary.dcf | 31-May-2023 00:05 | 473 | |
![]() | install-out.txt | 31-May-2023 00:05 | 15K | |
![]() | install-summary.dcf | 31-May-2023 00:05 | 278 | |