Index of /checkResults/devel/workflows-LATEST/rnaseqGene/raw-results

[ICO]NameLast modifiedSizeDescription

[DIR]Parent Directory  -  
[   ]info.dcf02-Dec-2023 04:00 831  
[DIR]merida1/02-Dec-2023 04:00 -  
[DIR]nebbiolo1/02-Dec-2023 04:00 -  
[DIR]palomino3/02-Dec-2023 04:00 -