Index of /checkResults/devel/workflows-LATEST/rnaseqGene/raw-results/merida1

[ICO]NameLast modifiedSizeDescription

[DIR]Parent Directory  -  
[TXT]buildsrc-out.txt21-Feb-2024 04:00 902  
[   ]buildsrc-summary.dcf21-Feb-2024 04:00 437  
[TXT]install-out.txt21-Feb-2024 04:00 1.0K 
[   ]install-summary.dcf21-Feb-2024 04:00 275