Index of /checkResults/devel/workflows-LATEST/rnaseqGene/raw-results/palomino3

[ICO]NameLast modifiedSizeDescription

[DIR]Parent Directory  -  
[TXT]buildsrc-out.txt21-Feb-2024 04:00 926  
[   ]buildsrc-summary.dcf21-Feb-2024 04:00 466  
[TXT]install-out.txt21-Feb-2024 04:00 957  
[   ]install-summary.dcf21-Feb-2024 04:00 274