Index of /checkResults/devel/workflows-LATEST/rnaseqGene/raw-results/nebbiolo1

[ICO]NameLast modifiedSizeDescription

[DIR]Parent Directory  -  
[TXT]buildsrc-out.txt21-Feb-2024 04:00 892  
[   ]buildsrc-summary.dcf21-Feb-2024 04:00 427  
[TXT]install-out.txt21-Feb-2024 04:00 952  
[   ]install-summary.dcf21-Feb-2024 04:00 265