Index of /checkResults/devel/workflows-LATEST/rnaseqGene/raw-results

[ICO]NameLast modifiedSizeDescription

[DIR]Parent Directory  -  
[DIR]merida1/21-Feb-2024 04:00 -  
[DIR]nebbiolo1/21-Feb-2024 04:00 -  
[DIR]palomino3/21-Feb-2024 04:00 -  
[   ]info.dcf21-Feb-2024 04:00 831