Index of /checkResults/devel/workflows-LATEST/rnaseqDTU/raw-results

[ICO]NameLast modifiedSizeDescription

[DIR]Parent Directory  -  
[   ]info.dcf07-Jun-2023 03:00 275  
[DIR]lconway/07-Jun-2023 03:00 -  
[DIR]nebbiolo2/07-Jun-2023 03:00 -  
[DIR]palomino4/07-Jun-2023 03:00 -