Index of /checkResults/devel/workflows-LATEST/rnaseqDTU/raw-results

[ICO]NameLast modifiedSizeDescription

[DIR]Parent Directory  -  
[DIR]nebbiolo2/30-Sep-2023 03:00 -  
[DIR]palomino4/30-Sep-2023 03:00 -  
[   ]info.dcf30-Sep-2023 03:00 275  
[DIR]lconway/30-Sep-2023 03:00 -