Index of /checkResults/devel/workflows-LATEST/rnaseqDTU/raw-results/nebbiolo2
Name
Last modified
Size
Description
Parent Directory
-
buildsrc-out.txt
23-Sep-2023 03:00
814
buildsrc-summary.dcf
23-Sep-2023 03:00
424
install-out.txt
23-Sep-2023 03:00
1.0K
install-summary.dcf
23-Sep-2023 03:00
263