Index of /checkResults/devel/workflows-LATEST/rnaseqDTU/raw-results/palomino4
Name
Last modified
Size
Description
Parent Directory
-
buildsrc-out.txt
30-Sep-2023 03:00
849
buildsrc-summary.dcf
30-Sep-2023 03:00
461
install-out.txt
30-Sep-2023 03:00
1.0K
install-summary.dcf
30-Sep-2023 03:00
272