Index of /checkResults/devel/workflows-LATEST/rnaseqDTU/raw-results/lconway
Name
Last modified
Size
Description
Parent Directory
-
buildsrc-out.txt
30-Sep-2023 03:00
824
buildsrc-summary.dcf
30-Sep-2023 03:00
434
install-out.txt
30-Sep-2023 03:00
1.0K
install-summary.dcf
30-Sep-2023 03:00
273