Index of /checkResults/devel/workflows-LATEST/GeoMxWorkflows/raw-results

[ICO]NameLast modifiedSizeDescription

[DIR]Parent Directory  -  
[   ]info.dcf02-Jul-2022 10:00 280  
[DIR]lconway/02-Jul-2022 10:00 -  
[DIR]nebbiolo2/02-Jul-2022 10:00 -  
[DIR]palomino4/02-Jul-2022 10:00 -