![]() | Name | Last modified | Size | Description |
---|---|---|---|---|
![]() | Parent Directory | - | ||
![]() | buildsrc-out.txt | 01-Oct-2023 00:36 | 896 | |
![]() | buildsrc-summary.dcf | 01-Oct-2023 00:36 | 424 | |
![]() | checksrc-out.txt | 01-Oct-2023 00:36 | 4.4K | |
![]() | checksrc-summary.dcf | 01-Oct-2023 00:36 | 431 | |
![]() | install-out.txt | 01-Oct-2023 00:36 | 9.7K | |
![]() | install-summary.dcf | 01-Oct-2023 00:36 | 264 | |