![]() | Name | Last modified | Size | Description |
---|---|---|---|---|
![]() | Parent Directory | - | ||
![]() | buildbin-out.txt | 30-Sep-2023 01:05 | 9.8K | |
![]() | buildbin-summary.dcf | 30-Sep-2023 01:05 | 546 | |
![]() | buildsrc-out.txt | 30-Sep-2023 01:05 | 906 | |
![]() | buildsrc-summary.dcf | 30-Sep-2023 01:05 | 436 | |
![]() | checksrc-out.txt | 30-Sep-2023 01:05 | 4.5K | |
![]() | checksrc-summary.dcf | 30-Sep-2023 01:05 | 461 | |
![]() | install-out.txt | 30-Sep-2023 01:05 | 7.7K | |
![]() | install-summary.dcf | 30-Sep-2023 01:05 | 275 | |