Index of /checkResults/devel/bioc-LATEST/ternarynet/raw-results/palomino4

[ICO]NameLast modifiedSizeDescription

[DIR]Parent Directory  -  
[TXT]buildbin-out.txt04-Oct-2023 00:38 12K 
[   ]buildbin-summary.dcf04-Oct-2023 00:38 533  
[TXT]buildsrc-out.txt04-Oct-2023 00:38 966  
[   ]buildsrc-summary.dcf04-Oct-2023 00:38 464  
[TXT]checksrc-out.txt04-Oct-2023 00:38 4.5K 
[   ]checksrc-summary.dcf04-Oct-2023 00:38 458  
[TXT]install-out.txt04-Oct-2023 00:38 12K 
[   ]install-summary.dcf04-Oct-2023 00:38 274