Index of /checkResults/devel/bioc-LATEST/ternarynet/raw-results/merida1

[ICO]NameLast modifiedSizeDescription

[DIR]Parent Directory  -  
[TXT]buildbin-out.txt29-Jan-2023 01:10 5.7K 
[   ]buildbin-summary.dcf29-Jan-2023 01:10 548  
[TXT]buildsrc-out.txt29-Jan-2023 01:10 906  
[   ]buildsrc-summary.dcf29-Jan-2023 01:10 436  
[TXT]checksrc-out.txt29-Jan-2023 01:10 4.9K 
[   ]checksrc-summary.dcf29-Jan-2023 01:10 462  
[TXT]install-out.txt29-Jan-2023 01:10 4.8K 
[   ]install-summary.dcf29-Jan-2023 01:10 275