Index of /checkResults/devel/bioc-LATEST/ternarynet/raw-results
Name
Last modified
Size
Description
Parent Directory
-
nebbiolo1/
29-Jan-2023 01:06
-
palomino3/
29-Jan-2023 01:08
-
info.dcf
29-Jan-2023 01:10
273
merida1/
29-Jan-2023 01:10
-