Back to Multiple platform build/check report for BioC 3.15
ABC[D]EFGHIJKLMNOPQRSTUVWXYZ

This page was generated on 2022-01-26 11:05:55 -0500 (Wed, 26 Jan 2022).

HostnameOSArch (*)R versionInstalled pkgs
nebbiolo1Linux (Ubuntu 20.04.4 LTS)x86_64R Under development (unstable) (2022-01-05 r81451) -- "Unsuffered Consequences" 4164
riesling1Windows Server 2019 Standardx64R Under development (unstable) (2021-11-21 r81221) -- "Unsuffered Consequences" 4059
palomino3Windows Server 2022 Datacenterx64R Under development (unstable) (2021-12-21 r81400 ucrt) -- "Unsuffered Consequences" 4001
merida1macOS 10.14.6 Mojavex86_64R Under development (unstable) (2022-01-05 r81451) -- "Unsuffered Consequences" 4118
Click on any hostname to see more info about the system (e.g. compilers)      (*) as reported by 'uname -p', except on Windows and Mac OS X

CHECK results for DiffBind on nebbiolo1


To the developers/maintainers of the DiffBind package:
- Please allow up to 24 hours (and sometimes 48 hours) for your latest push to git@git.bioconductor.org:packages/DiffBind.git to
reflect on this report. See How and When does the builder pull? When will my changes propagate? here for more information.
- Make sure to use the following settings in order to reproduce any error or warning you see on this page.

raw results

Package 504/2075HostnameOS / ArchINSTALLBUILDCHECKBUILD BIN
DiffBind 3.5.4  (landing page)
Rory Stark
Snapshot Date: 2022-01-25 13:55:17 -0500 (Tue, 25 Jan 2022)
git_url: https://git.bioconductor.org/packages/DiffBind
git_branch: master
git_last_commit: f30e1d6
git_last_commit_date: 2022-01-20 14:15:31 -0500 (Thu, 20 Jan 2022)
nebbiolo1Linux (Ubuntu 20.04.4 LTS) / x86_64  OK    OK    OK  UNNEEDED, same version is already published
riesling1Windows Server 2019 Standard / x64  OK    OK    OK    OK  
palomino3Windows Server 2022 Datacenter / x64  OK    OK    OK    OK  NO, package depends on 'GenomicRanges' which is not available
merida1macOS 10.14.6 Mojave / x86_64  OK    OK    OK    OK  UNNEEDED, same version is already published

Summary

Package: DiffBind
Version: 3.5.4
Command: /home/biocbuild/bbs-3.15-bioc/R/bin/R CMD check --install=check:DiffBind.install-out.txt --library=/home/biocbuild/bbs-3.15-bioc/R/library --no-vignettes --timings DiffBind_3.5.4.tar.gz
StartedAt: 2022-01-25 18:56:05 -0500 (Tue, 25 Jan 2022)
EndedAt: 2022-01-25 19:04:13 -0500 (Tue, 25 Jan 2022)
EllapsedTime: 487.2 seconds
RetCode: 0
Status:   OK  
CheckDir: DiffBind.Rcheck
Warnings: 0

Command output

##############################################################################
##############################################################################
###
### Running command:
###
###   /home/biocbuild/bbs-3.15-bioc/R/bin/R CMD check --install=check:DiffBind.install-out.txt --library=/home/biocbuild/bbs-3.15-bioc/R/library --no-vignettes --timings DiffBind_3.5.4.tar.gz
###
##############################################################################
##############################################################################


* using log directory ‘/home/biocbuild/bbs-3.15-bioc/meat/DiffBind.Rcheck’
* using R Under development (unstable) (2022-01-05 r81451)
* using platform: x86_64-pc-linux-gnu (64-bit)
* using session charset: UTF-8
* using option ‘--no-vignettes’
* checking for file ‘DiffBind/DESCRIPTION’ ... OK
* checking extension type ... Package
* this is package ‘DiffBind’ version ‘3.5.4’
* checking package namespace information ... OK
* checking package dependencies ... NOTE
Package which this enhances but not available for checking: ‘XLConnect’
* checking if this is a source package ... OK
* checking if there is a namespace ... OK
* checking for hidden files and directories ... OK
* checking for portable file names ... OK
* checking for sufficient/correct file permissions ... OK
* checking whether package ‘DiffBind’ can be installed ... OK
* checking installed package size ... NOTE
  installed size is  7.5Mb
  sub-directories of 1Mb or more:
    data    2.0Mb
    extra   1.3Mb
    libs    3.3Mb
* checking package directory ... OK
* checking ‘build’ directory ... OK
* checking DESCRIPTION meta-information ... OK
* checking top-level files ... OK
* checking for left-over files ... OK
* checking index information ... OK
* checking package subdirectories ... OK
* checking R files for non-ASCII characters ... OK
* checking R files for syntax errors ... OK
* checking whether the package can be loaded ... OK
* checking whether the package can be loaded with stated dependencies ... OK
* checking whether the package can be unloaded cleanly ... OK
* checking whether the namespace can be loaded with stated dependencies ... OK
* checking whether the namespace can be unloaded cleanly ... OK
* checking dependencies in R code ... OK
* checking S3 generic/method consistency ... OK
* checking replacement functions ... OK
* checking foreign function calls ... OK
* checking R code for possible problems ... OK
* checking Rd files ... OK
* checking Rd metadata ... OK
* checking Rd cross-references ... OK
* checking for missing documentation entries ... OK
* checking for code/documentation mismatches ... OK
* checking Rd \usage sections ... OK
* checking Rd contents ... OK
* checking for unstated dependencies in examples ... OK
* checking contents of ‘data’ directory ... OK
* checking data for non-ASCII characters ... OK
* checking data for ASCII and uncompressed saves ... OK
* checking line endings in C/C++/Fortran sources/headers ... OK
* checking line endings in Makefiles ... OK
* checking compilation flags in Makevars ... OK
* checking for GNU extensions in Makefiles ... NOTE
GNU make is a SystemRequirements.
* checking for portable use of $(BLAS_LIBS) and $(LAPACK_LIBS) ... OK
* checking use of PKG_*FLAGS in Makefiles ... OK
* checking compiled code ... NOTE
Note: information on .o files is not available
File ‘/home/biocbuild/bbs-3.15-bioc/R/library/DiffBind/libs/DiffBind.so’:
  Found ‘__printf_chk’, possibly from ‘printf’ (C)
  Found ‘abort’, possibly from ‘abort’ (C)
  Found ‘exit’, possibly from ‘exit’ (C)
  Found ‘putchar’, possibly from ‘putchar’ (C)
  Found ‘puts’, possibly from ‘printf’ (C), ‘puts’ (C)
  Found ‘srand48’, possibly from ‘srand48’ (C)
  Found ‘stderr’, possibly from ‘stderr’ (C)
  Found ‘stdout’, possibly from ‘stdout’ (C)

Compiled code should not call entry points which might terminate R nor
write to stdout/stderr instead of to the console, nor use Fortran I/O
nor system RNGs. The detected symbols are linked into the code but
might come from libraries and not actually be called.

See ‘Writing portable packages’ in the ‘Writing R Extensions’ manual.
* checking files in ‘vignettes’ ... OK
* checking examples ... OK
Examples with CPU (user + system) or elapsed time > 5s
                  user system elapsed
dba.contrast    33.824  0.136  33.564
dba.plotVenn    20.767  0.109  20.847
dba.normalize   18.596  0.124  18.628
dba.analyze     11.705  0.256  11.916
dba.plotMA      10.095  0.060  10.109
dba.plotHeatmap  6.381  0.080   6.310
dba.blacklist    6.219  0.038   6.288
* checking for unstated dependencies in ‘tests’ ... OK
* checking tests ...
  Running ‘testthat.R’
 OK
* checking for unstated dependencies in vignettes ... OK
* checking package vignettes in ‘inst/doc’ ... OK
* checking running R code from vignettes ... SKIPPED
* checking re-building of vignette outputs ... SKIPPED
* checking PDF version of manual ... OK
* DONE

Status: 4 NOTEs
See
  ‘/home/biocbuild/bbs-3.15-bioc/meat/DiffBind.Rcheck/00check.log’
for details.



Installation output

DiffBind.Rcheck/00install.out

##############################################################################
##############################################################################
###
### Running command:
###
###   /home/biocbuild/bbs-3.15-bioc/R/bin/R CMD INSTALL DiffBind
###
##############################################################################
##############################################################################


* installing to library ‘/home/biocbuild/bbs-3.15-bioc/R/library’
* installing *source* package ‘DiffBind’ ...
** using staged installation
** libs
g++ -std=gnu++14 -I"/home/biocbuild/bbs-3.15-bioc/R/include" -DNDEBUG -D_FILE_OFFSET_BITS=64 -I'/home/biocbuild/bbs-3.15-bioc/R/library/Rhtslib/include' -I'/home/biocbuild/bbs-3.15-bioc/R/library/Rcpp/include' -I/usr/local/include   -fpic  -g -O2  -Wall -c RcppExports.cpp -o RcppExports.o
g++ -std=gnu++14 -I"/home/biocbuild/bbs-3.15-bioc/R/include" -DNDEBUG -D_FILE_OFFSET_BITS=64 -I'/home/biocbuild/bbs-3.15-bioc/R/library/Rhtslib/include' -I'/home/biocbuild/bbs-3.15-bioc/R/library/Rcpp/include' -I/usr/local/include   -fpic  -g -O2  -Wall -c bamReader.cpp -o bamReader.o
gcc -I"/home/biocbuild/bbs-3.15-bioc/R/include" -DNDEBUG -D_FILE_OFFSET_BITS=64 -I'/home/biocbuild/bbs-3.15-bioc/R/library/Rhtslib/include' -I'/home/biocbuild/bbs-3.15-bioc/R/library/Rcpp/include' -I/usr/local/include   -fpic  -g -O2  -Wall -c bam_plbuf.c -o bam_plbuf.o
g++ -std=gnu++14 -I"/home/biocbuild/bbs-3.15-bioc/R/include" -DNDEBUG -D_FILE_OFFSET_BITS=64 -I'/home/biocbuild/bbs-3.15-bioc/R/library/Rhtslib/include' -I'/home/biocbuild/bbs-3.15-bioc/R/library/Rcpp/include' -I/usr/local/include   -fpic  -g -O2  -Wall -c bedReader.cpp -o bedReader.o
g++ -std=gnu++14 -I"/home/biocbuild/bbs-3.15-bioc/R/include" -DNDEBUG -D_FILE_OFFSET_BITS=64 -I'/home/biocbuild/bbs-3.15-bioc/R/library/Rhtslib/include' -I'/home/biocbuild/bbs-3.15-bioc/R/library/Rcpp/include' -I/usr/local/include   -fpic  -g -O2  -Wall -c bitBucket.cpp -o bitBucket.o
g++ -std=gnu++14 -I"/home/biocbuild/bbs-3.15-bioc/R/include" -DNDEBUG -D_FILE_OFFSET_BITS=64 -I'/home/biocbuild/bbs-3.15-bioc/R/library/Rhtslib/include' -I'/home/biocbuild/bbs-3.15-bioc/R/library/Rcpp/include' -I/usr/local/include   -fpic  -g -O2  -Wall -c croi_func.cpp -o croi_func.o
g++ -std=gnu++14 -I"/home/biocbuild/bbs-3.15-bioc/R/include" -DNDEBUG -D_FILE_OFFSET_BITS=64 -I'/home/biocbuild/bbs-3.15-bioc/R/library/Rhtslib/include' -I'/home/biocbuild/bbs-3.15-bioc/R/library/Rcpp/include' -I/usr/local/include   -fpic  -g -O2  -Wall -c croi_main.cpp -o croi_main.o
g++ -std=gnu++14 -I"/home/biocbuild/bbs-3.15-bioc/R/include" -DNDEBUG -D_FILE_OFFSET_BITS=64 -I'/home/biocbuild/bbs-3.15-bioc/R/library/Rhtslib/include' -I'/home/biocbuild/bbs-3.15-bioc/R/library/Rcpp/include' -I/usr/local/include   -fpic  -g -O2  -Wall -c densitySet.cpp -o densitySet.o
g++ -std=gnu++14 -I"/home/biocbuild/bbs-3.15-bioc/R/include" -DNDEBUG -D_FILE_OFFSET_BITS=64 -I'/home/biocbuild/bbs-3.15-bioc/R/library/Rhtslib/include' -I'/home/biocbuild/bbs-3.15-bioc/R/library/Rcpp/include' -I/usr/local/include   -fpic  -g -O2  -Wall -c iBucket.cpp -o iBucket.o
g++ -std=gnu++14 -I"/home/biocbuild/bbs-3.15-bioc/R/include" -DNDEBUG -D_FILE_OFFSET_BITS=64 -I'/home/biocbuild/bbs-3.15-bioc/R/library/Rhtslib/include' -I'/home/biocbuild/bbs-3.15-bioc/R/library/Rcpp/include' -I/usr/local/include   -fpic  -g -O2  -Wall -c interval.cpp -o interval.o
g++ -std=gnu++14 -I"/home/biocbuild/bbs-3.15-bioc/R/include" -DNDEBUG -D_FILE_OFFSET_BITS=64 -I'/home/biocbuild/bbs-3.15-bioc/R/library/Rhtslib/include' -I'/home/biocbuild/bbs-3.15-bioc/R/library/Rcpp/include' -I/usr/local/include   -fpic  -g -O2  -Wall -c intervalDensity.cpp -o intervalDensity.o
g++ -std=gnu++14 -I"/home/biocbuild/bbs-3.15-bioc/R/include" -DNDEBUG -D_FILE_OFFSET_BITS=64 -I'/home/biocbuild/bbs-3.15-bioc/R/library/Rhtslib/include' -I'/home/biocbuild/bbs-3.15-bioc/R/library/Rcpp/include' -I/usr/local/include   -fpic  -g -O2  -Wall -c intervalNode.cpp -o intervalNode.o
g++ -std=gnu++14 -I"/home/biocbuild/bbs-3.15-bioc/R/include" -DNDEBUG -D_FILE_OFFSET_BITS=64 -I'/home/biocbuild/bbs-3.15-bioc/R/library/Rhtslib/include' -I'/home/biocbuild/bbs-3.15-bioc/R/library/Rcpp/include' -I/usr/local/include   -fpic  -g -O2  -Wall -c intervalSet.cpp -o intervalSet.o
g++ -std=gnu++14 -I"/home/biocbuild/bbs-3.15-bioc/R/include" -DNDEBUG -D_FILE_OFFSET_BITS=64 -I'/home/biocbuild/bbs-3.15-bioc/R/library/Rhtslib/include' -I'/home/biocbuild/bbs-3.15-bioc/R/library/Rcpp/include' -I/usr/local/include   -fpic  -g -O2  -Wall -c intervalTree.cpp -o intervalTree.o
g++ -std=gnu++14 -I"/home/biocbuild/bbs-3.15-bioc/R/include" -DNDEBUG -D_FILE_OFFSET_BITS=64 -I'/home/biocbuild/bbs-3.15-bioc/R/library/Rhtslib/include' -I'/home/biocbuild/bbs-3.15-bioc/R/library/Rcpp/include' -I/usr/local/include   -fpic  -g -O2  -Wall -c merge.cpp -o merge.o
gcc -I"/home/biocbuild/bbs-3.15-bioc/R/include" -DNDEBUG -D_FILE_OFFSET_BITS=64 -I'/home/biocbuild/bbs-3.15-bioc/R/library/Rhtslib/include' -I'/home/biocbuild/bbs-3.15-bioc/R/library/Rcpp/include' -I/usr/local/include   -fpic  -g -O2  -Wall -c mergeOne.c -o mergeOne.o
g++ -std=gnu++14 -I"/home/biocbuild/bbs-3.15-bioc/R/include" -DNDEBUG -D_FILE_OFFSET_BITS=64 -I'/home/biocbuild/bbs-3.15-bioc/R/library/Rhtslib/include' -I'/home/biocbuild/bbs-3.15-bioc/R/library/Rcpp/include' -I/usr/local/include   -fpic  -g -O2  -Wall -c nodeGroup.cpp -o nodeGroup.o
g++ -std=gnu++14 -I"/home/biocbuild/bbs-3.15-bioc/R/include" -DNDEBUG -D_FILE_OFFSET_BITS=64 -I'/home/biocbuild/bbs-3.15-bioc/R/library/Rhtslib/include' -I'/home/biocbuild/bbs-3.15-bioc/R/library/Rcpp/include' -I/usr/local/include   -fpic  -g -O2  -Wall -c peakOrder.cpp -o peakOrder.o
g++ -std=gnu++14 -I"/home/biocbuild/bbs-3.15-bioc/R/include" -DNDEBUG -D_FILE_OFFSET_BITS=64 -I'/home/biocbuild/bbs-3.15-bioc/R/library/Rhtslib/include' -I'/home/biocbuild/bbs-3.15-bioc/R/library/Rcpp/include' -I/usr/local/include   -fpic  -g -O2  -Wall -c reader.cpp -o reader.o
gcc -I"/home/biocbuild/bbs-3.15-bioc/R/include" -DNDEBUG -D_FILE_OFFSET_BITS=64 -I'/home/biocbuild/bbs-3.15-bioc/R/library/Rhtslib/include' -I'/home/biocbuild/bbs-3.15-bioc/R/library/Rcpp/include' -I/usr/local/include   -fpic  -g -O2  -Wall -c sam.c -o sam.o
g++ -std=gnu++14 -I"/home/biocbuild/bbs-3.15-bioc/R/include" -DNDEBUG -D_FILE_OFFSET_BITS=64 -I'/home/biocbuild/bbs-3.15-bioc/R/library/Rhtslib/include' -I'/home/biocbuild/bbs-3.15-bioc/R/library/Rcpp/include' -I/usr/local/include   -fpic  -g -O2  -Wall -c sequence.cpp -o sequence.o
g++ -std=gnu++14 -I"/home/biocbuild/bbs-3.15-bioc/R/include" -DNDEBUG -D_FILE_OFFSET_BITS=64 -I'/home/biocbuild/bbs-3.15-bioc/R/library/Rhtslib/include' -I'/home/biocbuild/bbs-3.15-bioc/R/library/Rcpp/include' -I/usr/local/include   -fpic  -g -O2  -Wall -c util.cpp -o util.o
g++ -std=gnu++14 -shared -L/home/biocbuild/bbs-3.15-bioc/R/lib -L/usr/local/lib -o DiffBind.so RcppExports.o bamReader.o bam_plbuf.o bedReader.o bitBucket.o croi_func.o croi_main.o densitySet.o iBucket.o interval.o intervalDensity.o intervalNode.o intervalSet.o intervalTree.o merge.o mergeOne.o nodeGroup.o peakOrder.o reader.o sam.o sequence.o util.o /home/biocbuild/bbs-3.15-bioc/R/library/Rhtslib/usrlib/libhts.a -lcurl -L/home/biocbuild/bbs-3.15-bioc/R/lib -lR
installing to /home/biocbuild/bbs-3.15-bioc/R/library/00LOCK-DiffBind/00new/DiffBind/libs
** R
** data
** inst
** byte-compile and prepare package for lazy loading
** help
*** installing help indices
** building package indices
** installing vignettes
** testing if installed package can be loaded from temporary location
** checking absolute paths in shared objects and dynamic libraries
** testing if installed package can be loaded from final location
** testing if installed package keeps a record of temporary installation path
* DONE (DiffBind)

Tests output

DiffBind.Rcheck/tests/testthat.Rout


R Under development (unstable) (2022-01-05 r81451) -- "Unsuffered Consequences"
Copyright (C) 2022 The R Foundation for Statistical Computing
Platform: x86_64-pc-linux-gnu (64-bit)

R is free software and comes with ABSOLUTELY NO WARRANTY.
You are welcome to redistribute it under certain conditions.
Type 'license()' or 'licence()' for distribution details.

R is a collaborative project with many contributors.
Type 'contributors()' for more information and
'citation()' on how to cite R or R packages in publications.

Type 'demo()' for some demos, 'help()' for on-line help, or
'help.start()' for an HTML browser interface to help.
Type 'q()' to quit R.

> library(testthat)
> library(DiffBind)
Loading required package: GenomicRanges
Loading required package: stats4
Loading required package: BiocGenerics

Attaching package: 'BiocGenerics'

The following objects are masked from 'package:stats':

    IQR, mad, sd, var, xtabs

The following objects are masked from 'package:base':

    Filter, Find, Map, Position, Reduce, anyDuplicated, append,
    as.data.frame, basename, cbind, colnames, dirname, do.call,
    duplicated, eval, evalq, get, grep, grepl, intersect, is.unsorted,
    lapply, mapply, match, mget, order, paste, pmax, pmax.int, pmin,
    pmin.int, rank, rbind, rownames, sapply, setdiff, sort, table,
    tapply, union, unique, unsplit, which.max, which.min

Loading required package: S4Vectors

Attaching package: 'S4Vectors'

The following objects are masked from 'package:base':

    I, expand.grid, unname

Loading required package: IRanges
Loading required package: GenomeInfoDb
Loading required package: SummarizedExperiment
Loading required package: MatrixGenerics
Loading required package: matrixStats

Attaching package: 'MatrixGenerics'

The following objects are masked from 'package:matrixStats':

    colAlls, colAnyNAs, colAnys, colAvgsPerRowSet, colCollapse,
    colCounts, colCummaxs, colCummins, colCumprods, colCumsums,
    colDiffs, colIQRDiffs, colIQRs, colLogSumExps, colMadDiffs,
    colMads, colMaxs, colMeans2, colMedians, colMins, colOrderStats,
    colProds, colQuantiles, colRanges, colRanks, colSdDiffs, colSds,
    colSums2, colTabulates, colVarDiffs, colVars, colWeightedMads,
    colWeightedMeans, colWeightedMedians, colWeightedSds,
    colWeightedVars, rowAlls, rowAnyNAs, rowAnys, rowAvgsPerColSet,
    rowCollapse, rowCounts, rowCummaxs, rowCummins, rowCumprods,
    rowCumsums, rowDiffs, rowIQRDiffs, rowIQRs, rowLogSumExps,
    rowMadDiffs, rowMads, rowMaxs, rowMeans2, rowMedians, rowMins,
    rowOrderStats, rowProds, rowQuantiles, rowRanges, rowRanks,
    rowSdDiffs, rowSds, rowSums2, rowTabulates, rowVarDiffs, rowVars,
    rowWeightedMads, rowWeightedMeans, rowWeightedMedians,
    rowWeightedSds, rowWeightedVars

Loading required package: Biobase
Welcome to Bioconductor

    Vignettes contain introductory material; view with
    'browseVignettes()'. To cite Bioconductor, see
    'citation("Biobase")', and for packages 'citation("pkgname")'.


Attaching package: 'Biobase'

The following object is masked from 'package:MatrixGenerics':

    rowMedians

The following objects are masked from 'package:matrixStats':

    anyMissing, rowMedians

 >>> DiffBind 3.4
> 
> test_check("DiffBind")
[ FAIL 0 | WARN 1 | SKIP 1 | PASS 132 ]

══ Skipped tests ═══════════════════════════════════════════════════════════════
• empty test (1)

[ FAIL 0 | WARN 1 | SKIP 1 | PASS 132 ]
> 
> proc.time()
   user  system elapsed 
 89.873   2.403  91.986 

Example timings

DiffBind.Rcheck/DiffBind-Ex.timings

nameusersystemelapsed
dba1.3610.0491.424
dba.analyze11.705 0.25611.916
dba.blacklist6.2190.0386.288
dba.contrast33.824 0.13633.564
dba.count1.7200.0171.737
dba.load0.0650.0040.069
dba.mask0.0570.0080.081
dba.normalize18.596 0.12418.628
dba.overlap0.4520.0050.475
dba.peakset1.0870.0321.114
dba.plotBox0.3450.0080.353
dba.plotHeatmap6.3810.0806.310
dba.plotMA10.095 0.06010.109
dba.plotPCA0.9720.0230.995
dba.plotProfile0.1870.0080.195
dba.plotVenn20.767 0.10920.847
dba.plotVolcano2.3070.0322.292
dba.report3.2470.0163.218
dba.save000
dba.show0.430.020.45
print.DBA0.0740.0040.078
tamoxifen0.4620.0000.461