Back to Multiple platform build/check report for BioC 3.14
ABCDEFGHIJKLMNOPQR[S]TUVWXYZ

This page was generated on 2021-10-23 14:07:19 -0400 (Sat, 23 Oct 2021).

BUILD results for splatter on merida1

To the developers/maintainers of the splatter package:
- Please allow up to 24 hours (and sometimes 48 hours) for your latest push to git@git.bioconductor.org:packages/splatter.git to
reflect on this report. See How and When does the builder pull? When will my changes propagate? here for more information.
- Make sure to use the following settings in order to reproduce any error or warning you see on this page.

raw results

Package 1861/2083HostnameOS / ArchINSTALLBUILDCHECKBUILD BIN
splatter 1.17.4  (landing page)
Luke Zappia
Snapshot Date: 2021-10-22 14:50:11 -0400 (Fri, 22 Oct 2021)
git_url: https://git.bioconductor.org/packages/splatter
git_branch: master
git_last_commit: 58bb6c9
git_last_commit_date: 2021-10-22 04:10:18 -0400 (Fri, 22 Oct 2021)
nebbiolo2Linux (Ubuntu 20.04.2 LTS) / x86_64  OK    OK    OK  YES
riesling1Windows Server 2019 Standard / x64  OK    OK    OK    OK  YES
merida1macOS 10.14.6 Mojave / x86_64  OK    OK    OK    OK  YES

Summary

Package: splatter
Version: 1.17.4
Command: /Library/Frameworks/R.framework/Resources/bin/R CMD build --keep-empty-dirs --no-resave-data splatter
StartedAt: 2021-10-22 23:31:27 -0400 (Fri, 22 Oct 2021)
EndedAt: 2021-10-22 23:36:36 -0400 (Fri, 22 Oct 2021)
EllapsedTime: 309.3 seconds
RetCode: 0
Status:   OK  
PackageFile: splatter_1.17.4.tar.gz
PackageFileSize: 7.071 MiB

Command output

##############################################################################
##############################################################################
###
### Running command:
###
###   /Library/Frameworks/R.framework/Resources/bin/R CMD build --keep-empty-dirs --no-resave-data splatter
###
##############################################################################
##############################################################################


* checking for file ‘splatter/DESCRIPTION’ ... OK
* preparing ‘splatter’:
* checking DESCRIPTION meta-information ... OK
* installing the package to build vignettes
* creating vignettes ... OK
* checking for LF line-endings in source and make files and shell scripts
* checking for empty or unneeded directories
Omitted ‘LazyData’ from DESCRIPTION
* building ‘splatter_1.17.4.tar.gz’