Back to Multiple platform build/check report for BioC 3.17:   simplified   long
ABCDEFGHIJKLMNOPQR[S]TUVWXYZ

This page was generated on 2023-02-04 11:06:33 -0500 (Sat, 04 Feb 2023).

HostnameOSArch (*)R versionInstalled pkgs
nebbiolo1Linux (Ubuntu 22.04.1 LTS)x86_64R Under development (unstable) (2023-01-10 r83596) -- "Unsuffered Consequences" 4483
palomino3Windows Server 2022 Datacenterx64R Under development (unstable) (2023-01-10 r83596 ucrt) -- "Unsuffered Consequences" 4249
merida1macOS 10.14.6 Mojavex86_64R Under development (unstable) (2023-01-10 r83596) -- "Unsuffered Consequences" 4272
Click on any hostname to see more info about the system (e.g. compilers)      (*) as reported by 'uname -p', except on Windows and Mac OS X

BUILD results for singscore on merida1


To the developers/maintainers of the singscore package:
- Please allow up to 24 hours (and sometimes 48 hours) for your latest push to git@git.bioconductor.org:packages/singscore.git to
reflect on this report. See How and When does the builder pull? When will my changes propagate? for more information.
- Make sure to use the following settings in order to reproduce any error or warning you see on this page.

raw results

Package 1879/2164HostnameOS / ArchINSTALLBUILDCHECKBUILD BIN
singscore 1.19.0  (landing page)
Dharmesh D. Bhuva
Snapshot Date: 2023-02-03 14:00:22 -0500 (Fri, 03 Feb 2023)
git_url: https://git.bioconductor.org/packages/singscore
git_branch: master
git_last_commit: 12a6f26
git_last_commit_date: 2022-11-01 11:17:48 -0500 (Tue, 01 Nov 2022)
nebbiolo1Linux (Ubuntu 22.04.1 LTS) / x86_64  OK    OK    OK  UNNEEDED, same version is already published
palomino3Windows Server 2022 Datacenter / x64  OK    OK    OK    NA  
merida1macOS 10.14.6 Mojave / x86_64  OK    OK    OK    OK  UNNEEDED, same version is already published

Summary

Package: singscore
Version: 1.19.0
Command: /Library/Frameworks/R.framework/Resources/bin/R CMD build --keep-empty-dirs --no-resave-data singscore
StartedAt: 2023-02-03 21:06:55 -0500 (Fri, 03 Feb 2023)
EndedAt: 2023-02-03 21:09:52 -0500 (Fri, 03 Feb 2023)
EllapsedTime: 176.3 seconds
RetCode: 0
Status:   OK  
PackageFile: singscore_1.19.0.tar.gz
PackageFileSize: 2.707 MiB

Command output

##############################################################################
##############################################################################
###
### Running command:
###
###   /Library/Frameworks/R.framework/Resources/bin/R CMD build --keep-empty-dirs --no-resave-data singscore
###
##############################################################################
##############################################################################


* checking for file ‘singscore/DESCRIPTION’ ... OK
* preparing ‘singscore’:
* checking DESCRIPTION meta-information ...Warning in person1(given = given[[i]], family = family[[i]], middle = middle[[i]],  :
  It is recommended to use ‘given’ instead of ‘middle’.
 OK
* installing the package to build vignettes
* creating vignettes ... OK
Warning in person1(given = given[[i]], family = family[[i]], middle = middle[[i]],  :
  It is recommended to use ‘given’ instead of ‘middle’.
* checking for LF line-endings in source and make files and shell scripts
* checking for empty or unneeded directories
* building ‘singscore_1.19.0.tar.gz’