Back to Multiple platform build/check report for BioC 3.17:   simplified   long
ABCDEFGHIJKLMNOPQR[S]TUVWXYZ

This page was generated on 2023-04-01 11:06:19 -0400 (Sat, 01 Apr 2023).

HostnameOSArch (*)R versionInstalled pkgs
nebbiolo1Linux (Ubuntu 22.04.1 LTS)x86_64R Under development (unstable) (2023-03-16 r83996) -- "Unsuffered Consequences" 4551
palomino3Windows Server 2022 Datacenterx64R Under development (unstable) (2023-03-15 r83984 ucrt) -- "Unsuffered Consequences" 4312
merida1macOS 10.14.6 Mojavex86_64R Under development (unstable) (2023-03-16 r83985) -- "Unsuffered Consequences" 4309
Click on any hostname to see more info about the system (e.g. compilers)      (*) as reported by 'uname -p', except on Windows and Mac OS X

BUILD BIN results for singscore on merida1


To the developers/maintainers of the singscore package:
- Allow up to 24 hours (and sometimes 48 hours) for your latest push to git@git.bioconductor.org:packages/singscore.git to reflect on this report. See Troubleshooting Build Report for more information.

- Use the following Renviron settings to reproduce errors and warnings.

Note: If "R CMD check" recently failed on the Linux builder over a missing dependency, add the missing dependency to "Suggests" in your DESCRIPTION file. See the Renviron.bioc for details.

raw results

Package 1912/2199HostnameOS / ArchINSTALLBUILDCHECKBUILD BIN
singscore 1.19.1  (landing page)
Malvika Kharbanda
Snapshot Date: 2023-03-31 14:00:12 -0400 (Fri, 31 Mar 2023)
git_url: https://git.bioconductor.org/packages/singscore
git_branch: devel
git_last_commit: c57f71d
git_last_commit_date: 2023-02-20 22:12:44 -0400 (Mon, 20 Feb 2023)
nebbiolo1Linux (Ubuntu 22.04.1 LTS) / x86_64  OK    OK    OK  UNNEEDED, same version is already published
palomino3Windows Server 2022 Datacenter / x64  OK    OK    OK    NA  
merida1macOS 10.14.6 Mojave / x86_64  OK    OK    OK    OK  UNNEEDED, same version is already published

Summary

Package: singscore
Version: 1.19.1
Command: rm -rf singscore.buildbin-libdir && mkdir singscore.buildbin-libdir && /Users/biocbuild/BBS/utils/build-universal.sh singscore_1.19.1.tar.gz /Library/Frameworks/R.framework/Resources/bin/R singscore.buildbin-libdir
StartedAt: 2023-04-01 09:51:00 -0400 (Sat, 01 Apr 2023)
EndedAt: 2023-04-01 09:52:49 -0400 (Sat, 01 Apr 2023)
EllapsedTime: 109.1 seconds
RetCode: 0
Status:   OK  
PackageFile: singscore_1.19.1.tgz
PackageFileSize: 3.313 MiB

Command output

##############################################################################
##############################################################################
###
### Running command:
###
###   rm -rf singscore.buildbin-libdir && mkdir singscore.buildbin-libdir && /Users/biocbuild/BBS/utils/build-universal.sh singscore_1.19.1.tar.gz /Library/Frameworks/R.framework/Resources/bin/R singscore.buildbin-libdir
###
##############################################################################
##############################################################################


>>>>>>> 
>>>>>>> INSTALLATION WITH 'R CMD INSTALL --preclean --no-multiarch --library=singscore.buildbin-libdir singscore_1.19.1.tar.gz'
>>>>>>> 

* installing *source* package ‘singscore’ ...
** using staged installation
Warning in person1(given = given[[i]], family = family[[i]], middle = middle[[i]],  :
  It is recommended to use ‘given’ instead of ‘middle’.
** R
** data
*** moving datasets to lazyload DB
** inst
** byte-compile and prepare package for lazy loading
** help
*** installing help indices
*** copying figures
** building package indices
** installing vignettes
** testing if installed package can be loaded from temporary location
** testing if installed package can be loaded from final location
** testing if installed package keeps a record of temporary installation path
* DONE (singscore)