Back to Multiple platform build/check report for BioC 3.17
ABCDEFGHIJKLMNOPQ[R]STUVWXYZ

This page was generated on 2022-11-29 11:10:23 -0500 (Tue, 29 Nov 2022).

HostnameOSArch (*)R versionInstalled pkgs
nebbiolo1Linux (Ubuntu 22.04.1 LTS)x86_64R Under development (unstable) (2022-10-25 r83175) -- "Unsuffered Consequences" 4462
palomino3Windows Server 2022 Datacenterx64R Under development (unstable) (2022-10-11 r83083 ucrt) -- "Unsuffered Consequences" 4201
merida1macOS 10.14.6 Mojavex86_64R Under development (unstable) (2022-11-13 r83342) -- "Unsuffered Consequences" 4231
Click on any hostname to see more info about the system (e.g. compilers)      (*) as reported by 'uname -p', except on Windows and Mac OS X

BUILD results for rbsurv on merida1


To the developers/maintainers of the rbsurv package:
- Please allow up to 24 hours (and sometimes 48 hours) for your latest push to git@git.bioconductor.org:packages/rbsurv.git to
reflect on this report. See How and When does the builder pull? When will my changes propagate? for more information.
- Make sure to use the following settings in order to reproduce any error or warning you see on this page.

raw results

Package 1588/2154HostnameOS / ArchINSTALLBUILDCHECKBUILD BIN
rbsurv 2.57.0  (landing page)
Soo-heang Eo
Snapshot Date: 2022-11-28 14:00:12 -0500 (Mon, 28 Nov 2022)
git_url: https://git.bioconductor.org/packages/rbsurv
git_branch: master
git_last_commit: 0b270f3
git_last_commit_date: 2022-11-01 11:03:27 -0500 (Tue, 01 Nov 2022)
nebbiolo1Linux (Ubuntu 22.04.1 LTS) / x86_64  OK    OK    OK  UNNEEDED, same version is already published
palomino3Windows Server 2022 Datacenter / x64  OK    OK    OK    OK  UNNEEDED, same version is already published
merida1macOS 10.14.6 Mojave / x86_64  OK    OK    OK    OK  UNNEEDED, same version is already published

Summary

Package: rbsurv
Version: 2.57.0
Command: /Library/Frameworks/R.framework/Resources/bin/R CMD build --keep-empty-dirs --no-resave-data rbsurv
StartedAt: 2022-11-28 20:27:27 -0500 (Mon, 28 Nov 2022)
EndedAt: 2022-11-28 20:28:57 -0500 (Mon, 28 Nov 2022)
EllapsedTime: 90.2 seconds
RetCode: 0
Status:   OK  
PackageFile: rbsurv_2.57.0.tar.gz
PackageFileSize: 352.6 KiB

Command output

##############################################################################
##############################################################################
###
### Running command:
###
###   /Library/Frameworks/R.framework/Resources/bin/R CMD build --keep-empty-dirs --no-resave-data rbsurv
###
##############################################################################
##############################################################################


* checking for file ‘rbsurv/DESCRIPTION’ ... OK
* preparing ‘rbsurv’:
* checking DESCRIPTION meta-information ... OK
* installing the package to build vignettes
* creating vignettes ... OK
* checking for LF line-endings in source and make files and shell scripts
* checking for empty or unneeded directories
* looking to see if a ‘data/datalist’ file should be added
* building ‘rbsurv_2.57.0.tar.gz’