Back to Build/check report for BioC 3.15
ABCDEFGHIJKLMNOPQ[R]STUVWXYZ

This page was generated on 2021-12-04 12:32:21 -0500 (Sat, 04 Dec 2021).

INSTALL results for rSWeeP on nebbiolo1

To the developers/maintainers of the rSWeeP package:
- Please allow up to 24 hours (and sometimes 48 hours) for your latest push to git@git.bioconductor.org:packages/rSWeeP.git to
reflect on this report. See How and When does the builder pull? When will my changes propagate? here for more information.
- Make sure to use the following settings in order to reproduce any error or warning you see on this page.

raw results

Package 1654/2068HostnameOS / ArchINSTALLBUILDCHECKBUILD BIN
rSWeeP 1.7.0  (landing page)
Danrley R. Fernandes
Snapshot Date: 2021-12-03 13:55:11 -0500 (Fri, 03 Dec 2021)
git_url: https://git.bioconductor.org/packages/rSWeeP
git_branch: master
git_last_commit: f2e4f33
git_last_commit_date: 2021-10-26 12:56:50 -0500 (Tue, 26 Oct 2021)
nebbiolo1Linux (Ubuntu 20.04.3 LTS) / x86_64  OK    OK    OK  UNNEEDED, same version is already published

Summary

Package: rSWeeP
Version: 1.7.0
Command: /home/biocbuild/bbs-3.15-bioc/R/bin/R CMD INSTALL rSWeeP
StartedAt: 2021-12-03 15:12:14 -0500 (Fri, 03 Dec 2021)
EndedAt: 2021-12-03 15:12:24 -0500 (Fri, 03 Dec 2021)
EllapsedTime: 9.8 seconds
RetCode: 0
Status:   OK  

Command output

##############################################################################
##############################################################################
###
### Running command:
###
###   /home/biocbuild/bbs-3.15-bioc/R/bin/R CMD INSTALL rSWeeP
###
##############################################################################
##############################################################################


* installing to library ‘/home/biocbuild/bbs-3.15-bioc/R/library’
* installing *source* package ‘rSWeeP’ ...
** using staged installation
** R
** inst
** byte-compile and prepare package for lazy loading
in method for ‘sWeeP’ with signature ‘"AAStringSet"’: no definition for class “AAStringSet”
** help
*** installing help indices
** building package indices
** installing vignettes
** testing if installed package can be loaded from temporary location
** testing if installed package can be loaded from final location
** testing if installed package keeps a record of temporary installation path
* DONE (rSWeeP)