Index of /checkResults/devel/bioc-LATEST/rSWeeP/raw-results

[ICO]NameLast modifiedSizeDescription

[DIR]Parent Directory  -  
[   ]info.dcf04-Dec-2021 02:48 269  
[DIR]nebbiolo1/04-Dec-2021 02:48 -