Index of /checkResults/devel/bioc-LATEST/qsea/raw-results
Name
Last modified
Size
Description
Parent Directory
-
info.dcf
10-Dec-2023 02:25
1.0K
kunpeng2/
10-Dec-2023 02:25
-
merida1/
10-Dec-2023 02:24
-
nebbiolo1/
10-Dec-2023 02:21
-
palomino3/
10-Dec-2023 02:22
-