Back to Multiple platform build/check report for BioC 3.16
ABCDEFGHIJKLMNO[P]QRSTUVWXYZ

This page was generated on 2022-06-24 11:06:57 -0400 (Fri, 24 Jun 2022).

HostnameOSArch (*)R versionInstalled pkgs
nebbiolo2Linux (Ubuntu 20.04.4 LTS)x86_644.2.0 Patched (2022-06-02 r82447) -- "Vigorous Calisthenics" 4331
palomino4Windows Server 2022 Datacenterx644.2.0 Patched (2022-06-02 r82447 ucrt) -- "Vigorous Calisthenics" 4136
lconwaymacOS 12.2.1 Montereyx86_644.2.0 Patched (2022-05-29 r82424) -- "Vigorous Calisthenics" 4147
Click on any hostname to see more info about the system (e.g. compilers)      (*) as reported by 'uname -p', except on Windows and Mac OS X

CHECK results for phantasus on palomino4


To the developers/maintainers of the phantasus package:
- Please allow up to 24 hours (and sometimes 48 hours) for your latest push to git@git.bioconductor.org:packages/phantasus.git to
reflect on this report. See How and When does the builder pull? When will my changes propagate? for more information.
- Make sure to use the following settings in order to reproduce any error or warning you see on this page.

raw results

Package 1427/2118HostnameOS / ArchINSTALLBUILDCHECKBUILD BIN
phantasus 1.17.2  (landing page)
Alexey Sergushichev
Snapshot Date: 2022-06-23 14:00:04 -0400 (Thu, 23 Jun 2022)
git_url: https://git.bioconductor.org/packages/phantasus
git_branch: master
git_last_commit: 0432fd8
git_last_commit_date: 2022-05-05 11:06:59 -0400 (Thu, 05 May 2022)
nebbiolo2Linux (Ubuntu 20.04.4 LTS) / x86_64  OK    OK    OK  UNNEEDED, same version is already published
palomino4Windows Server 2022 Datacenter / x64  OK    OK    OK    OK  UNNEEDED, same version is already published
lconwaymacOS 12.2.1 Monterey / x86_64  OK    OK    OK    OK  UNNEEDED, same version is already published

Summary

Package: phantasus
Version: 1.17.2
Command: F:\biocbuild\bbs-3.16-bioc\R\bin\R.exe CMD check --force-multiarch --install=check:phantasus.install-out.txt --library=F:\biocbuild\bbs-3.16-bioc\R\library --no-vignettes --timings phantasus_1.17.2.tar.gz
StartedAt: 2022-06-24 04:22:55 -0400 (Fri, 24 Jun 2022)
EndedAt: 2022-06-24 04:28:04 -0400 (Fri, 24 Jun 2022)
EllapsedTime: 308.9 seconds
RetCode: 0
Status:   OK  
CheckDir: phantasus.Rcheck
Warnings: 0

Command output

##############################################################################
##############################################################################
###
### Running command:
###
###   F:\biocbuild\bbs-3.16-bioc\R\bin\R.exe CMD check --force-multiarch --install=check:phantasus.install-out.txt --library=F:\biocbuild\bbs-3.16-bioc\R\library --no-vignettes --timings phantasus_1.17.2.tar.gz
###
##############################################################################
##############################################################################


* using log directory 'F:/biocbuild/bbs-3.16-bioc/meat/phantasus.Rcheck'
* using R version 4.2.0 Patched (2022-06-02 r82447 ucrt)
* using platform: x86_64-w64-mingw32 (64-bit)
* using session charset: UTF-8
* using option '--no-vignettes'
* checking for file 'phantasus/DESCRIPTION' ... OK
* this is package 'phantasus' version '1.17.2'
* package encoding: UTF-8
* checking package namespace information ... OK
* checking package dependencies ... OK
* checking if this is a source package ... OK
* checking if there is a namespace ... OK
* checking for hidden files and directories ... OK
* checking for portable file names ... OK
* checking whether package 'phantasus' can be installed ... OK
* checking installed package size ... NOTE
  installed size is 28.7Mb
  sub-directories of 1Mb or more:
    testdata   5.0Mb
    www       23.4Mb
* checking package directory ... OK
* checking DESCRIPTION meta-information ... OK
* checking top-level files ... OK
* checking for left-over files ... OK
* checking index information ... OK
* checking package subdirectories ... OK
* checking R files for non-ASCII characters ... OK
* checking R files for syntax errors ... OK
* checking whether the package can be loaded ... OK
* checking whether the package can be loaded with stated dependencies ... OK
* checking whether the package can be unloaded cleanly ... OK
* checking whether the namespace can be loaded with stated dependencies ... OK
* checking whether the namespace can be unloaded cleanly ... OK
* checking dependencies in R code ... NOTE
Unexported objects imported by ':::' calls:
  'GEOquery:::.parseGPLTxt' 'GEOquery:::getDirListing'
  'opencpu:::rookhandler' 'opencpu:::tmp_root' 'opencpu:::win_or_mac'
  See the note in ?`:::` about the use of this operator.
* checking S3 generic/method consistency ... OK
* checking replacement functions ... OK
* checking foreign function calls ... OK
* checking R code for possible problems ... NOTE
generatePreloadedSession: no visible binding for global variable 'es'
generatePreloadedSession: no visible binding for global variable
  'heatmapJson'
getCountsMetaPart: no visible binding for global variable 'file_name'
loadCounts: no visible global function definition for '.'
loadCounts: no visible binding for global variable 'directory'
loadCounts: no visible binding for global variable 'DT_counts_meta'
loadCounts: no visible binding for global variable 'accession'
loadCounts: no visible binding for global variable 'collection_type'
loadCounts: no visible binding for global variable 'file_name'
loadSession: no visible binding for global variable 'es'
safeDownload: no visible binding for global variable 'tempDestFile'
validateCountsCollection: no visible binding for global variable
  'file_name'
Undefined global functions or variables:
  . DT_counts_meta accession collection_type directory es file_name
  heatmapJson tempDestFile
* checking Rd files ... NOTE
prepare_Rd: convertByAnnotationDB.Rd:36-41: Dropping empty section \examples
* checking Rd metadata ... OK
* checking Rd cross-references ... OK
* checking for missing documentation entries ... OK
* checking for code/documentation mismatches ... OK
* checking Rd \usage sections ... OK
* checking Rd contents ... OK
* checking for unstated dependencies in examples ... OK
* checking contents of 'data' directory ... OK
* checking data for non-ASCII characters ... OK
* checking LazyData ... OK
* checking data for ASCII and uncompressed saves ... OK
* checking files in 'vignettes' ... OK
* checking examples ... OK
Examples with CPU (user + system) or elapsed time > 5s
       user system elapsed
getGSE 7.56   1.92   14.03
* checking for unstated dependencies in 'tests' ... OK
* checking tests ...
  Running 'testthat.R'
 OK
* checking for unstated dependencies in vignettes ... OK
* checking package vignettes in 'inst/doc' ... OK
* checking running R code from vignettes ... SKIPPED
* checking re-building of vignette outputs ... SKIPPED
* checking PDF version of manual ... OK
* DONE

Status: 4 NOTEs
See
  'F:/biocbuild/bbs-3.16-bioc/meat/phantasus.Rcheck/00check.log'
for details.



Installation output

phantasus.Rcheck/00install.out

##############################################################################
##############################################################################
###
### Running command:
###
###   C:\cygwin\bin\curl.exe -O http://155.52.207.166/BBS/3.16/bioc/src/contrib/phantasus_1.17.2.tar.gz && rm -rf phantasus.buildbin-libdir && mkdir phantasus.buildbin-libdir && F:\biocbuild\bbs-3.16-bioc\R\bin\R.exe CMD INSTALL --merge-multiarch --build --library=phantasus.buildbin-libdir phantasus_1.17.2.tar.gz && F:\biocbuild\bbs-3.16-bioc\R\bin\R.exe CMD INSTALL phantasus_1.17.2.zip && rm phantasus_1.17.2.tar.gz phantasus_1.17.2.zip
###
##############################################################################
##############################################################################


  % Total    % Received % Xferd  Average Speed   Time    Time     Time  Current
                                 Dload  Upload   Total   Spent    Left  Speed

  0     0    0     0    0     0      0      0 --:--:-- --:--:-- --:--:--     0
 38 10.6M   38 4224k    0     0  11.3M      0 --:--:-- --:--:-- --:--:-- 11.3M
100 10.6M  100 10.6M    0     0  14.2M      0 --:--:-- --:--:-- --:--:-- 14.2M
only one architecture so ignoring '--merge-multiarch'
* installing *source* package 'phantasus' ...
** using staged installation
** R
** data
*** moving datasets to lazyload DB
** inst
** byte-compile and prepare package for lazy loading
** help
*** installing help indices
** building package indices
** installing vignettes
** testing if installed package can be loaded from temporary location
** testing if installed package can be loaded from final location
** testing if installed package keeps a record of temporary installation path
* MD5 sums
packaged installation of 'phantasus' as phantasus_1.17.2.zip
* DONE (phantasus)
* installing to library 'F:/biocbuild/bbs-3.16-bioc/R/library'
package 'phantasus' successfully unpacked and MD5 sums checked

Tests output

phantasus.Rcheck/tests/testthat.Rout


R version 4.2.0 Patched (2022-06-02 r82447 ucrt) -- "Vigorous Calisthenics"
Copyright (C) 2022 The R Foundation for Statistical Computing
Platform: x86_64-w64-mingw32/x64 (64-bit)

R is free software and comes with ABSOLUTELY NO WARRANTY.
You are welcome to redistribute it under certain conditions.
Type 'license()' or 'licence()' for distribution details.

R is a collaborative project with many contributors.
Type 'contributors()' for more information and
'citation()' on how to cite R or R packages in publications.

Type 'demo()' for some demos, 'help()' for on-line help, or
'help.start()' for an HTML browser interface to help.
Type 'q()' to quit R.

> library(testthat)
> library(phantasus)
Setting options('download.file.method.GEOquery'='auto')
Setting options('GEOquery.inmemory.gpl'=FALSE)
Loading config from F:/biocbuild/bbs-3.16-bioc/R/library/opencpu/config/defaults.conf
Loading config from C:\Users\biocbuild\AppData\Roaming/R/config/R/opencpu/user.conf
> 
> test_check("phantasus")
trying URL 'https://ftp.ncbi.nlm.nih.gov/geo/series/GSE53nnn/GSE53986/matrix/GSE53986_series_matrix.txt.gz'
Content type 'application/x-gzip' length 2848655 bytes (2.7 MB)
==================================================
downloaded 2.7 MB

trying URL 'https://ftp.ncbi.nlm.nih.gov/geo/platforms/GPL1nnn/GPL1261/annot/GPL1261.annot.gz'
Content type 'application/x-gzip' length 8389179 bytes (8.0 MB)
==================================================
downloaded 8.0 MB

trying URL 'https://ftp.ncbi.nlm.nih.gov/geo/series/GSE107nnn/GSE107746/matrix/GSE107746_series_matrix.txt.gz'
Content type 'application/x-gzip' length 7196 bytes
==================================================
downloaded 7196 bytes

trying URL 'https://www.ncbi.nlm.nih.gov/geo/query/acc.cgi?targ=self&acc=GPL20795&form=text&view=data'
downloaded 48 bytes

trying URL 'https://genome.ifmo.ru/files/software/phantasus/geo/series/GSE27nnn/GSE27112/matrix/GSE27112_series_matrix.txt.gz'
trying URL 'https://genome.ifmo.ru/files/software/phantasus/geo/series/GSE27nnn/GSE27112/matrix/GSE27112-GPL6103_series_matrix.txt.gz'
Content type 'application/x-gzip' length 596707 bytes (582 KB)
==================================================
downloaded 582 KB

trying URL 'https://ftp.ncbi.nlm.nih.gov/geo/platforms/GPL6nnn/GPL6103/annot/GPL6103.annot.gz'
Content type 'application/x-gzip' length 4652589 bytes (4.4 MB)
==================================================
downloaded 4.4 MB

trying URL 'https://genome.ifmo.ru/files/software/phantasus/geo/series/GSE27nnn/GSE27112/matrix/GSE27112-GPL6885_series_matrix.txt.gz'
Content type 'application/x-gzip' length 1273889 bytes (1.2 MB)
==================================================
downloaded 1.2 MB

trying URL 'https://ftp.ncbi.nlm.nih.gov/geo/platforms/GPL6nnn/GPL6885/annot/GPL6885.annot.gz'
Content type 'application/x-gzip' length 4938348 bytes (4.7 MB)
==================================================
downloaded 4.7 MB

trying URL 'https://genome.ifmo.ru/files/software/phantasus/geo/series/GSE14nnn/GSE14308/matrix/GSE14308_series_matrix.txt.gz'
Content type 'application/x-gzip' length 1807552 bytes (1.7 MB)
==================================================
downloaded 1.7 MB

trying URL 'https://genome.ifmo.ru/files/software/phantasus/geo/datasets/GDS4nnn/GDS4885/soft/GDS4885.soft.gz'
Content type 'application/x-gzip' length 1250109 bytes (1.2 MB)
==================================================
downloaded 1.2 MB

trying URL 'https://ftp.ncbi.nlm.nih.gov/geo/series/GSE27nnn/GSE27112/matrix/GSE27112_series_matrix.txt.gz'
trying URL 'https://www.ncbi.nlm.nih.gov/geo/query/acc.cgi?targ=self&acc=GPL17021&form=text&view=data'
downloaded 48 bytes

[ FAIL 0 | WARN 2 | SKIP 0 | PASS 115 ]

[ FAIL 0 | WARN 2 | SKIP 0 | PASS 115 ]
> 
> proc.time()
   user  system elapsed 
  84.06   11.35  132.18 

Example timings

phantasus.Rcheck/phantasus-Ex.timings

nameusersystemelapsed
adjustDataset000
annotationDBMeta000
calcPCA000
checkGPLsFallback000
collapseDataset000
createES000
es000
generatePreloadedSession000
getES1.480.362.89
getGDS0.680.492.03
getGSE 7.56 1.9214.03
limmaAnalysis000
loadGEO000
performKmeans000
queryAnnotationDBMeta000
read.gct0.030.000.03
reparseCachedESs0.700.361.96
reproduceInR000
servePhantasus000
write.gct0.050.000.04