Back to Multiple platform build/check report for BioC 3.15
ABCDEFGHIJKLMNO[P]QRSTUVWXYZ

This page was generated on 2022-01-15 11:12:01 -0500 (Sat, 15 Jan 2022).

HostnameOSArch (*)R versionInstalled pkgs
nebbiolo1Linux (Ubuntu 20.04.4 LTS)x86_64R Under development (unstable) (2022-01-05 r81451) -- "Unsuffered Consequences" 4160
riesling1Windows Server 2019 Standardx64R Under development (unstable) (2021-11-21 r81221) -- "Unsuffered Consequences" 4055
palomino3Windows Server 2022 Datacenterx64R Under development (unstable) (2021-12-21 r81400 ucrt) -- "Unsuffered Consequences" 3997
merida1macOS 10.14.6 Mojavex86_64R Under development (unstable) (2022-01-05 r81451) -- "Unsuffered Consequences" 4114
Click on any hostname to see more info about the system (e.g. compilers)      (*) as reported by 'uname -p', except on Windows and Mac OS X

BUILD BIN results for phantasus on merida1


To the developers/maintainers of the phantasus package:
- Please allow up to 24 hours (and sometimes 48 hours) for your latest push to git@git.bioconductor.org:packages/phantasus.git to
reflect on this report. See How and When does the builder pull? When will my changes propagate? here for more information.
- Make sure to use the following settings in order to reproduce any error or warning you see on this page.

raw results

Package 1398/2074HostnameOS / ArchINSTALLBUILDCHECKBUILD BIN
phantasus 1.15.2  (landing page)
Alexey Sergushichev
Snapshot Date: 2022-01-14 13:55:18 -0500 (Fri, 14 Jan 2022)
git_url: https://git.bioconductor.org/packages/phantasus
git_branch: master
git_last_commit: 5bcaa19
git_last_commit_date: 2021-11-13 13:46:20 -0500 (Sat, 13 Nov 2021)
nebbiolo1Linux (Ubuntu 20.04.4 LTS) / x86_64  OK    OK    OK  UNNEEDED, same version is already published
riesling1Windows Server 2019 Standard / x64  OK    OK    OK    OK  
palomino3Windows Server 2022 Datacenter / x64  OK    OK    OK    OK  NO, package depends on 'Biobase' which is not available
merida1macOS 10.14.6 Mojave / x86_64  OK    OK    OK    OK  NO, package depends on 'fgsea' which is not available

Summary

Package: phantasus
Version: 1.15.2
Command: rm -rf phantasus.buildbin-libdir && mkdir phantasus.buildbin-libdir && /Users/biocbuild/BBS/utils/build-universal.sh phantasus_1.15.2.tar.gz /Library/Frameworks/R.framework/Resources/bin/R phantasus.buildbin-libdir
StartedAt: 2022-01-15 08:17:31 -0500 (Sat, 15 Jan 2022)
EndedAt: 2022-01-15 08:18:35 -0500 (Sat, 15 Jan 2022)
EllapsedTime: 63.7 seconds
RetCode: 0
Status:   OK  
PackageFile: phantasus_1.15.2.tgz
PackageFileSize: 8.029 MiB

Command output

##############################################################################
##############################################################################
###
### Running command:
###
###   rm -rf phantasus.buildbin-libdir && mkdir phantasus.buildbin-libdir && /Users/biocbuild/BBS/utils/build-universal.sh phantasus_1.15.2.tar.gz /Library/Frameworks/R.framework/Resources/bin/R phantasus.buildbin-libdir
###
##############################################################################
##############################################################################


>>>>>>> 
>>>>>>> INSTALLATION WITH 'R CMD INSTALL --preclean --no-multiarch --library=phantasus.buildbin-libdir phantasus_1.15.2.tar.gz'
>>>>>>> 

* installing *source* package ‘phantasus’ ...
** using staged installation
** R
** data
*** moving datasets to lazyload DB
** inst
** byte-compile and prepare package for lazy loading
** help
*** installing help indices
** building package indices
** installing vignettes
** testing if installed package can be loaded from temporary location
** testing if installed package can be loaded from final location
** testing if installed package keeps a record of temporary installation path
* DONE (phantasus)