Back to Multiple platform build/check report for BioC 3.16
ABCDEFGHIJKLM[N]OPQRSTUVWXYZ

This page was generated on 2022-06-24 11:06:52 -0400 (Fri, 24 Jun 2022).

HostnameOSArch (*)R versionInstalled pkgs
nebbiolo2Linux (Ubuntu 20.04.4 LTS)x86_644.2.0 Patched (2022-06-02 r82447) -- "Vigorous Calisthenics" 4331
palomino4Windows Server 2022 Datacenterx644.2.0 Patched (2022-06-02 r82447 ucrt) -- "Vigorous Calisthenics" 4136
lconwaymacOS 12.2.1 Montereyx86_644.2.0 Patched (2022-05-29 r82424) -- "Vigorous Calisthenics" 4147
Click on any hostname to see more info about the system (e.g. compilers)      (*) as reported by 'uname -p', except on Windows and Mac OS X

BUILD BIN results for netZooR on palomino4


To the developers/maintainers of the netZooR package:
- Please allow up to 24 hours (and sometimes 48 hours) for your latest push to git@git.bioconductor.org:packages/netZooR.git to
reflect on this report. See How and When does the builder pull? When will my changes propagate? for more information.
- Make sure to use the following settings in order to reproduce any error or warning you see on this page.

raw results

Package 1312/2118HostnameOS / ArchINSTALLBUILDCHECKBUILD BIN
netZooR 1.1.0  (landing page)
Marouen Ben Guebila
Snapshot Date: 2022-06-23 14:00:04 -0400 (Thu, 23 Jun 2022)
git_url: https://git.bioconductor.org/packages/netZooR
git_branch: master
git_last_commit: 9461a1d
git_last_commit_date: 2022-04-26 12:20:14 -0400 (Tue, 26 Apr 2022)
nebbiolo2Linux (Ubuntu 20.04.4 LTS) / x86_64  OK    OK    OK  UNNEEDED, same version is already published
palomino4Windows Server 2022 Datacenter / x64  OK    OK    ERROR    OK  
lconwaymacOS 12.2.1 Monterey / x86_64  OK    OK    OK    OK  UNNEEDED, same version is already published

Summary

Package: netZooR
Version: 1.1.0
Command: rm -rf netZooR.buildbin-libdir && mkdir netZooR.buildbin-libdir && F:\biocbuild\bbs-3.16-bioc\R\bin\R.exe CMD INSTALL --merge-multiarch --build --library=netZooR.buildbin-libdir netZooR_1.1.0.tar.gz
StartedAt: 2022-06-24 07:59:10 -0400 (Fri, 24 Jun 2022)
EndedAt: 2022-06-24 08:00:25 -0400 (Fri, 24 Jun 2022)
EllapsedTime: 75.2 seconds
RetCode: 0
Status:   OK  
PackageFile: netZooR_1.1.0.zip
PackageFileSize: 3.496 MiB

Command output

##############################################################################
##############################################################################
###
### Running command:
###
###   rm -rf netZooR.buildbin-libdir && mkdir netZooR.buildbin-libdir && F:\biocbuild\bbs-3.16-bioc\R\bin\R.exe CMD INSTALL --merge-multiarch --build --library=netZooR.buildbin-libdir netZooR_1.1.0.tar.gz
###
##############################################################################
##############################################################################


only one architecture so ignoring '--merge-multiarch'
* installing *source* package 'netZooR' ...
** using staged installation
** R
** data
** inst
** byte-compile and prepare package for lazy loading
** help
*** installing help indices
** building package indices
** installing vignettes
** testing if installed package can be loaded from temporary location
** testing if installed package can be loaded from final location
** testing if installed package keeps a record of temporary installation path
* MD5 sums
packaged installation of 'netZooR' as netZooR_1.1.0.zip
* DONE (netZooR)