Back to Multiple platform build/check report for BioC 3.17:   simplified   long
ABCDEFGHIJKLM[N]OPQRSTUVWXYZ

This page was generated on 2023-03-21 11:07:06 -0400 (Tue, 21 Mar 2023).

HostnameOSArch (*)R versionInstalled pkgs
nebbiolo1Linux (Ubuntu 22.04.1 LTS)x86_64R Under development (unstable) (2023-03-16 r83996) -- "Unsuffered Consequences" 4305
palomino3Windows Server 2022 Datacenterx64R Under development (unstable) (2023-03-15 r83984 ucrt) -- "Unsuffered Consequences" 4287
merida1macOS 10.14.6 Mojavex86_64R Under development (unstable) (2023-03-16 r83985) -- "Unsuffered Consequences" 4286
Click on any hostname to see more info about the system (e.g. compilers)      (*) as reported by 'uname -p', except on Windows and Mac OS X

BUILD BIN results for netZooR on merida1


To the developers/maintainers of the netZooR package:
- Please allow up to 24 hours (and sometimes 48 hours) for your latest push to git@git.bioconductor.org:packages/netZooR.git to
reflect on this report. See How and When does the builder pull? When will my changes propagate? for more information.
- Make sure to use the following settings in order to reproduce any error or warning you see on this page.

raw results

Package 1359/2189HostnameOS / ArchINSTALLBUILDCHECKBUILD BIN
netZooR 1.3.6  (landing page)
Marouen Ben Guebila
Snapshot Date: 2023-03-20 14:00:22 -0400 (Mon, 20 Mar 2023)
git_url: https://git.bioconductor.org/packages/netZooR
git_branch: master
git_last_commit: 6560bf9
git_last_commit_date: 2023-03-20 13:28:49 -0400 (Mon, 20 Mar 2023)
nebbiolo1Linux (Ubuntu 22.04.1 LTS) / x86_64  OK    OK    TIMEOUT  
palomino3Windows Server 2022 Datacenter / x64  OK    OK    ERROR    OK  
merida1macOS 10.14.6 Mojave / x86_64  OK    OK    TIMEOUT    OK  

Summary

Package: netZooR
Version: 1.3.6
Command: rm -rf netZooR.buildbin-libdir && mkdir netZooR.buildbin-libdir && /Users/biocbuild/BBS/utils/build-universal.sh netZooR_1.3.6.tar.gz /Library/Frameworks/R.framework/Resources/bin/R netZooR.buildbin-libdir
StartedAt: 2023-03-21 09:48:33 -0400 (Tue, 21 Mar 2023)
EndedAt: 2023-03-21 09:51:41 -0400 (Tue, 21 Mar 2023)
EllapsedTime: 187.5 seconds
RetCode: 0
Status:   OK  
PackageFile: netZooR_1.3.6.tgz
PackageFileSize: 3.644 MiB

Command output

##############################################################################
##############################################################################
###
### Running command:
###
###   rm -rf netZooR.buildbin-libdir && mkdir netZooR.buildbin-libdir && /Users/biocbuild/BBS/utils/build-universal.sh netZooR_1.3.6.tar.gz /Library/Frameworks/R.framework/Resources/bin/R netZooR.buildbin-libdir
###
##############################################################################
##############################################################################


>>>>>>> 
>>>>>>> INSTALLATION WITH 'R CMD INSTALL --preclean --no-multiarch --library=netZooR.buildbin-libdir netZooR_1.3.6.tar.gz'
>>>>>>> 

* installing *source* package ‘netZooR’ ...
** using staged installation
** R
** data
** inst
** byte-compile and prepare package for lazy loading
** help
*** installing help indices
** building package indices
** installing vignettes
** testing if installed package can be loaded from temporary location
** testing if installed package can be loaded from final location
** testing if installed package keeps a record of temporary installation path
* DONE (netZooR)