Index of /checkResults/devel/bioc-LATEST/mumosa/raw-results
Name
Last modified
Size
Description
Parent Directory
-
info.dcf
09-Jun-2023 02:07
279
kunpeng2/
09-Jun-2023 02:07
-
lconway/
09-Jun-2023 02:06
-
nebbiolo2/
09-Jun-2023 02:03
-
palomino4/
09-Jun-2023 02:04
-