Back to Multiple platform build/check report for BioC 3.20:   simplified   long
ABCDEFGHIJKL[M]NOPQRSTUVWXYZ

This page was generated on 2024-05-17 11:38:33 -0400 (Fri, 17 May 2024).

HostnameOSArch (*)R versionInstalled pkgs
nebbiolo2Linux (Ubuntu 22.04.3 LTS)x86_644.4.0 RC (2024-04-16 r86468) -- "Puppy Cup" 4663
palomino4Windows Server 2022 Datacenterx644.4.0 RC (2024-04-16 r86468 ucrt) -- "Puppy Cup" 4398
merida1macOS 12.7.4 Montereyx86_644.4.0 Patched (2024-04-24 r86482) -- "Puppy Cup" 4425
Click on any hostname to see more info about the system (e.g. compilers)      (*) as reported by 'uname -p', except on Windows and Mac OS X

Package 1335/2230HostnameOS / ArchINSTALLBUILDCHECKBUILD BIN
multiGSEA 1.15.0  (landing page)
Sebastian Canzler
Snapshot Date: 2024-05-15 14:05:05 -0400 (Wed, 15 May 2024)
git_url: https://git.bioconductor.org/packages/multiGSEA
git_branch: devel
git_last_commit: f1d6c36
git_last_commit_date: 2024-04-30 11:24:57 -0400 (Tue, 30 Apr 2024)
nebbiolo2Linux (Ubuntu 22.04.3 LTS) / x86_64  OK    OK    ERROR  
palomino4Windows Server 2022 Datacenter / x64  OK    OK    ERROR    OK  
merida1macOS 12.7.4 Monterey / x86_64  OK    TIMEOUT  skippedskipped
kjohnson1macOS 13.6.6 Ventura / arm64see weekly results here

INSTALL results for multiGSEA on merida1


To the developers/maintainers of the multiGSEA package:
- Allow up to 24 hours (and sometimes 48 hours) for your latest push to git@git.bioconductor.org:packages/multiGSEA.git to reflect on this report. See Troubleshooting Build Report for more information.
- Use the following Renviron settings to reproduce errors and warnings.
- If 'R CMD check' started to fail recently on the Linux builder(s) over a missing dependency, add the missing dependency to 'Suggests:' in your DESCRIPTION file. See Renviron.bioc for more information.

raw results


Summary

Package: multiGSEA
Version: 1.15.0
Command: /Library/Frameworks/R.framework/Resources/bin/R CMD INSTALL multiGSEA
StartedAt: 2024-05-15 16:24:07 -0400 (Wed, 15 May 2024)
EndedAt: 2024-05-15 16:26:42 -0400 (Wed, 15 May 2024)
EllapsedTime: 154.6 seconds
RetCode: 0
Status:   OK  

Command output

##############################################################################
##############################################################################
###
### Running command:
###
###   /Library/Frameworks/R.framework/Resources/bin/R CMD INSTALL multiGSEA
###
##############################################################################
##############################################################################


* installing to library ‘/Library/Frameworks/R.framework/Versions/4.4-x86_64/Resources/library’
* installing *source* package ‘multiGSEA’ ...
** using staged installation
** R
** data
** inst
** byte-compile and prepare package for lazy loading
loading from cache
** help
*** installing help indices
** building package indices
** installing vignettes
** testing if installed package can be loaded from temporary location
loading from cache
** testing if installed package can be loaded from final location
loading from cache
** testing if installed package keeps a record of temporary installation path
* DONE (multiGSEA)