Back to Multiple platform build/check report for BioC 3.17:   simplified   long
ABCDEFGHIJKL[M]NOPQRSTUVWXYZ

This page was generated on 2023-04-01 11:06:07 -0400 (Sat, 01 Apr 2023).

HostnameOSArch (*)R versionInstalled pkgs
nebbiolo1Linux (Ubuntu 22.04.1 LTS)x86_64R Under development (unstable) (2023-03-16 r83996) -- "Unsuffered Consequences" 4551
palomino3Windows Server 2022 Datacenterx64R Under development (unstable) (2023-03-15 r83984 ucrt) -- "Unsuffered Consequences" 4312
merida1macOS 10.14.6 Mojavex86_64R Under development (unstable) (2023-03-16 r83985) -- "Unsuffered Consequences" 4309
Click on any hostname to see more info about the system (e.g. compilers)      (*) as reported by 'uname -p', except on Windows and Mac OS X

BUILD results for multiGSEA on merida1


To the developers/maintainers of the multiGSEA package:
- Allow up to 24 hours (and sometimes 48 hours) for your latest push to git@git.bioconductor.org:packages/multiGSEA.git to reflect on this report. See Troubleshooting Build Report for more information.

- Use the following Renviron settings to reproduce errors and warnings.

Note: If "R CMD check" recently failed on the Linux builder over a missing dependency, add the missing dependency to "Suggests" in your DESCRIPTION file. See the Renviron.bioc for details.

raw results

Package 1316/2199HostnameOS / ArchINSTALLBUILDCHECKBUILD BIN
multiGSEA 1.9.5  (landing page)
Sebastian Canzler
Snapshot Date: 2023-03-31 14:00:12 -0400 (Fri, 31 Mar 2023)
git_url: https://git.bioconductor.org/packages/multiGSEA
git_branch: devel
git_last_commit: 41c8d4e
git_last_commit_date: 2023-03-30 03:00:59 -0400 (Thu, 30 Mar 2023)
nebbiolo1Linux (Ubuntu 22.04.1 LTS) / x86_64  OK    OK    OK  UNNEEDED, same version is already published
palomino3Windows Server 2022 Datacenter / x64  OK    OK    OK    NA  
merida1macOS 10.14.6 Mojave / x86_64  ERROR    ERROR  skippedskipped

Summary

Package: multiGSEA
Version: 1.9.5
Command: /Library/Frameworks/R.framework/Resources/bin/R CMD build --keep-empty-dirs --no-resave-data multiGSEA
StartedAt: 2023-03-31 19:31:36 -0400 (Fri, 31 Mar 2023)
EndedAt: 2023-03-31 19:31:38 -0400 (Fri, 31 Mar 2023)
EllapsedTime: 2.2 seconds
RetCode: 1
Status:   ERROR  
PackageFile: None
PackageFileSize: NA

Command output

##############################################################################
##############################################################################
###
### Running command:
###
###   /Library/Frameworks/R.framework/Resources/bin/R CMD build --keep-empty-dirs --no-resave-data multiGSEA
###
##############################################################################
##############################################################################


* checking for file ‘multiGSEA/DESCRIPTION’ ... OK
* preparing ‘multiGSEA’:
* checking DESCRIPTION meta-information ... OK
* installing the package to build vignettes
      -----------------------------------
ERROR: dependency ‘metap’ is not available for package ‘multiGSEA’
* removing ‘/private/tmp/RtmpUdWHoj/Rinstc0fe2dfd3916/multiGSEA’
      -----------------------------------
ERROR: package installation failed